BEGIN:VCALENDAR
VERSION:2.0
PRODID:-//The Hop Pole Inn - ECPv6.15.20//NONSGML v1.0//EN
CALSCALE:GREGORIAN
METHOD:PUBLISH
X-WR-CALNAME:The Hop Pole Inn
X-ORIGINAL-URL:https://hop-pole.com
X-WR-CALDESC:Events for The Hop Pole Inn
REFRESH-INTERVAL;VALUE=DURATION:PT1H
X-Robots-Tag:noindex
X-PUBLISHED-TTL:PT1H
BEGIN:VTIMEZONE
TZID:Europe/London
BEGIN:DAYLIGHT
TZOFFSETFROM:+0000
TZOFFSETTO:+0100
TZNAME:BST
DTSTART:20240331T010000
END:DAYLIGHT
BEGIN:STANDARD
TZOFFSETFROM:+0100
TZOFFSETTO:+0000
TZNAME:GMT
DTSTART:20241027T010000
END:STANDARD
BEGIN:DAYLIGHT
TZOFFSETFROM:+0000
TZOFFSETTO:+0100
TZNAME:BST
DTSTART:20250330T010000
END:DAYLIGHT
BEGIN:STANDARD
TZOFFSETFROM:+0100
TZOFFSETTO:+0000
TZNAME:GMT
DTSTART:20251026T010000
END:STANDARD
BEGIN:DAYLIGHT
TZOFFSETFROM:+0000
TZOFFSETTO:+0100
TZNAME:BST
DTSTART:20260329T010000
END:DAYLIGHT
BEGIN:STANDARD
TZOFFSETFROM:+0100
TZOFFSETTO:+0000
TZNAME:GMT
DTSTART:20261025T010000
END:STANDARD
END:VTIMEZONE
BEGIN:VEVENT
DTSTART;TZID=Europe/London:20250802T210000
DTEND;TZID=Europe/London:20250802T233000
DTSTAMP:20260424T163956
CREATED:20250729T183721Z
LAST-MODIFIED:20250729T184354Z
UID:1821-1754168400-1754177400@hop-pole.com
SUMMARY:Blowfish Kiss
DESCRIPTION:4 piece high energy rock band covering artists like Audioslave SOAD Queen Anastasia Dio Van Halen
URL:https://hop-pole.com/event/blowfish-kiss/
LOCATION:Hop Pole Inn\, Bromsgrove
ATTACH;FMTTYPE=image/jpeg:https://hop-pole.com/wp-content/uploads/2025/07/BFKiss.jpg
END:VEVENT
BEGIN:VEVENT
DTSTART;TZID=Europe/London:20250801T210000
DTEND;TZID=Europe/London:20250801T233000
DTSTAMP:20260424T163956
CREATED:20250729T182845Z
LAST-MODIFIED:20250729T182845Z
UID:1819-1754082000-1754091000@hop-pole.com
SUMMARY:Black Heart Angels
DESCRIPTION:The soundtrack to your weekend since 2012
URL:https://hop-pole.com/event/black-heart-angels-3/
LOCATION:Hop Pole Inn\, Bromsgrove
ATTACH;FMTTYPE=image/jpeg:https://hop-pole.com/wp-content/uploads/2023/08/315749548_830262654616709_2816621361355310421_n.jpg
END:VEVENT
BEGIN:VEVENT
DTSTART;TZID=Europe/London:20250726T210000
DTEND;TZID=Europe/London:20250726T233000
DTSTAMP:20260424T163956
CREATED:20250701T142111Z
LAST-MODIFIED:20250701T142111Z
UID:1802-1753563600-1753572600@hop-pole.com
SUMMARY:Common People
DESCRIPTION:Britpop Tribute Act – #ReliveThe90s with our totally live show dedicated to the music of Oasis\, Blur
URL:https://hop-pole.com/event/common-people-10/
LOCATION:Hop Pole Inn\, Bromsgrove
ATTACH;FMTTYPE=image/png:https://hop-pole.com/wp-content/uploads/2022/06/23659414_1498840666878766_8940637037064229388_n.png
END:VEVENT
BEGIN:VEVENT
DTSTART;TZID=Europe/London:20250725T210000
DTEND;TZID=Europe/London:20250725T233000
DTSTAMP:20260424T163956
CREATED:20250701T141934Z
LAST-MODIFIED:20250701T141934Z
UID:1799-1753477200-1753486200@hop-pole.com
SUMMARY:Heavy Duty
DESCRIPTION:The best of the early 80s and the new wave of British heavy metal….Loud and proud
URL:https://hop-pole.com/event/heavy-duty/
LOCATION:Hop Pole Inn\, Bromsgrove
ATTACH;FMTTYPE=image/jpeg:https://hop-pole.com/wp-content/uploads/2025/07/449093958_122106325106371879_8614080245825038091_n.jpg
END:VEVENT
BEGIN:VEVENT
DTSTART;TZID=Europe/London:20250719T210000
DTEND;TZID=Europe/London:20250719T233000
DTSTAMP:20260424T163956
CREATED:20250701T141631Z
LAST-MODIFIED:20250717T123656Z
UID:1797-1752958800-1752967800@hop-pole.com
SUMMARY:Tin Drum
DESCRIPTION:Electric folk rock band.
URL:https://hop-pole.com/event/behind-the-bike-sheds-10/
LOCATION:Hop Pole Inn\, Bromsgrove
ATTACH;FMTTYPE=image/jpeg:https://hop-pole.com/wp-content/uploads/2024/02/293640799_453207766808968_4345464620295545274_n.jpg
END:VEVENT
BEGIN:VEVENT
DTSTART;TZID=Europe/London:20250718T210000
DTEND;TZID=Europe/London:20250718T233000
DTSTAMP:20260424T163956
CREATED:20250714T104249Z
LAST-MODIFIED:20250714T104249Z
UID:1810-1752872400-1752881400@hop-pole.com
SUMMARY:Sudden Impact
DESCRIPTION:Four piece band based in the West Midlands in the UK\, performing well known and loved guitar based covers.
URL:https://hop-pole.com/event/sudden-impact/
LOCATION:Hop Pole Inn\, Bromsgrove
ATTACH;FMTTYPE=image/jpeg:https://hop-pole.com/wp-content/uploads/2025/04/438089587_393000390203571_5281799047580171027_n.jpg
END:VEVENT
BEGIN:VEVENT
DTSTART;TZID=Europe/London:20250712T140000
DTEND;TZID=Europe/London:20250712T233000
DTSTAMP:20260424T163956
CREATED:20250701T141444Z
LAST-MODIFIED:20250701T142909Z
UID:1795-1752328800-1752363000@hop-pole.com
SUMMARY:Hop Pole celebrates 40th anniversary of Live Aid
DESCRIPTION:We have bands and soloists in the garden from 2pm – Loz Rabone\, Crimson\, Rooster\, Brass Beatz and more. \nThen at 9pm we have Hot Space – A night of Queen inside. \nThe charity we’re supporting this year is The Basement Project
URL:https://hop-pole.com/event/hop-pole-celebrates-40th-anniversary-of-live-aid/
LOCATION:Hop Pole Inn\, Bromsgrove
ATTACH;FMTTYPE=image/jpeg:https://hop-pole.com/wp-content/uploads/2025/05/494683559_544789332003854_325679733822047775_n.jpg
END:VEVENT
BEGIN:VEVENT
DTSTART;TZID=Europe/London:20250711T210000
DTEND;TZID=Europe/London:20250711T233000
DTSTAMP:20260424T163956
CREATED:20250701T140939Z
LAST-MODIFIED:20250701T140939Z
UID:1793-1752267600-1752276600@hop-pole.com
SUMMARY:The Core Band
DESCRIPTION:We mainly play songs from the artists that made music what it is today.
URL:https://hop-pole.com/event/the-core-band/
LOCATION:Hop Pole Inn\, Bromsgrove
ATTACH;FMTTYPE=image/jpeg:https://hop-pole.com/wp-content/uploads/2025/01/472846458_122179574990096883_2131430323699097797_n.jpg
END:VEVENT
BEGIN:VEVENT
DTSTART;TZID=Europe/London:20250705T210000
DTEND;TZID=Europe/London:20250705T233000
DTSTAMP:20260424T163956
CREATED:20250701T140104Z
LAST-MODIFIED:20250701T140123Z
UID:1791-1751749200-1751758200@hop-pole.com
SUMMARY:CADA
DESCRIPTION:You want rock\, they’ve got rock
URL:https://hop-pole.com/event/cada-10/
LOCATION:Hop Pole Inn\, Bromsgrove
ATTACH;FMTTYPE=image/jpeg:https://hop-pole.com/wp-content/uploads/2024/10/465376045_1189023136118301_5756699499110481262_n.jpg
END:VEVENT
BEGIN:VEVENT
DTSTART;TZID=Europe/London:20250704T210000
DTEND;TZID=Europe/London:20250704T233000
DTSTAMP:20260424T163956
CREATED:20250701T135958Z
LAST-MODIFIED:20250701T135958Z
UID:1789-1751662800-1751671800@hop-pole.com
SUMMARY:Stu Bishop
DESCRIPTION:BEER BEER BEER MORE BEER
URL:https://hop-pole.com/event/stu-bishop-3/
LOCATION:Hop Pole Inn\, Bromsgrove
ATTACH;FMTTYPE=image/jpeg:https://hop-pole.com/wp-content/uploads/2023/04/stu.jpg
END:VEVENT
BEGIN:VEVENT
DTSTART;TZID=Europe/London:20250628T210000
DTEND;TZID=Europe/London:20250628T233000
DTSTAMP:20260424T163956
CREATED:20250615T190724Z
LAST-MODIFIED:20250615T190724Z
UID:1780-1751144400-1751153400@hop-pole.com
SUMMARY:Legend
DESCRIPTION:four piece band who play classic rock songs.Tunes that can be sung along to\, danced to… partied to !Performing with energy and enthusiasm these talented and experienced musicians are out to share a passion for good times Rock and Roll
URL:https://hop-pole.com/event/legend-13/
LOCATION:Hop Pole Inn\, Bromsgrove
END:VEVENT
BEGIN:VEVENT
DTSTART;TZID=Europe/London:20250627T210000
DTEND;TZID=Europe/London:20250627T233000
DTSTAMP:20260424T163956
CREATED:20250615T190610Z
LAST-MODIFIED:20250615T190610Z
UID:1777-1751058000-1751067000@hop-pole.com
SUMMARY:Doctor Cornelius
DESCRIPTION:Doctor Cornelius prescribe you a night of dance and joy. your prescription for good times has arrived
URL:https://hop-pole.com/event/doctor-cornelius-7/
LOCATION:Hop Pole Inn\, Bromsgrove
ATTACH;FMTTYPE=image/jpeg:https://hop-pole.com/wp-content/uploads/2025/06/347797896_117355401358855_3025849938713181872_n-1.jpg
END:VEVENT
BEGIN:VEVENT
DTSTART;TZID=Europe/London:20250621T210000
DTEND;TZID=Europe/London:20250621T233000
DTSTAMP:20260424T163956
CREATED:20250615T190322Z
LAST-MODIFIED:20250615T190322Z
UID:1774-1750539600-1750548600@hop-pole.com
SUMMARY:Bosted Juke Box
DESCRIPTION:4 piece band from the good old Black Country in the heart of the West Midlands. BJB play an array of classic\, rare and forgotten pop\, classic rock\, indie and alternative songs from the last 60 years.
URL:https://hop-pole.com/event/bosted-juke-box-5/
LOCATION:Hop Pole Inn\, Bromsgrove
ATTACH;FMTTYPE=image/jpeg:https://hop-pole.com/wp-content/uploads/2025/06/420093858_361448050073169_4222892273420432082_n-1.jpg
END:VEVENT
BEGIN:VEVENT
DTSTART;TZID=Europe/London:20250620T210000
DTEND;TZID=Europe/London:20250620T233000
DTSTAMP:20260424T163956
CREATED:20250615T190007Z
LAST-MODIFIED:20250615T190007Z
UID:1772-1750453200-1750462200@hop-pole.com
SUMMARY:Delta Soul
DESCRIPTION:Rock n roll\, soul\, funk & ska
URL:https://hop-pole.com/event/delta-soul-2/
LOCATION:Hop Pole Inn\, Bromsgrove
ATTACH;FMTTYPE=image/jpeg:https://hop-pole.com/wp-content/uploads/2025/03/Delta-Soul.jpg
END:VEVENT
BEGIN:VEVENT
DTSTART;TZID=Europe/London:20250607T210000
DTEND;TZID=Europe/London:20250607T233000
DTSTAMP:20260424T163956
CREATED:20250527T122649Z
LAST-MODIFIED:20250527T122649Z
UID:1764-1749330000-1749339000@hop-pole.com
SUMMARY:Thirsty Work
DESCRIPTION:4 piece Classic Rock Band with ex members of Quill\, Alvin Stardust\, Glenn Hughes & more
URL:https://hop-pole.com/event/thirsty-work-4/
LOCATION:Hop Pole Inn\, Bromsgrove
ATTACH;FMTTYPE=image/jpeg:https://hop-pole.com/wp-content/uploads/2022/06/287166453_531096378488481_5473589002640019278_n.jpg
END:VEVENT
BEGIN:VEVENT
DTSTART;TZID=Europe/London:20250606T210000
DTEND;TZID=Europe/London:20250606T233000
DTSTAMP:20260424T163956
CREATED:20250527T122510Z
LAST-MODIFIED:20250527T122510Z
UID:1762-1749243600-1749252600@hop-pole.com
SUMMARY:The Beards
DESCRIPTION:bringing you live music in their own unique way\, if you’ve never seen them pop in\, you won’t be disappointed!
URL:https://hop-pole.com/event/the-beards-5/
LOCATION:Hop Pole Inn\, Bromsgrove
ATTACH;FMTTYPE=image/jpeg:https://hop-pole.com/wp-content/uploads/2024/02/Beards.jpg
END:VEVENT
BEGIN:VEVENT
DTSTART;TZID=Europe/London:20250531T210000
DTEND;TZID=Europe/London:20250531T233000
DTSTAMP:20260424T163956
CREATED:20250425T133300Z
LAST-MODIFIED:20250425T133300Z
UID:1746-1748725200-1748734200@hop-pole.com
SUMMARY:Black Country All Ska's
DESCRIPTION:Ska\, 2Tone and Reggae Band
URL:https://hop-pole.com/event/black-country-all-skas/
LOCATION:Hop Pole Inn\, Bromsgrove
ATTACH;FMTTYPE=image/jpeg:https://hop-pole.com/wp-content/uploads/2025/04/464686817_122195156792035051_1555521002277662135_n.jpg
END:VEVENT
BEGIN:VEVENT
DTSTART;TZID=Europe/London:20250530T210000
DTEND;TZID=Europe/London:20250530T233000
DTSTAMP:20260424T163956
CREATED:20250425T133024Z
LAST-MODIFIED:20250527T122158Z
UID:1744-1748638800-1748647800@hop-pole.com
SUMMARY:Sudden Impact
DESCRIPTION:Four piece band based in the West Midlands in the UK\, performing well known and loved guitar based covers.
URL:https://hop-pole.com/event/tbc/
LOCATION:Hop Pole Inn\, Bromsgrove
ATTACH;FMTTYPE=image/jpeg:https://hop-pole.com/wp-content/uploads/2025/04/438089587_393000390203571_5281799047580171027_n.jpg
END:VEVENT
BEGIN:VEVENT
DTSTART;TZID=Europe/London:20250524T210000
DTEND;TZID=Europe/London:20250524T233000
DTSTAMP:20260424T163956
CREATED:20250425T133009Z
LAST-MODIFIED:20250425T133009Z
UID:1742-1748120400-1748129400@hop-pole.com
SUMMARY:Bang on the Ear
DESCRIPTION:Shamrock n Roll
URL:https://hop-pole.com/event/bang-on-the-ear-8/
LOCATION:Hop Pole Inn\, Bromsgrove
ATTACH;FMTTYPE=image/jpeg:https://hop-pole.com/wp-content/uploads/2022/06/288304661_8019018094782957_4952371278950620640_n.jpg
END:VEVENT
BEGIN:VEVENT
DTSTART;TZID=Europe/London:20250523T210000
DTEND;TZID=Europe/London:20250523T233000
DTSTAMP:20260424T163956
CREATED:20250425T132850Z
LAST-MODIFIED:20250425T132850Z
UID:1740-1748034000-1748043000@hop-pole.com
SUMMARY:Essential 80's
DESCRIPTION:The best era of music.
URL:https://hop-pole.com/event/essential-80s-4/
LOCATION:Hop Pole Inn\, Bromsgrove
ATTACH;FMTTYPE=image/jpeg:https://hop-pole.com/wp-content/uploads/2021/08/80s.jpg
END:VEVENT
BEGIN:VEVENT
DTSTART;TZID=Europe/London:20250517T210000
DTEND;TZID=Europe/London:20250517T233000
DTSTAMP:20260424T163956
CREATED:20250425T132713Z
LAST-MODIFIED:20250425T132713Z
UID:1738-1747515600-1747524600@hop-pole.com
SUMMARY:The Contraband
DESCRIPTION:Rock\, Pop and Soul
URL:https://hop-pole.com/event/the-contraband/
LOCATION:Hop Pole Inn\, Bromsgrove
ATTACH;FMTTYPE=image/jpeg:https://hop-pole.com/wp-content/uploads/2021/09/82282816_596977087754126_3729502441658384384_n.jpg
END:VEVENT
BEGIN:VEVENT
DTSTART;TZID=Europe/London:20250516T210000
DTEND;TZID=Europe/London:20250516T233000
DTSTAMP:20260424T163956
CREATED:20250425T132240Z
LAST-MODIFIED:20250425T132240Z
UID:1736-1747429200-1747438200@hop-pole.com
SUMMARY:The Reflections
DESCRIPTION:Swinging 60’s
URL:https://hop-pole.com/event/the-reflections-11/
LOCATION:Hop Pole Inn\, Bromsgrove
ATTACH;FMTTYPE=image/jpeg:https://hop-pole.com/wp-content/uploads/2023/08/356665423_759847966145027_838991781425577061_n.jpg
END:VEVENT
BEGIN:VEVENT
DTSTART;TZID=Europe/London:20250510T210000
DTEND;TZID=Europe/London:20250510T233000
DTSTAMP:20260424T163956
CREATED:20250425T131031Z
LAST-MODIFIED:20250425T131031Z
UID:1734-1746910800-1746919800@hop-pole.com
SUMMARY:Vehicle
DESCRIPTION:Classic Covers
URL:https://hop-pole.com/event/vehicle-8/
LOCATION:Hop Pole Inn\, Bromsgrove
ATTACH;FMTTYPE=image/jpeg:https://hop-pole.com/wp-content/uploads/2022/05/274724453_1843262809198596_4313489111116532787_n.jpg
END:VEVENT
BEGIN:VEVENT
DTSTART;TZID=Europe/London:20250509T210000
DTEND;TZID=Europe/London:20250509T233000
DTSTAMP:20260424T163956
CREATED:20250425T125429Z
LAST-MODIFIED:20250425T125429Z
UID:1732-1746824400-1746833400@hop-pole.com
SUMMARY:Loz Rabone
DESCRIPTION:Acoustic Set
URL:https://hop-pole.com/event/loz-rabone-8/
LOCATION:Hop Pole Inn\, Bromsgrove
ATTACH;FMTTYPE=image/jpeg:https://hop-pole.com/wp-content/uploads/2022/05/Loz.jpg
END:VEVENT
BEGIN:VEVENT
DTSTART;TZID=Europe/London:20250503T210000
DTEND;TZID=Europe/London:20250503T233000
DTSTAMP:20260424T163956
CREATED:20250425T125224Z
LAST-MODIFIED:20250425T125224Z
UID:1729-1746306000-1746315000@hop-pole.com
SUMMARY:Scamp
DESCRIPTION:60’s 70’s 80’s 90’s 20’s.
URL:https://hop-pole.com/event/scamp/
LOCATION:Hop Pole Inn\, Bromsgrove
END:VEVENT
BEGIN:VEVENT
DTSTART;TZID=Europe/London:20250502T210000
DTEND;TZID=Europe/London:20250502T233000
DTSTAMP:20260424T163956
CREATED:20250425T102604Z
LAST-MODIFIED:20250425T102604Z
UID:1727-1746219600-1746228600@hop-pole.com
SUMMARY:Mister Wolf
DESCRIPTION:MISTER WOLF are a classic guitar driven Rock and Blues band. Not just another covers band!
URL:https://hop-pole.com/event/mister-wolf-11/
LOCATION:Hop Pole Inn\, Bromsgrove
ATTACH;FMTTYPE=image/jpeg:https://hop-pole.com/wp-content/uploads/2021/10/mr-wolf.jpg
END:VEVENT
BEGIN:VEVENT
DTSTART;TZID=Europe/London:20250426T210000
DTEND;TZID=Europe/London:20250426T233000
DTSTAMP:20260424T163956
CREATED:20250329T210506Z
LAST-MODIFIED:20250329T210506Z
UID:1721-1745701200-1745710200@hop-pole.com
SUMMARY:Vaseline
DESCRIPTION:A bit of fun n laughter with a lot of Punk!
URL:https://hop-pole.com/event/vaseline-9/
LOCATION:Hop Pole Inn\, Bromsgrove
ATTACH;FMTTYPE=image/jpeg:https://hop-pole.com/wp-content/uploads/2024/09/274952210_378576207605444_1554580584022393394_n.jpg
END:VEVENT
BEGIN:VEVENT
DTSTART;TZID=Europe/London:20250425T210000
DTEND;TZID=Europe/London:20250425T233000
DTSTAMP:20260424T163956
CREATED:20250329T210239Z
LAST-MODIFIED:20250329T210239Z
UID:1719-1745614800-1745623800@hop-pole.com
SUMMARY:Skrood
DESCRIPTION:Classic Rock
URL:https://hop-pole.com/event/skrood-10/
LOCATION:Hop Pole Inn\, Bromsgrove
ATTACH;FMTTYPE=image/jpeg:https://hop-pole.com/wp-content/uploads/2022/01/66803473_2079338668844549_2254689330243043328_n.jpg
END:VEVENT
BEGIN:VEVENT
DTSTART;TZID=Europe/London:20250419T210000
DTEND;TZID=Europe/London:20250419T233000
DTSTAMP:20260424T163956
CREATED:20250329T210103Z
LAST-MODIFIED:20250329T210103Z
UID:1716-1745096400-1745105400@hop-pole.com
SUMMARY:Bedrock Bullets
DESCRIPTION:Rock ‘n’ Roll \, Rockabilly\, Garage and Blues.
URL:https://hop-pole.com/event/bedrock-bullets/
LOCATION:Hop Pole Inn\, Bromsgrove
ATTACH;FMTTYPE=image/jpeg:https://hop-pole.com/wp-content/uploads/2025/03/Bedrock-Bullets.jpg
END:VEVENT
BEGIN:VEVENT
DTSTART;TZID=Europe/London:20250418T210000
DTEND;TZID=Europe/London:20250418T233000
DTSTAMP:20260424T163957
CREATED:20250329T205714Z
LAST-MODIFIED:20250329T205714Z
UID:1714-1745010000-1745019000@hop-pole.com
SUMMARY:Rooster
DESCRIPTION:
URL:https://hop-pole.com/event/rooster/
LOCATION:Hop Pole Inn\, Bromsgrove
END:VEVENT
END:VCALENDAR