BEGIN:VCALENDAR
VERSION:2.0
PRODID:-//The Hop Pole Inn - ECPv6.15.20//NONSGML v1.0//EN
CALSCALE:GREGORIAN
METHOD:PUBLISH
X-ORIGINAL-URL:https://hop-pole.com
X-WR-CALDESC:Events for The Hop Pole Inn
REFRESH-INTERVAL;VALUE=DURATION:PT1H
X-Robots-Tag:noindex
X-PUBLISHED-TTL:PT1H
BEGIN:VTIMEZONE
TZID:Europe/London
BEGIN:DAYLIGHT
TZOFFSETFROM:+0000
TZOFFSETTO:+0100
TZNAME:BST
DTSTART:20200329T010000
END:DAYLIGHT
BEGIN:STANDARD
TZOFFSETFROM:+0100
TZOFFSETTO:+0000
TZNAME:GMT
DTSTART:20201025T010000
END:STANDARD
BEGIN:DAYLIGHT
TZOFFSETFROM:+0000
TZOFFSETTO:+0100
TZNAME:BST
DTSTART:20210328T010000
END:DAYLIGHT
BEGIN:STANDARD
TZOFFSETFROM:+0100
TZOFFSETTO:+0000
TZNAME:GMT
DTSTART:20211031T010000
END:STANDARD
BEGIN:DAYLIGHT
TZOFFSETFROM:+0000
TZOFFSETTO:+0100
TZNAME:BST
DTSTART:20220327T010000
END:DAYLIGHT
BEGIN:STANDARD
TZOFFSETFROM:+0100
TZOFFSETTO:+0000
TZNAME:GMT
DTSTART:20221030T010000
END:STANDARD
BEGIN:DAYLIGHT
TZOFFSETFROM:+0000
TZOFFSETTO:+0100
TZNAME:BST
DTSTART:20230326T010000
END:DAYLIGHT
BEGIN:STANDARD
TZOFFSETFROM:+0100
TZOFFSETTO:+0000
TZNAME:GMT
DTSTART:20231029T010000
END:STANDARD
END:VTIMEZONE
BEGIN:VEVENT
DTSTART;TZID=Europe/London:20220219T210000
DTEND;TZID=Europe/London:20220219T230000
DTSTAMP:20260426T054140
CREATED:20220124T152020Z
LAST-MODIFIED:20220124T152020Z
UID:587-1645304400-1645311600@hop-pole.com
SUMMARY:Skrood
DESCRIPTION:Old enough to know better\, young enough to do it anyway!\nClassic rock covers\, ’60s to present\, including Black Sabbath\, Rolling Stones\, Foo Fighters\, Stereophonics\, Cream\, U2\, Muse\, ZZTop\, and many more!
URL:https://hop-pole.com/event/skrood/
LOCATION:Hop Pole Inn\, Bromsgrove
ATTACH;FMTTYPE=image/jpeg:https://hop-pole.com/wp-content/uploads/2022/01/66803473_2079338668844549_2254689330243043328_n.jpg
END:VEVENT
BEGIN:VEVENT
DTSTART;TZID=Europe/London:20220218T210000
DTEND;TZID=Europe/London:20220218T230000
DTSTAMP:20260426T054140
CREATED:20220124T151525Z
LAST-MODIFIED:20220124T151807Z
UID:585-1645218000-1645225200@hop-pole.com
SUMMARY:Badly Parked Cars
DESCRIPTION:Blues\, Soul and Rock and Roll
URL:https://hop-pole.com/event/badly-parked-cars-2/
LOCATION:Hop Pole Inn\, Bromsgrove
END:VEVENT
BEGIN:VEVENT
DTSTART;TZID=Europe/London:20220212T210000
DTEND;TZID=Europe/London:20220212T230000
DTSTAMP:20260426T054140
CREATED:20220124T150611Z
LAST-MODIFIED:20220124T150611Z
UID:583-1644699600-1644706800@hop-pole.com
SUMMARY:The Works
DESCRIPTION:70’s\, 80’s\, 90’s and 00’s mixed
URL:https://hop-pole.com/event/the-works-2/
LOCATION:Hop Pole Inn\, Bromsgrove
ATTACH;FMTTYPE=image/jpeg:https://hop-pole.com/wp-content/uploads/2021/08/23843659_1703096786398980_2226044954476526904_n.jpg
END:VEVENT
BEGIN:VEVENT
DTSTART;TZID=Europe/London:20220211T210000
DTEND;TZID=Europe/London:20220211T230000
DTSTAMP:20260426T054140
CREATED:20220124T145816Z
LAST-MODIFIED:20220124T152752Z
UID:580-1644613200-1644620400@hop-pole.com
SUMMARY:The Lemon Twists
DESCRIPTION:Bringing you an electric selection of hits from the 60’s\, with a smattering of 70’s.\nTunes to keep your dance floor moving & grooving\, or just sitting and listening.
URL:https://hop-pole.com/event/the-lemon-twists/
LOCATION:Hop Pole Inn\, Bromsgrove
ATTACH;FMTTYPE=image/jpeg:https://hop-pole.com/wp-content/uploads/2022/01/198261126_269859668255279_5997203484675962448_n.jpg
END:VEVENT
BEGIN:VEVENT
DTSTART;TZID=Europe/London:20220205T210000
DTEND;TZID=Europe/London:20220205T230000
DTSTAMP:20260426T054140
CREATED:20220124T145324Z
LAST-MODIFIED:20220124T145324Z
UID:578-1644094800-1644102000@hop-pole.com
SUMMARY:Third Alert
DESCRIPTION:Pop and Rock Covers \nFormed in 2005\, UK band Third Alert play classic rock and pop covers from the last four decades – with a passion.
URL:https://hop-pole.com/event/third-alert/
LOCATION:Hop Pole Inn\, Bromsgrove
END:VEVENT
BEGIN:VEVENT
DTSTART;TZID=Europe/London:20220204T210000
DTEND;TZID=Europe/London:20220204T230000
DTSTAMP:20260426T054140
CREATED:20220124T144503Z
LAST-MODIFIED:20220124T144503Z
UID:576-1644008400-1644015600@hop-pole.com
SUMMARY:Essential 80's
DESCRIPTION:Exclusive pub appearance only at The Hop Pole. \nClassic 80’s rock and pop covers! \nNot to be missed!
URL:https://hop-pole.com/event/essential-80s/
LOCATION:Hop Pole Inn\, Bromsgrove
ATTACH;FMTTYPE=image/jpeg:https://hop-pole.com/wp-content/uploads/2021/08/80s.jpg
END:VEVENT
BEGIN:VEVENT
DTSTART;TZID=Europe/London:20220129T210000
DTEND;TZID=Europe/London:20220129T230000
DTSTAMP:20260426T054140
CREATED:20220108T125816Z
LAST-MODIFIED:20220108T125816Z
UID:559-1643490000-1643497200@hop-pole.com
SUMMARY:Rattlesnake Jake
DESCRIPTION:Rattlesnake Jake are a 6 piece Soul outfit
URL:https://hop-pole.com/event/rattlesnake-jake/
LOCATION:Hop Pole Inn\, Bromsgrove
ATTACH;FMTTYPE=image/jpeg:https://hop-pole.com/wp-content/uploads/2022/01/159504861_127254489400313_5781580221644405916_n.jpg
END:VEVENT
BEGIN:VEVENT
DTSTART;TZID=Europe/London:20220128T210000
DTEND;TZID=Europe/London:20220128T230000
DTSTAMP:20260426T054140
CREATED:20220108T125532Z
LAST-MODIFIED:20220108T125532Z
UID:557-1643403600-1643410800@hop-pole.com
SUMMARY:Common People
DESCRIPTION:Britpop Tribute Act – #ReliveThe90s with our totally live show dedicated to the music of Oasis\, Blur\, Pulp and many\, many more…
URL:https://hop-pole.com/event/common-people-2/
LOCATION:Hop Pole Inn\, Bromsgrove
ATTACH;FMTTYPE=image/png:https://hop-pole.com/wp-content/uploads/2021/09/78635097_2530497900379699_7166163357261627392_n.png
END:VEVENT
BEGIN:VEVENT
DTSTART;TZID=Europe/London:20220122T210000
DTEND;TZID=Europe/London:20220122T230000
DTSTAMP:20260426T054140
CREATED:20220108T125301Z
LAST-MODIFIED:20220108T125301Z
UID:555-1642885200-1642892400@hop-pole.com
SUMMARY:Thunder Daze
DESCRIPTION:Guitar driven classic 70s & 80s rock covers band with a twist of American West Coast Flavour.
URL:https://hop-pole.com/event/thunder-daze-2/
LOCATION:Hop Pole Inn\, Bromsgrove
ATTACH;FMTTYPE=image/jpeg:https://hop-pole.com/wp-content/uploads/2021/09/239643749_233991108732174_2352624766715603431_n.jpg
END:VEVENT
BEGIN:VEVENT
DTSTART;TZID=Europe/London:20220121T210000
DTEND;TZID=Europe/London:20220121T230000
DTSTAMP:20260426T054140
CREATED:20220108T125044Z
LAST-MODIFIED:20220108T125044Z
UID:553-1642798800-1642806000@hop-pole.com
SUMMARY:The Indigo Sunsets
DESCRIPTION:Nominated in the 2021 Radio Wigwam awards for Best Indie Rock Act. \n  \nThe band that was The Underdogs! A new chapter of original self written music and our favourite covers from Stu\, Andy\, Jaj\, Josh and Bev!
URL:https://hop-pole.com/event/the-indigo-sunsets/
LOCATION:Hop Pole Inn\, Bromsgrove
END:VEVENT
BEGIN:VEVENT
DTSTART;TZID=Europe/London:20220115T210000
DTEND;TZID=Europe/London:20220115T230000
DTSTAMP:20260426T054140
CREATED:20220108T124738Z
LAST-MODIFIED:20220108T124738Z
UID:550-1642280400-1642287600@hop-pole.com
SUMMARY:Jack Read and The Shaders
DESCRIPTION:The shaders are a rock n’ roll band from the west midlands featuring aggressive guitars\, thumping rythyms and rich harmonies. This young mod band plays an incredible setlist of classics reworked to their own style along with songs from Jacks Album. They perform shows as either a trio or a duo. The trio is the full show\, turned up and full of beans perfect for pubs\, clubs and venues where a good ol’ rock and roll show is on the menu\, The duo is a masterclass in how two lads can bring an energy to an acoustic show that is unmatched! Perfect for pubs\, clubs\, weddings\, festivals or wherever you need the party to be!
URL:https://hop-pole.com/event/jack-read-and-the-shaders/
LOCATION:Hop Pole Inn\, Bromsgrove
END:VEVENT
BEGIN:VEVENT
DTSTART;TZID=Europe/London:20220114T210000
DTEND;TZID=Europe/London:20220114T230000
DTSTAMP:20260426T054140
CREATED:20220108T124158Z
LAST-MODIFIED:20220108T181651Z
UID:548-1642194000-1642201200@hop-pole.com
SUMMARY:Brass Beatz
DESCRIPTION:We are a 9 piece party band playing 60/70’s up to modern day soul music with a brass section! We play all your favourite hits guaranteed to get the party started
URL:https://hop-pole.com/event/tilt/
LOCATION:Hop Pole Inn\, Bromsgrove
ATTACH;FMTTYPE=image/jpeg:https://hop-pole.com/wp-content/uploads/2022/01/239300663_1229469620849484_3272707124784996882_n.jpg
END:VEVENT
BEGIN:VEVENT
DTSTART;TZID=Europe/London:20220108T210000
DTEND;TZID=Europe/London:20220108T230000
DTSTAMP:20260426T054140
CREATED:20220108T123411Z
LAST-MODIFIED:20220108T181041Z
UID:545-1641675600-1641682800@hop-pole.com
SUMMARY:Melvin Hancox Band
DESCRIPTION:
URL:https://hop-pole.com/event/behind-the-bikesheds/
LOCATION:Hop Pole Inn\, Bromsgrove
END:VEVENT
BEGIN:VEVENT
DTSTART;TZID=Europe/London:20211231T210000
DTEND;TZID=Europe/London:20220101T020000
DTSTAMP:20260426T054140
CREATED:20211109T164548Z
LAST-MODIFIED:20211130T131550Z
UID:520-1640984400-1641002400@hop-pole.com
SUMMARY:Uncle Jim
DESCRIPTION:New Years Eve Party night with Uncle Jim\, Rock from the decades!
URL:https://hop-pole.com/event/uncle-jim/
LOCATION:Hop Pole Inn\, Bromsgrove
END:VEVENT
BEGIN:VEVENT
DTSTART;TZID=Europe/London:20211226T210000
DTEND;TZID=Europe/London:20211226T230000
DTSTAMP:20260426T054140
CREATED:20211109T164018Z
LAST-MODIFIED:20211109T164018Z
UID:517-1640552400-1640559600@hop-pole.com
SUMMARY:Northern Soul and Motown Vinyl Night
DESCRIPTION:Boxing Day Vinyl Night\, Northern Soul and Motown Night.
URL:https://hop-pole.com/event/northern-soul-and-motown-vinyl-night/
LOCATION:Hop Pole Inn\, Bromsgrove
ATTACH;FMTTYPE=image/jpeg:https://hop-pole.com/wp-content/uploads/2021/11/Northern-Soul-keep-the-faith.jpg
END:VEVENT
BEGIN:VEVENT
DTSTART;TZID=Europe/London:20211224T080000
DTEND;TZID=Europe/London:20211224T170000
DTSTAMP:20260426T054140
CREATED:20211026T190451Z
LAST-MODIFIED:20211223T232221Z
UID:494-1640332800-1640365200@hop-pole.com
SUMMARY:TBC
DESCRIPTION:
URL:https://hop-pole.com/event/free-spirit-sounds/
LOCATION:Hop Pole Inn\, Bromsgrove
END:VEVENT
BEGIN:VEVENT
DTSTART;TZID=Europe/London:20211223T210000
DTEND;TZID=Europe/London:20211223T230000
DTSTAMP:20260426T054140
CREATED:20211026T183142Z
LAST-MODIFIED:20211223T232333Z
UID:492-1640293200-1640300400@hop-pole.com
SUMMARY:Common People
DESCRIPTION:Brit Pop and Indie
URL:https://hop-pole.com/event/dr-cornelious-2/
LOCATION:Hop Pole Inn\, Bromsgrove
END:VEVENT
BEGIN:VEVENT
DTSTART;TZID=Europe/London:20211218T210000
DTEND;TZID=Europe/London:20211218T230000
DTSTAMP:20260426T054140
CREATED:20211026T182754Z
LAST-MODIFIED:20211026T182838Z
UID:488-1639861200-1639868400@hop-pole.com
SUMMARY:Legend
DESCRIPTION:Legend are a true classic rock covers band. Covering all time favourites and the not so well known songs from well known artists and doing it ‘Legend’s way’
URL:https://hop-pole.com/event/legend/
LOCATION:Hop Pole Inn\, Bromsgrove
ATTACH;FMTTYPE=image/jpeg:https://hop-pole.com/wp-content/uploads/2021/10/legend.jpg
END:VEVENT
BEGIN:VEVENT
DTSTART;TZID=Europe/London:20211217T210000
DTEND;TZID=Europe/London:20211217T230000
DTSTAMP:20260426T054140
CREATED:20211026T182535Z
LAST-MODIFIED:20211211T154057Z
UID:484-1639774800-1639782000@hop-pole.com
SUMMARY:CADA
DESCRIPTION:CADA Mixing the rough with the smooth\, a four piece Rock band that will lull you into a false sense of security with a bit of acoustic Coldplay\, Stereophonics and Paul Weller before hitting you hard in the face with ZZ Top\, AC/DC and everyone’s favorite Motorhead classic.
URL:https://hop-pole.com/event/mister-wolf/
LOCATION:Hop Pole Inn\, Bromsgrove
END:VEVENT
BEGIN:VEVENT
DTSTART;TZID=Europe/London:20211216T210000
DTEND;TZID=Europe/London:20211216T230000
DTSTAMP:20260426T054140
CREATED:20211026T181909Z
LAST-MODIFIED:20211211T153850Z
UID:482-1639688400-1639695600@hop-pole.com
SUMMARY:Melvin Hancox Band
DESCRIPTION:Returning once again for your listening pleasure\, one not to be missed!
URL:https://hop-pole.com/event/hard-graft-2/
LOCATION:Hop Pole Inn\, Bromsgrove
END:VEVENT
BEGIN:VEVENT
DTSTART;TZID=Europe/London:20211211T210000
DTEND;TZID=Europe/London:20211211T230000
DTSTAMP:20260426T054140
CREATED:20211026T181629Z
LAST-MODIFIED:20211026T181629Z
UID:480-1639256400-1639263600@hop-pole.com
SUMMARY:Krazylegz
DESCRIPTION:if you want a band to give you one Hell of a Gig\, performing Rock and Blues\, Funk and Soul Classics played at their best\, we will give you a night to remember!\nAC/DC to Zeppelin\, Nirvana to Foo Fighters\, Black Sabbath to Deep Purple\, KOL to RATM\,\nTina Turner to Skunk Anansie\,\nAudioslave to Alterbridge\,\nPearl Jam to Black Crowes\,\nJoplin to Hendrix\, Metallica to Motörhead\, Stevie Wonder to Lenny Kravitz\,Jet to Velvet Revolver\, Dio to UFO\, Beatles to Animals
URL:https://hop-pole.com/event/krazylegz/
LOCATION:Hop Pole Inn\, Bromsgrove
END:VEVENT
BEGIN:VEVENT
DTSTART;TZID=Europe/London:20211210T210000
DTEND;TZID=Europe/London:20211210T230000
DTSTAMP:20260426T054140
CREATED:20211026T180849Z
LAST-MODIFIED:20211026T181241Z
UID:478-1639170000-1639177200@hop-pole.com
SUMMARY:The Reflections
DESCRIPTION:The Reflections have been around for over twenty years playing all types of music but now concentrate on playing our shared passion….the 1960’s!!!
URL:https://hop-pole.com/event/the-reflections/
LOCATION:Hop Pole Inn\, Bromsgrove
ATTACH;FMTTYPE=image/jpeg:https://hop-pole.com/wp-content/uploads/2021/08/reflections.jpg
END:VEVENT
BEGIN:VEVENT
DTSTART;TZID=Europe/London:20211209T210000
DTEND;TZID=Europe/London:20211209T230000
DTSTAMP:20260426T054140
CREATED:20211109T162911Z
LAST-MODIFIED:20211109T162911Z
UID:509-1639083600-1639090800@hop-pole.com
SUMMARY:Quo aka The Four Rossis'
DESCRIPTION:Classic Quo Tribute\, from the forgotten hits to the well known ones!
URL:https://hop-pole.com/event/quo-aka-the-four-rossis-2/
LOCATION:Hop Pole Inn\, Bromsgrove
ATTACH;FMTTYPE=image/png:https://hop-pole.com/wp-content/uploads/2021/09/23270256_183194235569782_7091234728435292698_o.png
END:VEVENT
BEGIN:VEVENT
DTSTART;TZID=Europe/London:20211205T130000
DTEND;TZID=Europe/London:20211205T150000
DTSTAMP:20260426T054140
CREATED:20211109T163216Z
LAST-MODIFIED:20211109T163216Z
UID:511-1638709200-1638716400@hop-pole.com
SUMMARY:Kids Xmas Party
DESCRIPTION:Come and meet Santa\, buffet\, free photo and a present from Santa.
URL:https://hop-pole.com/event/kids-xmas-party/
LOCATION:Hop Pole Inn\, Bromsgrove
ATTACH;FMTTYPE=image/jpeg:https://hop-pole.com/wp-content/uploads/2021/11/santa.jpg
END:VEVENT
BEGIN:VEVENT
DTSTART;TZID=Europe/London:20211204T210000
DTEND;TZID=Europe/London:20211204T230000
DTSTAMP:20260426T054140
CREATED:20211026T170648Z
LAST-MODIFIED:20211026T170648Z
UID:476-1638651600-1638658800@hop-pole.com
SUMMARY:Vaseline (3rd time lucky)
DESCRIPTION:When all the moons align & ex members of bands join forces…well it becomes Vaseline!!\nStereogram\, The Sordid Details\, Tommy Gun & Skabucks are all to blame for this gathering! We will be playing all out fave tunes we were dragged up on & maybe a few others were dragged up on…..but what IS guaranteed is a stonking night out with a few beers & some ridiculous fun & humour
URL:https://hop-pole.com/event/vaseline-3rd-time-lucky/
LOCATION:Hop Pole Inn\, Bromsgrove
END:VEVENT
BEGIN:VEVENT
DTSTART;TZID=Europe/London:20211203T210000
DTEND;TZID=Europe/London:20211203T230000
DTSTAMP:20260426T054140
CREATED:20211026T170432Z
LAST-MODIFIED:20211026T170432Z
UID:473-1638565200-1638572400@hop-pole.com
SUMMARY:Bang on the Ear
DESCRIPTION:  \n‘Bang On The Ear’ specialise in up beat traditional & contemporary Irish/Celtic Folk Rock songs and tunes\, along with many popular favourites ranging from the Beatles to classic Rock ‘n’ Roll\, Blues\, contemporary Pop Rock & more.\nFoot stomping good times will be had by all…
URL:https://hop-pole.com/event/bang-on-the-ear-2/
LOCATION:Hop Pole Inn\, Bromsgrove
ATTACH;FMTTYPE=image/jpeg:https://hop-pole.com/wp-content/uploads/2021/10/bang-on-the-ear.jpg
END:VEVENT
BEGIN:VEVENT
DTSTART;TZID=Europe/London:20211127T210000
DTEND;TZID=Europe/London:20211127T230000
DTSTAMP:20260426T054140
CREATED:20210929T170117Z
LAST-MODIFIED:20210929T170125Z
UID:453-1638046800-1638054000@hop-pole.com
SUMMARY:Common People
DESCRIPTION:Common People \nBritpop Tribute Act – #ReliveThe90s with our totally live show dedicated to the music of Oasis\, Blur\, Pulp and many\, many more…
URL:https://hop-pole.com/event/common-people/
LOCATION:Hop Pole Inn\, Bromsgrove
ATTACH;FMTTYPE=image/png:https://hop-pole.com/wp-content/uploads/2021/09/78635097_2530497900379699_7166163357261627392_n.png
END:VEVENT
BEGIN:VEVENT
DTSTART;TZID=Europe/London:20211126T210000
DTEND;TZID=Europe/London:20211126T230000
DTSTAMP:20260426T054140
CREATED:20210929T165824Z
LAST-MODIFIED:20211109T162653Z
UID:450-1637960400-1637967600@hop-pole.com
SUMMARY:Fabulous Bordellos
DESCRIPTION:Mod Anthems
URL:https://hop-pole.com/event/quo-aka-the-four-rossis/
LOCATION:Hop Pole Inn\, Bromsgrove
ATTACH;FMTTYPE=image/jpeg:https://hop-pole.com/wp-content/uploads/2021/09/bordelos.jpg
END:VEVENT
BEGIN:VEVENT
DTSTART;TZID=Europe/London:20211120T210000
DTEND;TZID=Europe/London:20211120T230000
DTSTAMP:20260426T054140
CREATED:20210929T165559Z
LAST-MODIFIED:20210929T165559Z
UID:447-1637442000-1637449200@hop-pole.com
SUMMARY:Contraband
DESCRIPTION:Contraband \nPopular Hits From Soul and Pop
URL:https://hop-pole.com/event/contraband/
LOCATION:Hop Pole Inn\, Bromsgrove
ATTACH;FMTTYPE=image/jpeg:https://hop-pole.com/wp-content/uploads/2021/09/82282816_596977087754126_3729502441658384384_n.jpg
END:VEVENT
BEGIN:VEVENT
DTSTART;TZID=Europe/London:20211119T210000
DTEND;TZID=Europe/London:20211119T230000
DTSTAMP:20260426T054140
CREATED:20210929T164342Z
LAST-MODIFIED:20210929T164342Z
UID:445-1637355600-1637362800@hop-pole.com
SUMMARY:Behind The Bike Sheds
DESCRIPTION:Behind The Bike Sheds \nStep Back Into The 80’s with Classic 80’s Anthems
URL:https://hop-pole.com/event/behind-the-bike-sheds-2/
LOCATION:Hop Pole Inn\, Bromsgrove
ATTACH;FMTTYPE=image/jpeg:https://hop-pole.com/wp-content/uploads/2021/08/btbs.jpg
END:VEVENT
END:VCALENDAR