BEGIN:VCALENDAR
VERSION:2.0
PRODID:-//The Hop Pole Inn - ECPv6.15.20//NONSGML v1.0//EN
CALSCALE:GREGORIAN
METHOD:PUBLISH
X-WR-CALNAME:The Hop Pole Inn
X-ORIGINAL-URL:https://hop-pole.com
X-WR-CALDESC:Events for The Hop Pole Inn
REFRESH-INTERVAL;VALUE=DURATION:PT1H
X-Robots-Tag:noindex
X-PUBLISHED-TTL:PT1H
BEGIN:VTIMEZONE
TZID:Europe/London
BEGIN:DAYLIGHT
TZOFFSETFROM:+0000
TZOFFSETTO:+0100
TZNAME:BST
DTSTART:20210328T010000
END:DAYLIGHT
BEGIN:STANDARD
TZOFFSETFROM:+0100
TZOFFSETTO:+0000
TZNAME:GMT
DTSTART:20211031T010000
END:STANDARD
BEGIN:DAYLIGHT
TZOFFSETFROM:+0000
TZOFFSETTO:+0100
TZNAME:BST
DTSTART:20220327T010000
END:DAYLIGHT
BEGIN:STANDARD
TZOFFSETFROM:+0100
TZOFFSETTO:+0000
TZNAME:GMT
DTSTART:20221030T010000
END:STANDARD
BEGIN:DAYLIGHT
TZOFFSETFROM:+0000
TZOFFSETTO:+0100
TZNAME:BST
DTSTART:20230326T010000
END:DAYLIGHT
BEGIN:STANDARD
TZOFFSETFROM:+0100
TZOFFSETTO:+0000
TZNAME:GMT
DTSTART:20231029T010000
END:STANDARD
END:VTIMEZONE
BEGIN:VEVENT
DTSTART;TZID=Europe/London:20220618T200000
DTEND;TZID=Europe/London:20220618T223000
DTSTAMP:20260426T052403
CREATED:20220602T125633Z
LAST-MODIFIED:20220602T125633Z
UID:733-1655582400-1655591400@hop-pole.com
SUMMARY:Bosted Jukebox
DESCRIPTION:Returning to The Hop after time away\, Bosted Jukebox\, FKA Planet Rock UK. \nPlay classic rockand pop hits you know but have forgotten about.
URL:https://hop-pole.com/event/bosted-jukebox/
LOCATION:Hop Pole Inn\, Bromsgrove
ATTACH;FMTTYPE=image/jpeg:https://hop-pole.com/wp-content/uploads/2022/06/bosted-jukebox.jpg
END:VEVENT
BEGIN:VEVENT
DTSTART;TZID=Europe/London:20220617T200000
DTEND;TZID=Europe/London:20220617T223000
DTSTAMP:20260426T052403
CREATED:20220530T182406Z
LAST-MODIFIED:20220530T182406Z
UID:729-1655496000-1655505000@hop-pole.com
SUMMARY:Essential 80's
DESCRIPTION:Take a step back in time to the best era of music \n80’s classic hits that you can sing and dance along too. \nFancy Dress Competition\, judged by the guys with a bottle of prosecco for the winner.
URL:https://hop-pole.com/event/essential-80s-2/
LOCATION:Hop Pole Inn\, Bromsgrove
ATTACH;FMTTYPE=image/jpeg:https://hop-pole.com/wp-content/uploads/2021/08/80s.jpg
END:VEVENT
BEGIN:VEVENT
DTSTART;TZID=Europe/London:20220611T200000
DTEND;TZID=Europe/London:20220611T223000
DTSTAMP:20260426T052403
CREATED:20220530T171841Z
LAST-MODIFIED:20220530T174457Z
UID:727-1654977600-1654986600@hop-pole.com
SUMMARY:Thunder Daze
DESCRIPTION:Guitar driven classic and modern blues/rock covers band with a twist of American West Coast Flavour.
URL:https://hop-pole.com/event/thunder-daze-3/
LOCATION:Hop Pole Inn\, Bromsgrove
ATTACH;FMTTYPE=image/jpeg:https://hop-pole.com/wp-content/uploads/2021/09/239643749_233991108732174_2352624766715603431_n.jpg
END:VEVENT
BEGIN:VEVENT
DTSTART;TZID=Europe/London:20220610T200000
DTEND;TZID=Europe/London:20220610T223000
DTSTAMP:20260426T052403
CREATED:20220530T171226Z
LAST-MODIFIED:20220530T171355Z
UID:724-1654891200-1654900200@hop-pole.com
SUMMARY:Doctor Cornelious
DESCRIPTION:Soul\, Funk and Disco \n 
URL:https://hop-pole.com/event/doctor-cornelious/
LOCATION:Hop Pole Inn\, Bromsgrove
ATTACH;FMTTYPE=image/jpeg:https://hop-pole.com/wp-content/uploads/2022/05/Dr-Cornelious.jpg
END:VEVENT
BEGIN:VEVENT
DTSTART;TZID=Europe/London:20220605T140000
DTEND;TZID=Europe/London:20220605T160000
DTSTAMP:20260426T052403
CREATED:20220530T170725Z
LAST-MODIFIED:20220530T170807Z
UID:717-1654437600-1654444800@hop-pole.com
SUMMARY:Loz Rabone
DESCRIPTION:Acoustic magic in the garden with the fantasic Loz. \nWe are also having a BBQ from 1pm until 6pm. \nAll weather permitting.
URL:https://hop-pole.com/event/loz-rabone/
LOCATION:Hop Pole Inn\, Bromsgrove
ATTACH;FMTTYPE=image/jpeg:https://hop-pole.com/wp-content/uploads/2022/05/Loz.jpg
END:VEVENT
BEGIN:VEVENT
DTSTART;TZID=Europe/London:20220604T200000
DTEND;TZID=Europe/London:20220604T223000
DTSTAMP:20260426T052403
CREATED:20220530T162759Z
LAST-MODIFIED:20220530T162759Z
UID:714-1654372800-1654381800@hop-pole.com
SUMMARY:Krankt
DESCRIPTION:We bring a full range of decades of great rock/metal/grunge covers\, ‘Playing what the rest don’t!’ Kranking the volume up\, and banging out some seriously good\, roof removing rock covers. A true tribute to all the greats we know and love!
URL:https://hop-pole.com/event/krankt/
LOCATION:Hop Pole Inn\, Bromsgrove
ATTACH;FMTTYPE=image/jpeg:https://hop-pole.com/wp-content/uploads/2022/05/krankt.jpg
END:VEVENT
BEGIN:VEVENT
DTSTART;TZID=Europe/London:20220603T200000
DTEND;TZID=Europe/London:20220603T223000
DTSTAMP:20260426T052403
CREATED:20220530T161948Z
LAST-MODIFIED:20220530T162033Z
UID:707-1654286400-1654295400@hop-pole.com
SUMMARY:Rattlesnake Jake
DESCRIPTION:These guys need no introduction. \nRattlesnake Jake are a big part of The Hop Pole family. \n\n\nTake your guests on a musical journey through the sounds of the 50’s\, 60’s and 70’s with Rattlesnake Jake. We are a six piece Soul\, Motown\, Funk and Chicago Blues band hailing from Bewdley\, West midlands.\n\n\n\nOur shows are delivered 100% live and are packed full of songs that you can sing and dance along too all night long\, from James Brown to Al Wilson\, Kool and the gang to Wild Cherry\, Otis Redding to the Blues Brothers\, there really is something for everyone. \nWe work on an audience participation basis and love nothing more than to get in amongst our audience and have as much fun as we can so be prepared to have a good old boogie on the dance floor and a sing song down the mic with us!
URL:https://hop-pole.com/event/rattlesnake-jake-2/
LOCATION:Hop Pole Inn\, Bromsgrove
ATTACH;FMTTYPE=image/jpeg:https://hop-pole.com/wp-content/uploads/2022/01/159504861_127254489400313_5781580221644405916_n.jpg
END:VEVENT
BEGIN:VEVENT
DTSTART;TZID=Europe/London:20220602T200000
DTEND;TZID=Europe/London:20220602T223000
DTSTAMP:20260426T052403
CREATED:20220530T162416Z
LAST-MODIFIED:20220530T162416Z
UID:711-1654200000-1654209000@hop-pole.com
SUMMARY:Hot Foot
DESCRIPTION:Hot Foot have reunited with new members and are returning to The Hop Pole. \nEnjoy yourselves with classic rock covers and welcome the guys back in style.
URL:https://hop-pole.com/event/hot-foot/
LOCATION:Hop Pole Inn\, Bromsgrove
ATTACH;FMTTYPE=image/jpeg:https://hop-pole.com/wp-content/uploads/2022/05/hotfoot.jpg
END:VEVENT
BEGIN:VEVENT
DTSTART;TZID=Europe/London:20220528T200000
DTEND;TZID=Europe/London:20220528T220000
DTSTAMP:20260426T052403
CREATED:20220503T124656Z
LAST-MODIFIED:20220503T124656Z
UID:691-1653768000-1653775200@hop-pole.com
SUMMARY:Ziggy Paul IV
DESCRIPTION:Blues and Classic Rock!
URL:https://hop-pole.com/event/ziggy-paul-iv/
LOCATION:Hop Pole Inn\, Bromsgrove
END:VEVENT
BEGIN:VEVENT
DTSTART;TZID=Europe/London:20220527T200000
DTEND;TZID=Europe/London:20220527T220000
DTSTAMP:20260426T052403
CREATED:20220503T124037Z
LAST-MODIFIED:20220503T124037Z
UID:689-1653681600-1653688800@hop-pole.com
SUMMARY:Behind The Bike Sheds
DESCRIPTION:The ultimate classic 80’s anthems band!\n\n\nBringing the party to a playground near you!
URL:https://hop-pole.com/event/behind-the-bike-sheds-3/
ATTACH;FMTTYPE=image/jpeg:https://hop-pole.com/wp-content/uploads/2022/01/17814303_792525077567457_2778538648761111627_o.jpg
END:VEVENT
BEGIN:VEVENT
DTSTART;TZID=Europe/London:20220521T200000
DTEND;TZID=Europe/London:20220521T220000
DTSTAMP:20260426T052403
CREATED:20220503T123716Z
LAST-MODIFIED:20220503T123716Z
UID:686-1653163200-1653170400@hop-pole.com
SUMMARY:White Tyger
DESCRIPTION:Hard Hitting Rock/Metal Band!
URL:https://hop-pole.com/event/white-tyger/
LOCATION:Hop Pole Inn\, Bromsgrove
ATTACH;FMTTYPE=image/jpeg:https://hop-pole.com/wp-content/uploads/2022/05/277565853_5179514152107336_7932612192011644105_n.jpg
END:VEVENT
BEGIN:VEVENT
DTSTART;TZID=Europe/London:20220520T200000
DTEND;TZID=Europe/London:20220520T220000
DTSTAMP:20260426T052403
CREATED:20220503T123222Z
LAST-MODIFIED:20220503T123222Z
UID:684-1653076800-1653084000@hop-pole.com
SUMMARY:Fabulous Bordellos
DESCRIPTION:Mod Anthems \nThe Fabulous Bordellos provide a full on Mod experience with music from the 60’s to present day.The Who\,Kinks\,Small Faces\,Secret Affair\,Weller and the Jam.
URL:https://hop-pole.com/event/fabulous-bordellos-2/
LOCATION:Hop Pole Inn\, Bromsgrove
ATTACH;FMTTYPE=image/jpeg:https://hop-pole.com/wp-content/uploads/2021/09/bordelos.jpg
END:VEVENT
BEGIN:VEVENT
DTSTART;TZID=Europe/London:20220514T200000
DTEND;TZID=Europe/London:20220514T220000
DTSTAMP:20260426T052403
CREATED:20220503T122828Z
LAST-MODIFIED:20220503T122929Z
UID:680-1652558400-1652565600@hop-pole.com
SUMMARY:The ContraBand
DESCRIPTION:Popular hits\, Soul and Funk!
URL:https://hop-pole.com/event/contraband-2/
LOCATION:Hop Pole Inn\, Bromsgrove
ATTACH;FMTTYPE=image/jpeg:https://hop-pole.com/wp-content/uploads/2021/09/82282816_596977087754126_3729502441658384384_n.jpg
END:VEVENT
BEGIN:VEVENT
DTSTART;TZID=Europe/London:20220513T200000
DTEND;TZID=Europe/London:20220513T220000
DTSTAMP:20260426T052403
CREATED:20220503T121934Z
LAST-MODIFIED:20220503T122023Z
UID:677-1652472000-1652479200@hop-pole.com
SUMMARY:Shine a Light
DESCRIPTION:Rolling Stones Tribute Band! \n  \nTime to pout and strut around like Mick Jagger!
URL:https://hop-pole.com/event/shine-a-light/
LOCATION:Hop Pole Inn\, Bromsgrove
ATTACH;FMTTYPE=image/jpeg:https://hop-pole.com/wp-content/uploads/2022/05/271995570_111640414748663_2174227470503391377_n.jpg
END:VEVENT
BEGIN:VEVENT
DTSTART;TZID=Europe/London:20220507T200000
DTEND;TZID=Europe/London:20220507T220000
DTSTAMP:20260426T052403
CREATED:20220503T120417Z
LAST-MODIFIED:20220503T120417Z
UID:673-1651953600-1651960800@hop-pole.com
SUMMARY:Mother Popcorn
DESCRIPTION:You can only see Mother Popcorn here at the home of live music\, this is the Penultimate Gig! \nRock\, Indie\, Pop and funk!
URL:https://hop-pole.com/event/mother-popcorn-2/
LOCATION:Hop Pole Inn\, Bromsgrove
ATTACH;FMTTYPE=image/jpeg:https://hop-pole.com/wp-content/uploads/2022/05/271137795_5018175141548590_7946350228465814473_n.jpg
END:VEVENT
BEGIN:VEVENT
DTSTART;TZID=Europe/London:20220506T200000
DTEND;TZID=Europe/London:20220506T220000
DTSTAMP:20260426T052403
CREATED:20220503T115856Z
LAST-MODIFIED:20220503T115856Z
UID:671-1651867200-1651874400@hop-pole.com
SUMMARY:Tilt
DESCRIPTION:Classic Rock Covers!
URL:https://hop-pole.com/event/tilt-2/
LOCATION:Hop Pole Inn\, Bromsgrove
END:VEVENT
BEGIN:VEVENT
DTSTART;TZID=Europe/London:20220505T200000
DTEND;TZID=Europe/London:20220505T220000
DTSTAMP:20260426T052403
CREATED:20220503T114421Z
LAST-MODIFIED:20220503T120657Z
UID:666-1651780800-1651788000@hop-pole.com
SUMMARY:Vehicle
DESCRIPTION:Making a grand return to The Hop Pole this Thursday! \n  \nVehicle are a 5 piece professional premier covers band based in Worcestershire. \nCovering 70’s and 80’s Classics!
URL:https://hop-pole.com/event/vehicle/
LOCATION:Hop Pole Inn\, Bromsgrove
ATTACH;FMTTYPE=image/jpeg:https://hop-pole.com/wp-content/uploads/2022/05/274724453_1843262809198596_4313489111116532787_n.jpg
END:VEVENT
BEGIN:VEVENT
DTSTART;TZID=Europe/London:20220430T200000
DTEND;TZID=Europe/London:20220430T220000
DTSTAMP:20260426T052403
CREATED:20220309T145051Z
LAST-MODIFIED:20220415T003145Z
UID:653-1651348800-1651356000@hop-pole.com
SUMMARY:Thirsty Works
DESCRIPTION:Rock Classics
URL:https://hop-pole.com/event/thirsty-works/
LOCATION:Hop Pole Inn\, Bromsgrove
ATTACH;FMTTYPE=image/jpeg:https://hop-pole.com/wp-content/uploads/2022/03/274624107_459011752363611_8593127721428360235_n.jpg
END:VEVENT
BEGIN:VEVENT
DTSTART;TZID=Europe/London:20220429T200000
DTEND;TZID=Europe/London:20220429T220000
DTSTAMP:20260426T052403
CREATED:20220309T144511Z
LAST-MODIFIED:20220415T003118Z
UID:651-1651262400-1651269600@hop-pole.com
SUMMARY:Brass Beatz
DESCRIPTION:Rock with a difference!
URL:https://hop-pole.com/event/brass-beatz/
LOCATION:Hop Pole Inn\, Bromsgrove
ATTACH;FMTTYPE=image/jpeg:https://hop-pole.com/wp-content/uploads/2022/01/239300663_1229469620849484_3272707124784996882_n.jpg
END:VEVENT
BEGIN:VEVENT
DTSTART;TZID=Europe/London:20220423T200000
DTEND;TZID=Europe/London:20220423T220000
DTSTAMP:20260426T052403
CREATED:20220309T144350Z
LAST-MODIFIED:20220415T003054Z
UID:649-1650744000-1650751200@hop-pole.com
SUMMARY:Jack Read and The Shaders
DESCRIPTION:It’s St Georges Day\, we’re celebrating with Jack Read and The Shaders. \n 
URL:https://hop-pole.com/event/jack-read-and-the-shaders-2/
LOCATION:Hop Pole Inn\, Bromsgrove
END:VEVENT
BEGIN:VEVENT
DTSTART;TZID=Europe/London:20220422T200000
DTEND;TZID=Europe/London:20220422T220000
DTSTAMP:20260426T052403
CREATED:20220309T143824Z
LAST-MODIFIED:20220415T003016Z
UID:647-1650657600-1650664800@hop-pole.com
SUMMARY:After Party Band
DESCRIPTION:Performing party hits from across the decades\, the band are sure to keep you on the dance floor all night long.
URL:https://hop-pole.com/event/after-party-band-2/
LOCATION:Hop Pole Inn\, Bromsgrove
END:VEVENT
BEGIN:VEVENT
DTSTART;TZID=Europe/London:20220416T200000
DTEND;TZID=Europe/London:20220416T220000
DTSTAMP:20260426T052403
CREATED:20220309T143641Z
LAST-MODIFIED:20220415T002936Z
UID:645-1650139200-1650146400@hop-pole.com
SUMMARY:77
DESCRIPTION:We are a covers band covering new wave/punk/alternative
URL:https://hop-pole.com/event/77-2/
LOCATION:Hop Pole Inn\, Bromsgrove
ATTACH;FMTTYPE=image/jpeg:https://hop-pole.com/wp-content/uploads/2021/09/550180_514117351932290_1462558045_n.jpg
END:VEVENT
BEGIN:VEVENT
DTSTART;TZID=Europe/London:20220415T200000
DTEND;TZID=Europe/London:20220415T220000
DTSTAMP:20260426T052403
CREATED:20220309T143535Z
LAST-MODIFIED:20220415T002839Z
UID:642-1650052800-1650060000@hop-pole.com
SUMMARY:Trigger
DESCRIPTION:‘Trigger’ are a high-quality 6-piece rock covers act based in the West Midlands UK\, where our mission is to provide the full ‘stadium rock’ experience\, delivering the excitement\, biggest hits\, and stage show associated with arena rock.
URL:https://hop-pole.com/event/trigger/
LOCATION:Hop Pole Inn\, Bromsgrove
END:VEVENT
BEGIN:VEVENT
DTSTART;TZID=Europe/London:20220414T220000
DTEND;TZID=Europe/London:20220415T000000
DTSTAMP:20260426T052403
CREATED:20220309T143358Z
LAST-MODIFIED:20220309T143358Z
UID:640-1649973600-1649980800@hop-pole.com
SUMMARY:GunRunners
DESCRIPTION:Classic Rock
URL:https://hop-pole.com/event/gunrunners/
LOCATION:Hop Pole Inn\, Bromsgrove
END:VEVENT
BEGIN:VEVENT
DTSTART;TZID=Europe/London:20220409T220000
DTEND;TZID=Europe/London:20220410T000000
DTSTAMP:20260426T052403
CREATED:20220309T143051Z
LAST-MODIFIED:20220309T143051Z
UID:638-1649541600-1649548800@hop-pole.com
SUMMARY:Vaseline
DESCRIPTION:When all the moons align & ex members of bands join forces…well it becomes Vaseline!!\nStereogram\, The Sordid Details\, Tommy Gun & Skabucks are all to blame for this gathering! We will be playing all out fave tunes we were dragged up on & maybe a few others were dragged up on…..but what IS guaranteed is a stonking night out with a few beers & some ridiculous fun & humour ‘COMPOST CORNER!’
URL:https://hop-pole.com/event/vaseline-2/
LOCATION:Hop Pole Inn\, Bromsgrove
END:VEVENT
BEGIN:VEVENT
DTSTART;TZID=Europe/London:20220408T220000
DTEND;TZID=Europe/London:20220409T000000
DTSTAMP:20260426T052403
CREATED:20220309T142854Z
LAST-MODIFIED:20220309T142854Z
UID:636-1649455200-1649462400@hop-pole.com
SUMMARY:Melvin Hancox
DESCRIPTION:Blues and Rock
URL:https://hop-pole.com/event/melvin-hancox/
LOCATION:Hop Pole Inn\, Bromsgrove
END:VEVENT
BEGIN:VEVENT
DTSTART;TZID=Europe/London:20220402T220000
DTEND;TZID=Europe/London:20220403T000000
DTSTAMP:20260426T052403
CREATED:20220309T142735Z
LAST-MODIFIED:20220309T142749Z
UID:632-1648936800-1648944000@hop-pole.com
SUMMARY:Satchel Paige
DESCRIPTION:Satchel Paige are a cover band from Worcestershire\, born from the glow of electric heaters in a Callow End barn. You’ll find no Steppenwolf here. With many years of live experience\, we’re professional and reliable. \nIndie\, Pop and Rock Covers
URL:https://hop-pole.com/event/satchel-page/
LOCATION:Hop Pole Inn\, Bromsgrove
END:VEVENT
BEGIN:VEVENT
DTSTART;TZID=Europe/London:20220401T220000
DTEND;TZID=Europe/London:20220402T000000
DTSTAMP:20260426T052403
CREATED:20220309T142456Z
LAST-MODIFIED:20220309T142456Z
UID:630-1648850400-1648857600@hop-pole.com
SUMMARY:Free Spirit Sounds
DESCRIPTION:Classic Rock Covers
URL:https://hop-pole.com/event/free-spirit-sounds-2/
LOCATION:Hop Pole Inn\, Bromsgrove
ATTACH;FMTTYPE=image/jpeg:https://hop-pole.com/wp-content/uploads/2021/10/FSS.jpg
END:VEVENT
BEGIN:VEVENT
DTSTART;TZID=Europe/London:20220326T210000
DTEND;TZID=Europe/London:20220326T230000
DTSTAMP:20260426T052403
CREATED:20220302T202258Z
LAST-MODIFIED:20220302T202258Z
UID:625-1648328400-1648335600@hop-pole.com
SUMMARY:VaXXine
DESCRIPTION:Rock Covers from 70s to 90 Metal Including skid row\, Ozzy Osbourne\, Motley Crue\, Dio\,Megadeth\,Kiss\, Judas Priest and more\, plus Original Songs.
URL:https://hop-pole.com/event/vaxxine/
LOCATION:Hop Pole Inn\, Bromsgrove
END:VEVENT
BEGIN:VEVENT
DTSTART;TZID=Europe/London:20220325T210000
DTEND;TZID=Europe/London:20220325T230000
DTSTAMP:20260426T052403
CREATED:20220302T201935Z
LAST-MODIFIED:20220302T201935Z
UID:622-1648242000-1648249200@hop-pole.com
SUMMARY:Hot Space
DESCRIPTION:Bringing you a night of the greatest hits of Queen!\nNo wigs or moustache\, just pure epic music that everyone loves.\nBased in Redditch\, West Midlands
URL:https://hop-pole.com/event/hot-space/
LOCATION:Hop Pole Inn\, Bromsgrove
ATTACH;FMTTYPE=image/jpeg:https://hop-pole.com/wp-content/uploads/2022/03/269582246_456261685958716_791766087231097571_n.jpg
END:VEVENT
END:VCALENDAR