BEGIN:VCALENDAR
VERSION:2.0
PRODID:-//The Hop Pole Inn - ECPv6.15.20//NONSGML v1.0//EN
CALSCALE:GREGORIAN
METHOD:PUBLISH
X-WR-CALNAME:The Hop Pole Inn
X-ORIGINAL-URL:https://hop-pole.com
X-WR-CALDESC:Events for The Hop Pole Inn
REFRESH-INTERVAL;VALUE=DURATION:PT1H
X-Robots-Tag:noindex
X-PUBLISHED-TTL:PT1H
BEGIN:VTIMEZONE
TZID:Europe/London
BEGIN:DAYLIGHT
TZOFFSETFROM:+0000
TZOFFSETTO:+0100
TZNAME:BST
DTSTART:20210328T010000
END:DAYLIGHT
BEGIN:STANDARD
TZOFFSETFROM:+0100
TZOFFSETTO:+0000
TZNAME:GMT
DTSTART:20211031T010000
END:STANDARD
BEGIN:DAYLIGHT
TZOFFSETFROM:+0000
TZOFFSETTO:+0100
TZNAME:BST
DTSTART:20220327T010000
END:DAYLIGHT
BEGIN:STANDARD
TZOFFSETFROM:+0100
TZOFFSETTO:+0000
TZNAME:GMT
DTSTART:20221030T010000
END:STANDARD
BEGIN:DAYLIGHT
TZOFFSETFROM:+0000
TZOFFSETTO:+0100
TZNAME:BST
DTSTART:20230326T010000
END:DAYLIGHT
BEGIN:STANDARD
TZOFFSETFROM:+0100
TZOFFSETTO:+0000
TZNAME:GMT
DTSTART:20231029T010000
END:STANDARD
END:VTIMEZONE
BEGIN:VEVENT
DTSTART;TZID=Europe/London:20220813T200000
DTEND;TZID=Europe/London:20220813T223000
DTSTAMP:20260426T050320
CREATED:20220619T193353Z
LAST-MODIFIED:20220619T193353Z
UID:783-1660420800-1660429800@hop-pole.com
SUMMARY:The Reflections
DESCRIPTION:The Reflections have been around for over twenty years playing all types of music but now concentrate on playing our shared passion….the 1960’s!!!
URL:https://hop-pole.com/event/the-reflections-3/
LOCATION:Hop Pole Inn\, Bromsgrove
ATTACH;FMTTYPE=image/jpeg:https://hop-pole.com/wp-content/uploads/2021/08/reflections.jpg
END:VEVENT
BEGIN:VEVENT
DTSTART;TZID=Europe/London:20220812T200000
DTEND;TZID=Europe/London:20220812T223000
DTSTAMP:20260426T050320
CREATED:20220619T184455Z
LAST-MODIFIED:20220619T184455Z
UID:781-1660334400-1660343400@hop-pole.com
SUMMARY:Jack Read and The Shaders
DESCRIPTION:Local band playing classic covers with a smattering of original songs\, available on their new album AVERAGE ENGLISH STREET available now at all major online music retailers.
URL:https://hop-pole.com/event/jack-read-and-the-shaders-3/
LOCATION:Hop Pole Inn\, Bromsgrove
END:VEVENT
BEGIN:VEVENT
DTSTART;TZID=Europe/London:20220811T200000
DTEND;TZID=Europe/London:20220811T223000
DTSTAMP:20260426T050320
CREATED:20220619T183916Z
LAST-MODIFIED:20220619T183916Z
UID:778-1660248000-1660257000@hop-pole.com
SUMMARY:Lucas D and the Groove Ghetto
DESCRIPTION:6 piece instrumental Acid Jazz Outfit playing eclectic tunes from the 60/70s right up to contemporary jazz funk. Performed by Birmingham’s best musicians\, and joined by vocalists Cat Davis and Rachel Perry!
URL:https://hop-pole.com/event/lucas-d-and-the-groove-ghetto-2/
LOCATION:Hop Pole Inn\, Bromsgrove
ATTACH;FMTTYPE=image/jpeg:https://hop-pole.com/wp-content/uploads/2022/06/400077_483538218354407_816055488_n-1.jpg
END:VEVENT
BEGIN:VEVENT
DTSTART;TZID=Europe/London:20220806T200000
DTEND;TZID=Europe/London:20220806T223000
DTSTAMP:20260426T050320
CREATED:20220619T183510Z
LAST-MODIFIED:20220619T183510Z
UID:775-1659816000-1659825000@hop-pole.com
SUMMARY:Thirsty Works
DESCRIPTION:4 piece Classic Rock Band with ex members of Quill\, Pure Instinct\, Alvin Stardust band
URL:https://hop-pole.com/event/thirsty-works-2/
LOCATION:Hop Pole Inn\, Bromsgrove
ATTACH;FMTTYPE=image/jpeg:https://hop-pole.com/wp-content/uploads/2022/06/287166453_531096378488481_5473589002640019278_n.jpg
END:VEVENT
BEGIN:VEVENT
DTSTART;TZID=Europe/London:20220805T200000
DTEND;TZID=Europe/London:20220805T223000
DTSTAMP:20260426T050320
CREATED:20220619T182432Z
LAST-MODIFIED:20220619T182432Z
UID:773-1659729600-1659738600@hop-pole.com
SUMMARY:Uncle Jim
DESCRIPTION:providing a heady brew of some awesomely off the wall rock covers.
URL:https://hop-pole.com/event/uncle-jim-2/
LOCATION:Hop Pole Inn\, Bromsgrove
END:VEVENT
BEGIN:VEVENT
DTSTART;TZID=Europe/London:20220730T200000
DTEND;TZID=Europe/London:20220730T223000
DTSTAMP:20260426T050320
CREATED:20220619T182155Z
LAST-MODIFIED:20220619T182155Z
UID:771-1659211200-1659220200@hop-pole.com
SUMMARY:The Works
DESCRIPTION:70’s – 80’s – 90’s – 00’s cover band
URL:https://hop-pole.com/event/the-works-3/
LOCATION:Hop Pole Inn\, Bromsgrove
ATTACH;FMTTYPE=image/jpeg:https://hop-pole.com/wp-content/uploads/2021/08/23843659_1703096786398980_2226044954476526904_n.jpg
END:VEVENT
BEGIN:VEVENT
DTSTART;TZID=Europe/London:20220729T200000
DTEND;TZID=Europe/London:20220729T223000
DTSTAMP:20260426T050320
CREATED:20220619T181318Z
LAST-MODIFIED:20220619T181318Z
UID:768-1659124800-1659133800@hop-pole.com
SUMMARY:Bang on the Ear
DESCRIPTION:‘Bang On The Ear’ specialise in up beat traditional & contemporary Irish/Celtic Folk Rock songs and tunes\, along with many popular favourites ranging from the Beatles to classic Rock ‘n’ Roll\, Blues\, contemporary Pop Rock & more.\nFoot stomping good times will be had by all…
URL:https://hop-pole.com/event/bang-on-the-ear-3/
LOCATION:Hop Pole Inn\, Bromsgrove
ATTACH;FMTTYPE=image/jpeg:https://hop-pole.com/wp-content/uploads/2022/06/288304661_8019018094782957_4952371278950620640_n.jpg
END:VEVENT
BEGIN:VEVENT
DTSTART;TZID=Europe/London:20220728T200000
DTEND;TZID=Europe/London:20220728T223000
DTSTAMP:20260426T050320
CREATED:20220619T181007Z
LAST-MODIFIED:20220619T181007Z
UID:765-1659038400-1659047400@hop-pole.com
SUMMARY:Common People
DESCRIPTION:Britpop Tribute Act – #ReliveThe90s with our totally live show dedicated to the music of Oasis\, Blur\, Pulp and many\, many more…
URL:https://hop-pole.com/event/common-people-3/
LOCATION:Hop Pole Inn\, Bromsgrove
ATTACH;FMTTYPE=image/png:https://hop-pole.com/wp-content/uploads/2022/06/23659414_1498840666878766_8940637037064229388_n.png
END:VEVENT
BEGIN:VEVENT
DTSTART;TZID=Europe/London:20220723T200000
DTEND;TZID=Europe/London:20220723T223000
DTSTAMP:20260426T050320
CREATED:20220619T180709Z
LAST-MODIFIED:20220619T180709Z
UID:763-1658606400-1658615400@hop-pole.com
SUMMARY:Behind The Bike Sheds
DESCRIPTION:The ultimate classic 80’s anthems band!\n\n\nBringing the party to a playground near you!
URL:https://hop-pole.com/event/behind-the-bike-sheds-4/
LOCATION:Hop Pole Inn\, Bromsgrove
ATTACH;FMTTYPE=image/jpeg:https://hop-pole.com/wp-content/uploads/2022/01/17814303_792525077567457_2778538648761111627_o.jpg
END:VEVENT
BEGIN:VEVENT
DTSTART;TZID=Europe/London:20220722T200000
DTEND;TZID=Europe/London:20220722T223000
DTSTAMP:20260426T050320
CREATED:20220619T180431Z
LAST-MODIFIED:20220619T180431Z
UID:761-1658520000-1658529000@hop-pole.com
SUMMARY:The Quo - aka - The 4 Rossis
DESCRIPTION:A tribute to the music of Status Quo (1969 to 1977) played with energy\, enthusiasm and humour.
URL:https://hop-pole.com/event/the-quo-aka-the-4-rossis/
LOCATION:Hop Pole Inn\, Bromsgrove
ATTACH;FMTTYPE=image/png:https://hop-pole.com/wp-content/uploads/2021/09/23270256_183194235569782_7091234728435292698_o.png
END:VEVENT
BEGIN:VEVENT
DTSTART;TZID=Europe/London:20220716T200000
DTEND;TZID=Europe/London:20220716T223000
DTSTAMP:20260426T050320
CREATED:20220619T143731Z
LAST-MODIFIED:20220619T143731Z
UID:759-1658001600-1658010600@hop-pole.com
SUMMARY:Split Second
DESCRIPTION:
URL:https://hop-pole.com/event/split-second/
LOCATION:Hop Pole Inn\, Bromsgrove
END:VEVENT
BEGIN:VEVENT
DTSTART;TZID=Europe/London:20220715T200000
DTEND;TZID=Europe/London:20220715T223000
DTSTAMP:20260426T050320
CREATED:20220619T141801Z
LAST-MODIFIED:20220619T142308Z
UID:755-1657915200-1657924200@hop-pole.com
SUMMARY:After Party Band
DESCRIPTION:Performing party hits from across the decades\, the band are sure to keep you on the dance floor all night long.
URL:https://hop-pole.com/event/after-party-band-3/
LOCATION:Hop Pole Inn\, Bromsgrove
END:VEVENT
BEGIN:VEVENT
DTSTART;TZID=Europe/London:20220709T200000
DTEND;TZID=Europe/London:20220709T223000
DTSTAMP:20260426T050320
CREATED:20220619T141304Z
LAST-MODIFIED:20220619T141304Z
UID:753-1657396800-1657405800@hop-pole.com
SUMMARY:Vaseline
DESCRIPTION:When all the moons align & ex members of bands join forces…well it becomes Vaseline!! Stereogram\, The Sordid Details\, Tommy Gun & Skabucks are all to blame for this gathering! We will be playing all out fave tunes we were dragged up on & maybe a few others were dragged up on…..but what IS guaranteed is a stonking night out with a few beers & some ridiculous fun & humour ‘COMPOST CORNER!’
URL:https://hop-pole.com/event/vaseline-3/
LOCATION:Hop Pole Inn\, Bromsgrove
END:VEVENT
BEGIN:VEVENT
DTSTART;TZID=Europe/London:20220708T200000
DTEND;TZID=Europe/London:20220708T223000
DTSTAMP:20260426T050320
CREATED:20220619T140845Z
LAST-MODIFIED:20220619T143927Z
UID:751-1657310400-1657319400@hop-pole.com
SUMMARY:CADA
DESCRIPTION:CaDa – Mixing the rough with the smooth\, a four piece Rock band that will lull you into a false sense of security with a bit of acoustic Coldplay\, Stereophonics and Paul Weller before hitting you hard in the face with ZZ Top\, AC/DC and everyone’s favorite Motorhead classic.\n\n\nIf Classic rock isn’t your thing\, Indie is also on the menu in the form of Arctic Monkeys\, Oasis and Blur to name but a few.\n\n\nWe also cater for the more mature audience who can sing along to the likes of Chris Isaac\, The Kinks\, The Cure\, Beastie Boys or maybe even Billy Idol..\n\n\nFavourites like Sexy and I know it\, summer of 69 and Sex on Fire are all part of the package… I probably shouldn’t include Gay Bar within these songs.
URL:https://hop-pole.com/event/cada-3/
LOCATION:Hop Pole Inn\, Bromsgrove
END:VEVENT
BEGIN:VEVENT
DTSTART;TZID=Europe/London:20220702T200000
DTEND;TZID=Europe/London:20220702T223000
DTSTAMP:20260426T050320
CREATED:20220619T140607Z
LAST-MODIFIED:20220619T140607Z
UID:749-1656792000-1656801000@hop-pole.com
SUMMARY:Push 2 Play
DESCRIPTION:
URL:https://hop-pole.com/event/push-2-play/
LOCATION:Hop Pole Inn\, Bromsgrove
END:VEVENT
BEGIN:VEVENT
DTSTART;TZID=Europe/London:20220701T200000
DTEND;TZID=Europe/London:20220701T223000
DTSTAMP:20260426T050320
CREATED:20220619T131409Z
LAST-MODIFIED:20220619T131409Z
UID:747-1656705600-1656714600@hop-pole.com
SUMMARY:VaXXine
DESCRIPTION:Rock Covers from 70s to 90 Metal Including skid row\, Ozzy Osbourne\, Motley Crue\, Dio\,Megadeth\,Kiss\, Judas Priest and more\, plus Original Songs.
URL:https://hop-pole.com/event/vaxxine-2/
LOCATION:Hop Pole Inn\, Bromsgrove
END:VEVENT
BEGIN:VEVENT
DTSTART;TZID=Europe/London:20220625T200000
DTEND;TZID=Europe/London:20220625T223000
DTSTAMP:20260426T050320
CREATED:20220602T131531Z
LAST-MODIFIED:20220602T131531Z
UID:738-1656187200-1656196200@hop-pole.com
SUMMARY:Mister Wolf
DESCRIPTION:Mister Wolf were formed in 2010 playing an electic mix of old and new Rock and Blues numbers. Rather than being just another covers band\, Mister Wolf set out to play a lot of numbers that other bands didn`t. The band often have people from the audience say “I haven`t heard that one for ages” Just like the Wishbone Ash number “Blowin` Free” A classic in the bands set list. Mister Wolf have been gaining a following through their energy and musicianship ever since their first gig. Both guitarist Rob Bowld\, and lead guitarist John Rodgers provide lead vocals\, followed by a tight rhythm section\, Dave Wiggins on bass and Simon Picken on drums\, the backbone of the band. Mister Wolf have there own 2K PA rig and lighting. 4 guys who enjoy their Rock and Blues. ” Rock `n` Blues at it`s best……”
URL:https://hop-pole.com/event/mister-wolf-2/
LOCATION:Hop Pole Inn\, Bromsgrove
ATTACH;FMTTYPE=image/jpeg:https://hop-pole.com/wp-content/uploads/2021/10/mr-wolf.jpg
END:VEVENT
BEGIN:VEVENT
DTSTART;TZID=Europe/London:20220624T200000
DTEND;TZID=Europe/London:20220624T223000
DTSTAMP:20260426T050320
CREATED:20220602T130103Z
LAST-MODIFIED:20220602T130103Z
UID:736-1656100800-1656109800@hop-pole.com
SUMMARY:Legend
DESCRIPTION:Legend are a true classic rock covers band. Covering all time favourites and the not so well known songs from well known artists and doing it ‘Legend’s way’
URL:https://hop-pole.com/event/legend-3/
LOCATION:Hop Pole Inn\, Bromsgrove
ATTACH;FMTTYPE=image/jpeg:https://hop-pole.com/wp-content/uploads/2021/10/legend.jpg
END:VEVENT
BEGIN:VEVENT
DTSTART;TZID=Europe/London:20220618T200000
DTEND;TZID=Europe/London:20220618T223000
DTSTAMP:20260426T050320
CREATED:20220602T125633Z
LAST-MODIFIED:20220602T125633Z
UID:733-1655582400-1655591400@hop-pole.com
SUMMARY:Bosted Jukebox
DESCRIPTION:Returning to The Hop after time away\, Bosted Jukebox\, FKA Planet Rock UK. \nPlay classic rockand pop hits you know but have forgotten about.
URL:https://hop-pole.com/event/bosted-jukebox/
LOCATION:Hop Pole Inn\, Bromsgrove
ATTACH;FMTTYPE=image/jpeg:https://hop-pole.com/wp-content/uploads/2022/06/bosted-jukebox.jpg
END:VEVENT
BEGIN:VEVENT
DTSTART;TZID=Europe/London:20220617T200000
DTEND;TZID=Europe/London:20220617T223000
DTSTAMP:20260426T050320
CREATED:20220530T182406Z
LAST-MODIFIED:20220530T182406Z
UID:729-1655496000-1655505000@hop-pole.com
SUMMARY:Essential 80's
DESCRIPTION:Take a step back in time to the best era of music \n80’s classic hits that you can sing and dance along too. \nFancy Dress Competition\, judged by the guys with a bottle of prosecco for the winner.
URL:https://hop-pole.com/event/essential-80s-2/
LOCATION:Hop Pole Inn\, Bromsgrove
ATTACH;FMTTYPE=image/jpeg:https://hop-pole.com/wp-content/uploads/2021/08/80s.jpg
END:VEVENT
BEGIN:VEVENT
DTSTART;TZID=Europe/London:20220611T200000
DTEND;TZID=Europe/London:20220611T223000
DTSTAMP:20260426T050320
CREATED:20220530T171841Z
LAST-MODIFIED:20220530T174457Z
UID:727-1654977600-1654986600@hop-pole.com
SUMMARY:Thunder Daze
DESCRIPTION:Guitar driven classic and modern blues/rock covers band with a twist of American West Coast Flavour.
URL:https://hop-pole.com/event/thunder-daze-3/
LOCATION:Hop Pole Inn\, Bromsgrove
ATTACH;FMTTYPE=image/jpeg:https://hop-pole.com/wp-content/uploads/2021/09/239643749_233991108732174_2352624766715603431_n.jpg
END:VEVENT
BEGIN:VEVENT
DTSTART;TZID=Europe/London:20220610T200000
DTEND;TZID=Europe/London:20220610T223000
DTSTAMP:20260426T050320
CREATED:20220530T171226Z
LAST-MODIFIED:20220530T171355Z
UID:724-1654891200-1654900200@hop-pole.com
SUMMARY:Doctor Cornelious
DESCRIPTION:Soul\, Funk and Disco \n 
URL:https://hop-pole.com/event/doctor-cornelious/
LOCATION:Hop Pole Inn\, Bromsgrove
ATTACH;FMTTYPE=image/jpeg:https://hop-pole.com/wp-content/uploads/2022/05/Dr-Cornelious.jpg
END:VEVENT
BEGIN:VEVENT
DTSTART;TZID=Europe/London:20220605T140000
DTEND;TZID=Europe/London:20220605T160000
DTSTAMP:20260426T050320
CREATED:20220530T170725Z
LAST-MODIFIED:20220530T170807Z
UID:717-1654437600-1654444800@hop-pole.com
SUMMARY:Loz Rabone
DESCRIPTION:Acoustic magic in the garden with the fantasic Loz. \nWe are also having a BBQ from 1pm until 6pm. \nAll weather permitting.
URL:https://hop-pole.com/event/loz-rabone/
LOCATION:Hop Pole Inn\, Bromsgrove
ATTACH;FMTTYPE=image/jpeg:https://hop-pole.com/wp-content/uploads/2022/05/Loz.jpg
END:VEVENT
BEGIN:VEVENT
DTSTART;TZID=Europe/London:20220604T200000
DTEND;TZID=Europe/London:20220604T223000
DTSTAMP:20260426T050320
CREATED:20220530T162759Z
LAST-MODIFIED:20220530T162759Z
UID:714-1654372800-1654381800@hop-pole.com
SUMMARY:Krankt
DESCRIPTION:We bring a full range of decades of great rock/metal/grunge covers\, ‘Playing what the rest don’t!’ Kranking the volume up\, and banging out some seriously good\, roof removing rock covers. A true tribute to all the greats we know and love!
URL:https://hop-pole.com/event/krankt/
LOCATION:Hop Pole Inn\, Bromsgrove
ATTACH;FMTTYPE=image/jpeg:https://hop-pole.com/wp-content/uploads/2022/05/krankt.jpg
END:VEVENT
BEGIN:VEVENT
DTSTART;TZID=Europe/London:20220603T200000
DTEND;TZID=Europe/London:20220603T223000
DTSTAMP:20260426T050320
CREATED:20220530T161948Z
LAST-MODIFIED:20220530T162033Z
UID:707-1654286400-1654295400@hop-pole.com
SUMMARY:Rattlesnake Jake
DESCRIPTION:These guys need no introduction. \nRattlesnake Jake are a big part of The Hop Pole family. \n\n\nTake your guests on a musical journey through the sounds of the 50’s\, 60’s and 70’s with Rattlesnake Jake. We are a six piece Soul\, Motown\, Funk and Chicago Blues band hailing from Bewdley\, West midlands.\n\n\n\nOur shows are delivered 100% live and are packed full of songs that you can sing and dance along too all night long\, from James Brown to Al Wilson\, Kool and the gang to Wild Cherry\, Otis Redding to the Blues Brothers\, there really is something for everyone. \nWe work on an audience participation basis and love nothing more than to get in amongst our audience and have as much fun as we can so be prepared to have a good old boogie on the dance floor and a sing song down the mic with us!
URL:https://hop-pole.com/event/rattlesnake-jake-2/
LOCATION:Hop Pole Inn\, Bromsgrove
ATTACH;FMTTYPE=image/jpeg:https://hop-pole.com/wp-content/uploads/2022/01/159504861_127254489400313_5781580221644405916_n.jpg
END:VEVENT
BEGIN:VEVENT
DTSTART;TZID=Europe/London:20220602T200000
DTEND;TZID=Europe/London:20220602T223000
DTSTAMP:20260426T050320
CREATED:20220530T162416Z
LAST-MODIFIED:20220530T162416Z
UID:711-1654200000-1654209000@hop-pole.com
SUMMARY:Hot Foot
DESCRIPTION:Hot Foot have reunited with new members and are returning to The Hop Pole. \nEnjoy yourselves with classic rock covers and welcome the guys back in style.
URL:https://hop-pole.com/event/hot-foot/
LOCATION:Hop Pole Inn\, Bromsgrove
ATTACH;FMTTYPE=image/jpeg:https://hop-pole.com/wp-content/uploads/2022/05/hotfoot.jpg
END:VEVENT
BEGIN:VEVENT
DTSTART;TZID=Europe/London:20220528T200000
DTEND;TZID=Europe/London:20220528T220000
DTSTAMP:20260426T050320
CREATED:20220503T124656Z
LAST-MODIFIED:20220503T124656Z
UID:691-1653768000-1653775200@hop-pole.com
SUMMARY:Ziggy Paul IV
DESCRIPTION:Blues and Classic Rock!
URL:https://hop-pole.com/event/ziggy-paul-iv/
LOCATION:Hop Pole Inn\, Bromsgrove
END:VEVENT
BEGIN:VEVENT
DTSTART;TZID=Europe/London:20220527T200000
DTEND;TZID=Europe/London:20220527T220000
DTSTAMP:20260426T050320
CREATED:20220503T124037Z
LAST-MODIFIED:20220503T124037Z
UID:689-1653681600-1653688800@hop-pole.com
SUMMARY:Behind The Bike Sheds
DESCRIPTION:The ultimate classic 80’s anthems band!\n\n\nBringing the party to a playground near you!
URL:https://hop-pole.com/event/behind-the-bike-sheds-3/
ATTACH;FMTTYPE=image/jpeg:https://hop-pole.com/wp-content/uploads/2022/01/17814303_792525077567457_2778538648761111627_o.jpg
END:VEVENT
BEGIN:VEVENT
DTSTART;TZID=Europe/London:20220521T200000
DTEND;TZID=Europe/London:20220521T220000
DTSTAMP:20260426T050320
CREATED:20220503T123716Z
LAST-MODIFIED:20220503T123716Z
UID:686-1653163200-1653170400@hop-pole.com
SUMMARY:White Tyger
DESCRIPTION:Hard Hitting Rock/Metal Band!
URL:https://hop-pole.com/event/white-tyger/
LOCATION:Hop Pole Inn\, Bromsgrove
ATTACH;FMTTYPE=image/jpeg:https://hop-pole.com/wp-content/uploads/2022/05/277565853_5179514152107336_7932612192011644105_n.jpg
END:VEVENT
BEGIN:VEVENT
DTSTART;TZID=Europe/London:20220520T200000
DTEND;TZID=Europe/London:20220520T220000
DTSTAMP:20260426T050320
CREATED:20220503T123222Z
LAST-MODIFIED:20220503T123222Z
UID:684-1653076800-1653084000@hop-pole.com
SUMMARY:Fabulous Bordellos
DESCRIPTION:Mod Anthems \nThe Fabulous Bordellos provide a full on Mod experience with music from the 60’s to present day.The Who\,Kinks\,Small Faces\,Secret Affair\,Weller and the Jam.
URL:https://hop-pole.com/event/fabulous-bordellos-2/
LOCATION:Hop Pole Inn\, Bromsgrove
ATTACH;FMTTYPE=image/jpeg:https://hop-pole.com/wp-content/uploads/2021/09/bordelos.jpg
END:VEVENT
END:VCALENDAR