BEGIN:VCALENDAR
VERSION:2.0
PRODID:-//The Hop Pole Inn - ECPv6.15.20//NONSGML v1.0//EN
CALSCALE:GREGORIAN
METHOD:PUBLISH
X-WR-CALNAME:The Hop Pole Inn
X-ORIGINAL-URL:https://hop-pole.com
X-WR-CALDESC:Events for The Hop Pole Inn
REFRESH-INTERVAL;VALUE=DURATION:PT1H
X-Robots-Tag:noindex
X-PUBLISHED-TTL:PT1H
BEGIN:VTIMEZONE
TZID:Europe/London
BEGIN:DAYLIGHT
TZOFFSETFROM:+0000
TZOFFSETTO:+0100
TZNAME:BST
DTSTART:20240331T010000
END:DAYLIGHT
BEGIN:STANDARD
TZOFFSETFROM:+0100
TZOFFSETTO:+0000
TZNAME:GMT
DTSTART:20241027T010000
END:STANDARD
BEGIN:DAYLIGHT
TZOFFSETFROM:+0000
TZOFFSETTO:+0100
TZNAME:BST
DTSTART:20250330T010000
END:DAYLIGHT
BEGIN:STANDARD
TZOFFSETFROM:+0100
TZOFFSETTO:+0000
TZNAME:GMT
DTSTART:20251026T010000
END:STANDARD
BEGIN:DAYLIGHT
TZOFFSETFROM:+0000
TZOFFSETTO:+0100
TZNAME:BST
DTSTART:20260329T010000
END:DAYLIGHT
BEGIN:STANDARD
TZOFFSETFROM:+0100
TZOFFSETTO:+0000
TZNAME:GMT
DTSTART:20261025T010000
END:STANDARD
END:VTIMEZONE
BEGIN:VEVENT
DTSTART;TZID=Europe/London:20251108T210000
DTEND;TZID=Europe/London:20251108T233000
DTSTAMP:20260424T113420
CREATED:20251029T135226Z
LAST-MODIFIED:20251029T135226Z
UID:1934-1762635600-1762644600@hop-pole.com
SUMMARY:CADA
DESCRIPTION:If you want Rock – you got it!!
URL:https://hop-pole.com/event/cada-11/
LOCATION:Hop Pole Inn\, Bromsgrove
ATTACH;FMTTYPE=image/jpeg:https://hop-pole.com/wp-content/uploads/2024/10/465376045_1189023136118301_5756699499110481262_n.jpg
END:VEVENT
BEGIN:VEVENT
DTSTART;TZID=Europe/London:20251107T210000
DTEND;TZID=Europe/London:20251107T233000
DTSTAMP:20260424T113420
CREATED:20251029T135116Z
LAST-MODIFIED:20251029T135116Z
UID:1932-1762549200-1762558200@hop-pole.com
SUMMARY:Black Country All Skas
DESCRIPTION:The Midlands best Ska\, 2Tone and Reggae Band
URL:https://hop-pole.com/event/black-country-all-skas-3/
LOCATION:Hop Pole Inn\, Bromsgrove
ATTACH;FMTTYPE=image/jpeg:https://hop-pole.com/wp-content/uploads/2025/04/464686817_122195156792035051_1555521002277662135_n.jpg
END:VEVENT
BEGIN:VEVENT
DTSTART;TZID=Europe/London:20251101T210000
DTEND;TZID=Europe/London:20251101T233000
DTSTAMP:20260424T113420
CREATED:20251029T134743Z
LAST-MODIFIED:20251029T134743Z
UID:1930-1762030800-1762039800@hop-pole.com
SUMMARY:Blowfish Kiss
DESCRIPTION:4 piece high energy rock band covering artists like Audioslave SOAD Queen Anastasia Dio Van Halen 😀
URL:https://hop-pole.com/event/blowfish-kiss-2/
LOCATION:Hop Pole Inn\, Bromsgrove
ATTACH;FMTTYPE=image/jpeg:https://hop-pole.com/wp-content/uploads/2025/07/BFKiss.jpg
END:VEVENT
BEGIN:VEVENT
DTSTART;TZID=Europe/London:20251031T210000
DTEND;TZID=Europe/London:20251031T233000
DTSTAMP:20260424T113420
CREATED:20250824T120022Z
LAST-MODIFIED:20250824T120022Z
UID:1895-1761944400-1761953400@hop-pole.com
SUMMARY:4 Men Called Bob
DESCRIPTION:3 piece band\, no ones called Bob and there are only 3 of us\, don’t ask!
URL:https://hop-pole.com/event/4-men-called-bob/
LOCATION:Hop Pole Inn\, Bromsgrove
ATTACH;FMTTYPE=image/jpeg:https://hop-pole.com/wp-content/uploads/2025/08/4mcb.jpg
END:VEVENT
BEGIN:VEVENT
DTSTART;TZID=Europe/London:20251025T210000
DTEND;TZID=Europe/London:20251025T233000
DTSTAMP:20260424T113420
CREATED:20250824T115829Z
LAST-MODIFIED:20250824T115829Z
UID:1893-1761426000-1761435000@hop-pole.com
SUMMARY:Vehicle
DESCRIPTION:80’s pop n rock
URL:https://hop-pole.com/event/vehicle-10/
LOCATION:Hop Pole Inn\, Bromsgrove
ATTACH;FMTTYPE=image/jpeg:https://hop-pole.com/wp-content/uploads/2025/07/513898701_734681885842746_3265008777355173914_n.jpg
END:VEVENT
BEGIN:VEVENT
DTSTART;TZID=Europe/London:20251024T210000
DTEND;TZID=Europe/London:20251024T233000
DTSTAMP:20260424T113420
CREATED:20250824T115651Z
LAST-MODIFIED:20250824T115651Z
UID:1890-1761339600-1761348600@hop-pole.com
SUMMARY:The Reflections
DESCRIPTION:Taking us back to the swinging 60’s
URL:https://hop-pole.com/event/the-reflections-12/
LOCATION:Hop Pole Inn\, Bromsgrove
ATTACH;FMTTYPE=image/jpeg:https://hop-pole.com/wp-content/uploads/2025/08/Reflectionsnew.jpg
END:VEVENT
BEGIN:VEVENT
DTSTART;TZID=Europe/London:20251018T210000
DTEND;TZID=Europe/London:20251018T233000
DTSTAMP:20260424T113420
CREATED:20250824T115428Z
LAST-MODIFIED:20250824T115428Z
UID:1887-1760821200-1760830200@hop-pole.com
SUMMARY:KrazyLegz
DESCRIPTION:Krazy Rock from a bunch of Krazy ppl for an audience of Krazy ppl.
URL:https://hop-pole.com/event/krazylegz-10/
LOCATION:Hop Pole Inn\, Bromsgrove
ATTACH;FMTTYPE=image/jpeg:https://hop-pole.com/wp-content/uploads/2025/08/KrazyL.jpg
END:VEVENT
BEGIN:VEVENT
DTSTART;TZID=Europe/London:20251017T210000
DTEND;TZID=Europe/London:20251017T233000
DTSTAMP:20260424T113420
CREATED:20250824T115156Z
LAST-MODIFIED:20250824T115156Z
UID:1884-1760734800-1760743800@hop-pole.com
SUMMARY:Brass Beatz
DESCRIPTION:9 piece party band\, with a brass section\, playing classic Motown\, Soul\, Northern Soul with a few surprises! Guaranteed to get you on the dance floor and singing along . 🎵🎵🎵🎵🎵🎵🎵🎵🎵🎵🎵🎵🎵
URL:https://hop-pole.com/event/brass-beatz-9/
LOCATION:Hop Pole Inn\, Bromsgrove
ATTACH;FMTTYPE=image/jpeg:https://hop-pole.com/wp-content/uploads/2025/08/beatz.jpg
END:VEVENT
BEGIN:VEVENT
DTSTART;TZID=Europe/London:20251011T210000
DTEND;TZID=Europe/London:20251011T233000
DTSTAMP:20260424T113420
CREATED:20250824T115004Z
LAST-MODIFIED:20250824T115004Z
UID:1882-1760216400-1760225400@hop-pole.com
SUMMARY:Quo - AKA The 4 Rossis
DESCRIPTION:A tribute to the music of Status Quo (1969 to 1977) played with energy\, enthusiasm and humour.
URL:https://hop-pole.com/event/quo-aka-the-4-rossis-2/
LOCATION:Hop Pole Inn\, Bromsgrove
ATTACH;FMTTYPE=image/png:https://hop-pole.com/wp-content/uploads/2021/09/23270256_183194235569782_7091234728435292698_o.png
END:VEVENT
BEGIN:VEVENT
DTSTART;TZID=Europe/London:20251010T210000
DTEND;TZID=Europe/London:20251010T233000
DTSTAMP:20260424T113420
CREATED:20250824T114805Z
LAST-MODIFIED:20250824T114805Z
UID:1880-1760130000-1760139000@hop-pole.com
SUMMARY:Loz Rabone
DESCRIPTION:solo\, acustic
URL:https://hop-pole.com/event/loz-rabone-9/
LOCATION:Hop Pole Inn\, Bromsgrove
ATTACH;FMTTYPE=image/jpeg:https://hop-pole.com/wp-content/uploads/2022/05/Loz.jpg
END:VEVENT
BEGIN:VEVENT
DTSTART;TZID=Europe/London:20251004T210000
DTEND;TZID=Europe/London:20251004T233000
DTSTAMP:20260424T113420
CREATED:20250824T114609Z
LAST-MODIFIED:20250824T114609Z
UID:1877-1759611600-1759620600@hop-pole.com
SUMMARY:The Core Reggae Band
DESCRIPTION:
URL:https://hop-pole.com/event/the-core-reggae-band-2/
LOCATION:Hop Pole Inn\, Bromsgrove
ATTACH;FMTTYPE=image/jpeg:https://hop-pole.com/wp-content/uploads/2025/08/reggae-band-CORE.jpg
END:VEVENT
BEGIN:VEVENT
DTSTART;TZID=Europe/London:20251003T210000
DTEND;TZID=Europe/London:20251003T233000
DTSTAMP:20260424T113420
CREATED:20250824T114315Z
LAST-MODIFIED:20250824T114315Z
UID:1874-1759525200-1759534200@hop-pole.com
SUMMARY:LucasD and The Groove Ghetto
DESCRIPTION:7 piece Funk/Soul/Acid Jazz outfit playing an eclectic mix of classic hits and groovy floor fillers!
URL:https://hop-pole.com/event/lucasd-and-the-groove-ghetto/
LOCATION:Hop Pole Inn\, Bromsgrove
ATTACH;FMTTYPE=image/jpeg:https://hop-pole.com/wp-content/uploads/2025/08/lucasd.jpg
END:VEVENT
BEGIN:VEVENT
DTSTART;TZID=Europe/London:20250927T210000
DTEND;TZID=Europe/London:20250927T233000
DTSTAMP:20260424T113420
CREATED:20250824T112649Z
LAST-MODIFIED:20250824T112649Z
UID:1868-1759006800-1759015800@hop-pole.com
SUMMARY:Eternity Road
DESCRIPTION:Kick ass rock band from Shropshire fronted by our very own Queen of Darkness 😁
URL:https://hop-pole.com/event/eternity-road-4/
LOCATION:Hop Pole Inn\, Bromsgrove
ATTACH;FMTTYPE=image/jpeg:https://hop-pole.com/wp-content/uploads/2025/08/Eternity-Road-new.jpg
END:VEVENT
BEGIN:VEVENT
DTSTART;TZID=Europe/London:20250926T210000
DTEND;TZID=Europe/London:20250926T233000
DTSTAMP:20260424T113420
CREATED:20250824T112427Z
LAST-MODIFIED:20250824T112427Z
UID:1865-1758920400-1758929400@hop-pole.com
SUMMARY:RJB
DESCRIPTION:Fantastic local band\, need no intrduction. \n 
URL:https://hop-pole.com/event/rjb/
LOCATION:Hop Pole Inn\, Bromsgrove
ATTACH;FMTTYPE=image/jpeg:https://hop-pole.com/wp-content/uploads/2025/08/RJB.jpg
END:VEVENT
BEGIN:VEVENT
DTSTART;TZID=Europe/London:20250920T210000
DTEND;TZID=Europe/London:20250920T233000
DTSTAMP:20260424T113420
CREATED:20250824T112125Z
LAST-MODIFIED:20250824T112125Z
UID:1862-1758402000-1758411000@hop-pole.com
SUMMARY:The Great Cover Up
DESCRIPTION:Covers/Function Band
URL:https://hop-pole.com/event/the-great-cover-up/
LOCATION:Hop Pole Inn\, Bromsgrove
ATTACH;FMTTYPE=image/jpeg:https://hop-pole.com/wp-content/uploads/2025/08/TGCU.jpg
END:VEVENT
BEGIN:VEVENT
DTSTART;TZID=Europe/London:20250919T210000
DTEND;TZID=Europe/London:20250919T233000
DTSTAMP:20260424T113420
CREATED:20250824T111243Z
LAST-MODIFIED:20250824T111243Z
UID:1860-1758315600-1758324600@hop-pole.com
SUMMARY:Common People
DESCRIPTION:Britpop Tribute Act – #ReliveThe90s with our totally live show dedicated to the music of Oasis\, Blur
URL:https://hop-pole.com/event/common-people-11/
LOCATION:Hop Pole Inn\, Bromsgrove
ATTACH;FMTTYPE=image/png:https://hop-pole.com/wp-content/uploads/2022/06/23659414_1498840666878766_8940637037064229388_n.png
END:VEVENT
BEGIN:VEVENT
DTSTART;TZID=Europe/London:20250913T210000
DTEND;TZID=Europe/London:20250913T233000
DTSTAMP:20260424T113420
CREATED:20250824T113557Z
LAST-MODIFIED:20250824T113557Z
UID:1871-1757797200-1757806200@hop-pole.com
SUMMARY:Bang on The Ear
DESCRIPTION:specialise in up beat traditional & contemporary Irish/Celtic Folk Rock songs and tunes\, along with many other popular favourites.
URL:https://hop-pole.com/event/bang-on-the-ear-9/
LOCATION:Hop Pole Inn\, Bromsgrove
ATTACH;FMTTYPE=image/jpeg:https://hop-pole.com/wp-content/uploads/2025/08/bote.jpg
END:VEVENT
BEGIN:VEVENT
DTSTART;TZID=Europe/London:20250912T210000
DTEND;TZID=Europe/London:20250912T233000
DTSTAMP:20260424T113420
CREATED:20250824T110445Z
LAST-MODIFIED:20250824T110445Z
UID:1857-1757710800-1757719800@hop-pole.com
SUMMARY:Dr Cornelious
DESCRIPTION:Soul\, Disco & Dancefloor Classics 🎤💃🕺 Midlands-based live function & party band bringing retro heat & feel-good anthems to parties\, weddings & events across the UK 🪩Your prescription for the perfect party!
URL:https://hop-pole.com/event/dr-cornelious-4/
LOCATION:Hop Pole Inn\, Bromsgrove
ATTACH;FMTTYPE=image/png:https://hop-pole.com/wp-content/uploads/2025/08/Dr-Cornelious-new.png
END:VEVENT
BEGIN:VEVENT
DTSTART;TZID=Europe/London:20250906T210000
DTEND;TZID=Europe/London:20250906T233000
DTSTAMP:20260424T113420
CREATED:20250824T110208Z
LAST-MODIFIED:20250824T110208Z
UID:1855-1757192400-1757201400@hop-pole.com
SUMMARY:Skrood
DESCRIPTION:Old enough to know better\, young enough to do it anyway!Classic rock covers\, ’60s to present\, including Black Sabbath\, Rolling Stones\, Foo Fighters\, Stereophonics\, Cream\, U2\, Muse\, ZZTop\, and many more!
URL:https://hop-pole.com/event/skrood-11/
LOCATION:Hop Pole Inn\, Bromsgrove
ATTACH;FMTTYPE=image/jpeg:https://hop-pole.com/wp-content/uploads/2022/01/66803473_2079338668844549_2254689330243043328_n.jpg
END:VEVENT
BEGIN:VEVENT
DTSTART;TZID=Europe/London:20250905T210000
DTEND;TZID=Europe/London:20250905T233000
DTSTAMP:20260424T113420
CREATED:20250824T105901Z
LAST-MODIFIED:20250824T105901Z
UID:1852-1757106000-1757115000@hop-pole.com
SUMMARY:Poppy Jam
DESCRIPTION:5 piece band with versatile repertoire
URL:https://hop-pole.com/event/poppy-jam/
LOCATION:Hop Pole Inn\, Bromsgrove
ATTACH;FMTTYPE=image/jpeg:https://hop-pole.com/wp-content/uploads/2025/08/PoppyJam.jpg
END:VEVENT
BEGIN:VEVENT
DTSTART;TZID=Europe/London:20250830T210000
DTEND;TZID=Europe/London:20250830T233000
DTSTAMP:20260424T113420
CREATED:20250729T185850Z
LAST-MODIFIED:20250729T185850Z
UID:1840-1756587600-1756596600@hop-pole.com
SUMMARY:Vaseline
DESCRIPTION:Boys and Girls – it’s here\, right now -Vaseline! A Stunning line up of :Spoz\, Mick\, Nige & Rick
URL:https://hop-pole.com/event/vaseline-10/
LOCATION:Hop Pole Inn\, Bromsgrove
ATTACH;FMTTYPE=image/jpeg:https://hop-pole.com/wp-content/uploads/2025/07/508640089_1289189923210730_8076180296613941688_n.jpg
END:VEVENT
BEGIN:VEVENT
DTSTART;TZID=Europe/London:20250829T210000
DTEND;TZID=Europe/London:20250829T233000
DTSTAMP:20260424T113420
CREATED:20250729T185656Z
LAST-MODIFIED:20250729T185656Z
UID:1837-1756501200-1756510200@hop-pole.com
SUMMARY:Project Vintage
DESCRIPTION:Three very competent and experienced musicians delivering classic Rock\, Pop and Vocal harmony
URL:https://hop-pole.com/event/project-vintage-2/
LOCATION:Hop Pole Inn\, Bromsgrove
ATTACH;FMTTYPE=image/jpeg:https://hop-pole.com/wp-content/uploads/2025/07/494721660_1233760138749883_1345287870581284016_n.jpg
END:VEVENT
BEGIN:VEVENT
DTSTART;TZID=Europe/London:20250823T210000
DTEND;TZID=Europe/London:20250823T233000
DTSTAMP:20260424T113420
CREATED:20250729T185441Z
LAST-MODIFIED:20250729T185441Z
UID:1835-1755982800-1755991800@hop-pole.com
SUMMARY:Mister Wolf
DESCRIPTION:classic guitar driven Rock and Blues band. Not just another covers band!
URL:https://hop-pole.com/event/mister-wolf-12/
LOCATION:Hop Pole Inn\, Bromsgrove
ATTACH;FMTTYPE=image/jpeg:https://hop-pole.com/wp-content/uploads/2021/10/mr-wolf.jpg
END:VEVENT
BEGIN:VEVENT
DTSTART;TZID=Europe/London:20250822T210000
DTEND;TZID=Europe/London:20250822T233000
DTSTAMP:20260424T113420
CREATED:20250729T185240Z
LAST-MODIFIED:20250729T185240Z
UID:1832-1755896400-1755905400@hop-pole.com
SUMMARY:Elle Jones and The Giants
DESCRIPTION:The band guaranteed to get you up dancing. Floor fillers & more!
URL:https://hop-pole.com/event/elle-jones-and-the-giants/
LOCATION:Hop Pole Inn\, Bromsgrove
ATTACH;FMTTYPE=image/png:https://hop-pole.com/wp-content/uploads/2025/07/460441352_1149424109924282_3590341061241776769_n.png
END:VEVENT
BEGIN:VEVENT
DTSTART;TZID=Europe/London:20250816T210000
DTEND;TZID=Europe/London:20250816T233000
DTSTAMP:20260424T113420
CREATED:20250729T185054Z
LAST-MODIFIED:20250729T185054Z
UID:1830-1755378000-1755387000@hop-pole.com
SUMMARY:The Contra Band
DESCRIPTION:West Midlands cover band\, playing a range of classic rock and pop songs.
URL:https://hop-pole.com/event/the-contra-band-2/
LOCATION:Hop Pole Inn\, Bromsgrove
END:VEVENT
BEGIN:VEVENT
DTSTART;TZID=Europe/London:20250815T210000
DTEND;TZID=Europe/London:20250815T233000
DTSTAMP:20260424T113420
CREATED:20250729T184916Z
LAST-MODIFIED:20250729T184916Z
UID:1827-1755291600-1755300600@hop-pole.com
SUMMARY:Requiem Infernum
DESCRIPTION:Gothic metalcore covenant forged in fire and shadow. Summoning blasphemous anthems from the abyss\, we are the harbingers of sorrow\, wrath\, and infernal redemption.  \,  .
URL:https://hop-pole.com/event/requiem-infernum/
LOCATION:Hop Pole Inn\, Bromsgrove
END:VEVENT
BEGIN:VEVENT
DTSTART;TZID=Europe/London:20250809T210000
DTEND;TZID=Europe/London:20250809T233000
DTSTAMP:20260424T113420
CREATED:20250729T184709Z
LAST-MODIFIED:20250729T184709Z
UID:1824-1754773200-1754782200@hop-pole.com
SUMMARY:Vehicle
DESCRIPTION:80’s Pop/Rock covers
URL:https://hop-pole.com/event/vehicle-9/
LOCATION:Hop Pole Inn\, Bromsgrove
ATTACH;FMTTYPE=image/jpeg:https://hop-pole.com/wp-content/uploads/2025/07/513898701_734681885842746_3265008777355173914_n.jpg
END:VEVENT
BEGIN:VEVENT
DTSTART;TZID=Europe/London:20250808T210000
DTEND;TZID=Europe/London:20250808T233000
DTSTAMP:20260424T113420
CREATED:20250801T120036Z
LAST-MODIFIED:20250801T120106Z
UID:1844-1754686800-1754695800@hop-pole.com
SUMMARY:Black Country All Skas
DESCRIPTION:The Midlands best Ska\, 2Tone and Reggae Band : ‘Black Country All Skas’
URL:https://hop-pole.com/event/black-country-all-skas-2/
LOCATION:Hop Pole Inn\, Bromsgrove
ATTACH;FMTTYPE=image/jpeg:https://hop-pole.com/wp-content/uploads/2025/04/464686817_122195156792035051_1555521002277662135_n.jpg
END:VEVENT
BEGIN:VEVENT
DTSTART;TZID=Europe/London:20250802T210000
DTEND;TZID=Europe/London:20250802T233000
DTSTAMP:20260424T113420
CREATED:20250729T183721Z
LAST-MODIFIED:20250729T184354Z
UID:1821-1754168400-1754177400@hop-pole.com
SUMMARY:Blowfish Kiss
DESCRIPTION:4 piece high energy rock band covering artists like Audioslave SOAD Queen Anastasia Dio Van Halen
URL:https://hop-pole.com/event/blowfish-kiss/
LOCATION:Hop Pole Inn\, Bromsgrove
ATTACH;FMTTYPE=image/jpeg:https://hop-pole.com/wp-content/uploads/2025/07/BFKiss.jpg
END:VEVENT
BEGIN:VEVENT
DTSTART;TZID=Europe/London:20250801T210000
DTEND;TZID=Europe/London:20250801T233000
DTSTAMP:20260424T113420
CREATED:20250729T182845Z
LAST-MODIFIED:20250729T182845Z
UID:1819-1754082000-1754091000@hop-pole.com
SUMMARY:Black Heart Angels
DESCRIPTION:The soundtrack to your weekend since 2012
URL:https://hop-pole.com/event/black-heart-angels-3/
LOCATION:Hop Pole Inn\, Bromsgrove
ATTACH;FMTTYPE=image/jpeg:https://hop-pole.com/wp-content/uploads/2023/08/315749548_830262654616709_2816621361355310421_n.jpg
END:VEVENT
END:VCALENDAR