BEGIN:VCALENDAR
VERSION:2.0
PRODID:-//The Hop Pole Inn - ECPv6.15.20//NONSGML v1.0//EN
CALSCALE:GREGORIAN
METHOD:PUBLISH
X-WR-CALNAME:The Hop Pole Inn
X-ORIGINAL-URL:https://hop-pole.com
X-WR-CALDESC:Events for The Hop Pole Inn
REFRESH-INTERVAL;VALUE=DURATION:PT1H
X-Robots-Tag:noindex
X-PUBLISHED-TTL:PT1H
BEGIN:VTIMEZONE
TZID:Europe/London
BEGIN:DAYLIGHT
TZOFFSETFROM:+0000
TZOFFSETTO:+0100
TZNAME:BST
DTSTART:20240331T010000
END:DAYLIGHT
BEGIN:STANDARD
TZOFFSETFROM:+0100
TZOFFSETTO:+0000
TZNAME:GMT
DTSTART:20241027T010000
END:STANDARD
BEGIN:DAYLIGHT
TZOFFSETFROM:+0000
TZOFFSETTO:+0100
TZNAME:BST
DTSTART:20250330T010000
END:DAYLIGHT
BEGIN:STANDARD
TZOFFSETFROM:+0100
TZOFFSETTO:+0000
TZNAME:GMT
DTSTART:20251026T010000
END:STANDARD
BEGIN:DAYLIGHT
TZOFFSETFROM:+0000
TZOFFSETTO:+0100
TZNAME:BST
DTSTART:20260329T010000
END:DAYLIGHT
BEGIN:STANDARD
TZOFFSETFROM:+0100
TZOFFSETTO:+0000
TZNAME:GMT
DTSTART:20261025T010000
END:STANDARD
BEGIN:DAYLIGHT
TZOFFSETFROM:+0000
TZOFFSETTO:+0100
TZNAME:BST
DTSTART:20270328T010000
END:DAYLIGHT
BEGIN:STANDARD
TZOFFSETFROM:+0100
TZOFFSETTO:+0000
TZNAME:GMT
DTSTART:20271031T010000
END:STANDARD
END:VTIMEZONE
BEGIN:VEVENT
DTSTART;TZID=Europe/London:20260124T210000
DTEND;TZID=Europe/London:20260124T233000
DTSTAMP:20260423T221308
CREATED:20260101T181701Z
LAST-MODIFIED:20260101T181701Z
UID:2025-1769288400-1769297400@hop-pole.com
SUMMARY:CADA
DESCRIPTION:If you want Rock – you got it!!
URL:https://hop-pole.com/event/cada-12/
LOCATION:Hop Pole Inn\, Bromsgrove
ATTACH;FMTTYPE=image/jpeg:https://hop-pole.com/wp-content/uploads/2024/10/465376045_1189023136118301_5756699499110481262_n.jpg
END:VEVENT
BEGIN:VEVENT
DTSTART;TZID=Europe/London:20260123T210000
DTEND;TZID=Europe/London:20260123T233000
DTSTAMP:20260423T221308
CREATED:20260101T181539Z
LAST-MODIFIED:20260123T125800Z
UID:2022-1769202000-1769211000@hop-pole.com
SUMMARY:Jason and The Arguments
DESCRIPTION:A BRITISH POWER TRIO PLAYING COVERS FROM THE WHO THE JAM THE CLASH PUNK AND NEW WAVE
URL:https://hop-pole.com/event/dr-cornelius-2/
LOCATION:Hop Pole Inn\, Bromsgrove
ATTACH;FMTTYPE=image/jpeg:https://hop-pole.com/wp-content/uploads/2026/01/arguments.jpg
END:VEVENT
BEGIN:VEVENT
DTSTART;TZID=Europe/London:20260117T210000
DTEND;TZID=Europe/London:20260117T233000
DTSTAMP:20260423T221308
CREATED:20260101T180934Z
LAST-MODIFIED:20260101T180934Z
UID:2018-1768683600-1768692600@hop-pole.com
SUMMARY:Thirsty Work
DESCRIPTION:4 piece Classic 70’s/80’s Anthemic Rock Band with ex members of Quill\, Alvin Stardust\, Glenn Hughes\, Pure Instinct & more!
URL:https://hop-pole.com/event/thirsty-work-5/
LOCATION:Hop Pole Inn\, Bromsgrove
ATTACH;FMTTYPE=image/jpeg:https://hop-pole.com/wp-content/uploads/2022/06/287166453_531096378488481_5473589002640019278_n.jpg
END:VEVENT
BEGIN:VEVENT
DTSTART;TZID=Europe/London:20260116T210000
DTEND;TZID=Europe/London:20260116T233000
DTSTAMP:20260423T221308
CREATED:20260101T174105Z
LAST-MODIFIED:20260101T181118Z
UID:2016-1768597200-1768606200@hop-pole.com
SUMMARY:Woodstock Social Club
DESCRIPTION:Lively 3 piece cover band\, good vibes and good times.
URL:https://hop-pole.com/event/black-country-all-skas-4/
LOCATION:Hop Pole Inn\, Bromsgrove
ATTACH;FMTTYPE=image/jpeg:https://hop-pole.com/wp-content/uploads/2024/09/456508666_1031951082268158_628684585006716615_n.jpg
END:VEVENT
BEGIN:VEVENT
DTSTART;TZID=Europe/London:20260110T210000
DTEND;TZID=Europe/London:20260110T233000
DTSTAMP:20260423T221308
CREATED:20260101T173853Z
LAST-MODIFIED:20260101T173853Z
UID:2014-1768078800-1768087800@hop-pole.com
SUMMARY:Bang on the Ear
DESCRIPTION:up beat traditional & contemporary Irish/Celtic Folk Rock songs and tunes\, along with many other popular favourites.
URL:https://hop-pole.com/event/bang-on-the-ear-10/
LOCATION:Hop Pole Inn\, Bromsgrove
ATTACH;FMTTYPE=image/jpeg:https://hop-pole.com/wp-content/uploads/2025/08/bote.jpg
END:VEVENT
BEGIN:VEVENT
DTSTART;TZID=Europe/London:20260109T210000
DTEND;TZID=Europe/London:20260109T233000
DTSTAMP:20260423T221308
CREATED:20260101T172648Z
LAST-MODIFIED:20260101T172851Z
UID:2012-1767992400-1768001400@hop-pole.com
SUMMARY:Heavy Duty
DESCRIPTION:The best of the early 80s and the new wave of British heavy metal….Loud and proud 🤘
URL:https://hop-pole.com/event/heavy-duty-2/
LOCATION:Hop Pole Inn\, Bromsgrove
ATTACH;FMTTYPE=image/jpeg:https://hop-pole.com/wp-content/uploads/2025/07/449093958_122106325106371879_8614080245825038091_n.jpg
END:VEVENT
BEGIN:VEVENT
DTSTART;TZID=Europe/London:20260103T210000
DTEND;TZID=Europe/London:20260103T233000
DTSTAMP:20260423T221308
CREATED:20260101T172520Z
LAST-MODIFIED:20260101T172520Z
UID:2010-1767474000-1767483000@hop-pole.com
SUMMARY:Poppy Jam
DESCRIPTION:5 piece band with versatile repertoire 🎶🎤🎸🥁
URL:https://hop-pole.com/event/poppy-jam-3/
LOCATION:Hop Pole Inn\, Bromsgrove
ATTACH;FMTTYPE=image/jpeg:https://hop-pole.com/wp-content/uploads/2025/10/PJ.jpg
END:VEVENT
BEGIN:VEVENT
DTSTART;TZID=Europe/London:20260102T210000
DTEND;TZID=Europe/London:20260102T233000
DTSTAMP:20260423T221308
CREATED:20260101T172408Z
LAST-MODIFIED:20260101T172408Z
UID:2008-1767387600-1767396600@hop-pole.com
SUMMARY:The Beards
DESCRIPTION:Expect the unexpected.
URL:https://hop-pole.com/event/the-beards-6/
LOCATION:Hop Pole Inn\, Bromsgrove
ATTACH;FMTTYPE=image/jpeg:https://hop-pole.com/wp-content/uploads/2024/02/Beards.jpg
END:VEVENT
BEGIN:VEVENT
DTSTART;TZID=Europe/London:20251231T210000
DTEND;TZID=Europe/London:20251231T233000
DTSTAMP:20260423T221308
CREATED:20251124T103544Z
LAST-MODIFIED:20251124T103544Z
UID:1981-1767214800-1767223800@hop-pole.com
SUMMARY:KRAZYLEGZ
DESCRIPTION:Time to celebrate New Years Eve! \nIt’s also a sad evening. this is the last ever gig for KRAZYLEGZ \ncome and see in the New Year and say goodbye and thank you to Sandra and the Boys!
URL:https://hop-pole.com/event/krazylegz-11/
LOCATION:Hop Pole Inn\, Bromsgrove
ATTACH;FMTTYPE=image/jpeg:https://hop-pole.com/wp-content/uploads/2025/08/KrazyL.jpg
END:VEVENT
BEGIN:VEVENT
DTSTART;TZID=Europe/London:20251227T210000
DTEND;TZID=Europe/London:20251227T233000
DTSTAMP:20260423T221308
CREATED:20251124T103110Z
LAST-MODIFIED:20251124T103136Z
UID:1979-1766869200-1766878200@hop-pole.com
SUMMARY:Ellie Jones and the Giants
DESCRIPTION:The band guaranteed to get you up dancing. Floor fillers & more!
URL:https://hop-pole.com/event/ellie-jones-and-the-giants/
LOCATION:Hop Pole Inn\, Bromsgrove
ATTACH;FMTTYPE=image/png:https://hop-pole.com/wp-content/uploads/2025/07/460441352_1149424109924282_3590341061241776769_n.png
END:VEVENT
BEGIN:VEVENT
DTSTART;TZID=Europe/London:20251226T210000
DTEND;TZID=Europe/London:20251226T233000
DTSTAMP:20260423T221308
CREATED:20251124T102754Z
LAST-MODIFIED:20251124T102754Z
UID:1977-1766782800-1766791800@hop-pole.com
SUMMARY:Tin Drum
DESCRIPTION:Electric folk rock band.
URL:https://hop-pole.com/event/tin-drum-3/
LOCATION:Hop Pole Inn\, Bromsgrove
ATTACH;FMTTYPE=image/jpeg:https://hop-pole.com/wp-content/uploads/2024/02/293640799_453207766808968_4345464620295545274_n.jpg
END:VEVENT
BEGIN:VEVENT
DTSTART;TZID=Europe/London:20251224T210000
DTEND;TZID=Europe/London:20251224T233000
DTSTAMP:20260423T221308
CREATED:20251124T102617Z
LAST-MODIFIED:20251124T102617Z
UID:1975-1766610000-1766619000@hop-pole.com
SUMMARY:The Works
DESCRIPTION:One of the best rock and pop covers band around! \nXmas Eve celebrations
URL:https://hop-pole.com/event/the-works-9/
LOCATION:Hop Pole Inn\, Bromsgrove
ATTACH;FMTTYPE=image/jpeg:https://hop-pole.com/wp-content/uploads/2021/08/23843659_1703096786398980_2226044954476526904_n.jpg
END:VEVENT
BEGIN:VEVENT
DTSTART;TZID=Europe/London:20251220T210000
DTEND;TZID=Europe/London:20251220T233000
DTSTAMP:20260423T221308
CREATED:20251124T102105Z
LAST-MODIFIED:20251124T102105Z
UID:1973-1766264400-1766273400@hop-pole.com
SUMMARY:Legend
DESCRIPTION:The Boys are back at the Hop\, Xmas 5 days away\, Mandys Birthday\, do you need any other excuse to party?
URL:https://hop-pole.com/event/legend-14/
LOCATION:Hop Pole Inn\, Bromsgrove
ATTACH;FMTTYPE=image/jpeg:https://hop-pole.com/wp-content/uploads/2025/01/473680847_122182938194147812_6943912612944894419_n.jpg
END:VEVENT
BEGIN:VEVENT
DTSTART;TZID=Europe/London:20251219T210000
DTEND;TZID=Europe/London:20251219T233000
DTSTAMP:20260423T221308
CREATED:20251124T101852Z
LAST-MODIFIED:20251124T101852Z
UID:1970-1766178000-1766187000@hop-pole.com
SUMMARY:The RJB
DESCRIPTION:These Guys Need No Introduction. \nXmas party fun time!
URL:https://hop-pole.com/event/the-rjb-4/
LOCATION:Hop Pole Inn\, Bromsgrove
ATTACH;FMTTYPE=image/jpeg:https://hop-pole.com/wp-content/uploads/2025/11/RJB.jpg
END:VEVENT
BEGIN:VEVENT
DTSTART;TZID=Europe/London:20251213T210000
DTEND;TZID=Europe/London:20251213T233000
DTSTAMP:20260423T221308
CREATED:20251124T101642Z
LAST-MODIFIED:20251124T101642Z
UID:1967-1765659600-1765668600@hop-pole.com
SUMMARY:Wired 2 Party
DESCRIPTION:soul\, disco\, rock\, funk and pop hits.
URL:https://hop-pole.com/event/wired-2-party/
LOCATION:Hop Pole Inn\, Bromsgrove
ATTACH;FMTTYPE=image/jpeg:https://hop-pole.com/wp-content/uploads/2025/11/w2p.jpg
END:VEVENT
BEGIN:VEVENT
DTSTART;TZID=Europe/London:20251212T210000
DTEND;TZID=Europe/London:20251212T233000
DTSTAMP:20260423T221308
CREATED:20251124T101440Z
LAST-MODIFIED:20251124T101440Z
UID:1965-1765573200-1765582200@hop-pole.com
SUMMARY:TBC
DESCRIPTION:
URL:https://hop-pole.com/event/tbc-2/
LOCATION:Hop Pole Inn\, Bromsgrove
END:VEVENT
BEGIN:VEVENT
DTSTART;TZID=Europe/London:20251206T210000
DTEND;TZID=Europe/London:20251206T233000
DTSTAMP:20260423T221308
CREATED:20251124T101322Z
LAST-MODIFIED:20251124T101322Z
UID:1963-1765054800-1765063800@hop-pole.com
SUMMARY:Vaseline
DESCRIPTION:Boys and Girls – it’s here\, right now -Vaseline! A Stunning line up of :Spoz\, Mick\, Nige & Rick
URL:https://hop-pole.com/event/vaseline-11/
LOCATION:Hop Pole Inn\, Bromsgrove
ATTACH;FMTTYPE=image/jpeg:https://hop-pole.com/wp-content/uploads/2025/07/508640089_1289189923210730_8076180296613941688_n.jpg
END:VEVENT
BEGIN:VEVENT
DTSTART;TZID=Europe/London:20251205T210000
DTEND;TZID=Europe/London:20251205T233000
DTSTAMP:20260423T221308
CREATED:20251124T101207Z
LAST-MODIFIED:20251124T101207Z
UID:1961-1764968400-1764977400@hop-pole.com
SUMMARY:Mister Wolf
DESCRIPTION:Classic guitar driven Rock and Blues band. Not just another covers band!
URL:https://hop-pole.com/event/mister-wolf-13/
LOCATION:Hop Pole Inn\, Bromsgrove
ATTACH;FMTTYPE=image/jpeg:https://hop-pole.com/wp-content/uploads/2021/10/mr-wolf.jpg
END:VEVENT
BEGIN:VEVENT
DTSTART;TZID=Europe/London:20251129T210000
DTEND;TZID=Europe/London:20251129T233000
DTSTAMP:20260423T221308
CREATED:20251029T141404Z
LAST-MODIFIED:20251124T105216Z
UID:1952-1764450000-1764459000@hop-pole.com
SUMMARY:The GT's
DESCRIPTION:
URL:https://hop-pole.com/event/the-fabulous-bordellos-3/
LOCATION:Hop Pole Inn\, Bromsgrove
END:VEVENT
BEGIN:VEVENT
DTSTART;TZID=Europe/London:20251129T150000
DTEND;TZID=Europe/London:20251129T170000
DTSTAMP:20260423T221308
CREATED:20251124T104305Z
LAST-MODIFIED:20251124T104305Z
UID:1989-1764428400-1764435600@hop-pole.com
SUMMARY:Quilter Nations Series
DESCRIPTION:Wales v South Africa KO 15:10
URL:https://hop-pole.com/event/quilter-nations-series/
LOCATION:Hop Pole Inn\, Bromsgrove
END:VEVENT
BEGIN:VEVENT
DTSTART;TZID=Europe/London:20251128T210000
DTEND;TZID=Europe/London:20251128T233000
DTSTAMP:20260423T221308
CREATED:20251029T141225Z
LAST-MODIFIED:20251029T141225Z
UID:1950-1764363600-1764372600@hop-pole.com
SUMMARY:Sudden Impact
DESCRIPTION:Four piece band based in the West Midlands in the UK\, performing well known and loved guitar based covers.
URL:https://hop-pole.com/event/sudden-impact-2/
LOCATION:Hop Pole Inn\, Bromsgrove
ATTACH;FMTTYPE=image/jpeg:https://hop-pole.com/wp-content/uploads/2025/04/438089587_393000390203571_5281799047580171027_n.jpg
END:VEVENT
BEGIN:VEVENT
DTSTART;TZID=Europe/London:20251127T173000
DTEND;TZID=Europe/London:20251127T200000
DTSTAMP:20260423T221308
CREATED:20251124T104050Z
LAST-MODIFIED:20251124T104831Z
UID:1986-1764264600-1764273600@hop-pole.com
SUMMARY:Europa League Night
DESCRIPTION:Aston Villa v Young Boys KO 17:45
URL:https://hop-pole.com/event/europa-league-night/
END:VEVENT
BEGIN:VEVENT
DTSTART;TZID=Europe/London:20251126T200000
DTEND;TZID=Europe/London:20251126T220000
DTSTAMP:20260423T221308
CREATED:20251124T103923Z
LAST-MODIFIED:20251124T104922Z
UID:1983-1764187200-1764194400@hop-pole.com
SUMMARY:Champion Leagues Night
DESCRIPTION:Liverpool v PSV KO 20:00
URL:https://hop-pole.com/event/champion-leagues-night/
LOCATION:Hop Pole Inn\, Bromsgrove
END:VEVENT
BEGIN:VEVENT
DTSTART;TZID=Europe/London:20251122T210000
DTEND;TZID=Europe/London:20251122T233000
DTSTAMP:20260423T221308
CREATED:20251029T141046Z
LAST-MODIFIED:20251029T141046Z
UID:1947-1763845200-1763854200@hop-pole.com
SUMMARY:Poppy Jam
DESCRIPTION:5 piece band with versatile repertoire 🎶🎤🎸🥁
URL:https://hop-pole.com/event/poppy-jam-2/
LOCATION:Hop Pole Inn\, Bromsgrove
ATTACH;FMTTYPE=image/jpeg:https://hop-pole.com/wp-content/uploads/2025/10/PJ.jpg
END:VEVENT
BEGIN:VEVENT
DTSTART;TZID=Europe/London:20251121T210000
DTEND;TZID=Europe/London:20251121T233000
DTSTAMP:20260423T221308
CREATED:20251029T140625Z
LAST-MODIFIED:20251029T140701Z
UID:1943-1763758800-1763767800@hop-pole.com
SUMMARY:Great Stone Revival
DESCRIPTION:creating a party atmosphere playing a wide range of covers from Bowie\, T-Rex to Pulp plus a whole lot more! All accomplished musicians whose sole aim is to deliver a fantastic sound in addition to an entertaining show!
URL:https://hop-pole.com/event/gsr/
LOCATION:Hop Pole Inn\, Bromsgrove
ATTACH;FMTTYPE=image/jpeg:https://hop-pole.com/wp-content/uploads/2025/10/GSR.jpg
END:VEVENT
BEGIN:VEVENT
DTSTART;TZID=Europe/London:20251119T190000
DTEND;TZID=Europe/London:20251119T210000
DTSTAMP:20260423T221308
CREATED:20251029T140008Z
LAST-MODIFIED:20251029T140008Z
UID:1941-1763578800-1763586000@hop-pole.com
SUMMARY:Brass Beatz
DESCRIPTION:one of special featuring Ashleigh Paige
URL:https://hop-pole.com/event/brass-beatz-10/
LOCATION:Hop Pole Inn\, Bromsgrove
ATTACH;FMTTYPE=image/jpeg:https://hop-pole.com/wp-content/uploads/2023/01/brass-beatz.jpg
END:VEVENT
BEGIN:VEVENT
DTSTART;TZID=Europe/London:20251115T210000
DTEND;TZID=Europe/London:20251115T233000
DTSTAMP:20260423T221308
CREATED:20251029T135835Z
LAST-MODIFIED:20251029T135835Z
UID:1938-1763240400-1763249400@hop-pole.com
SUMMARY:Black Country Guys
DESCRIPTION:four piece party / rock covers band biased in Dudley West Midlands covering most areas playing songs from Beatles the kinks to the Rolling Stones and many more
URL:https://hop-pole.com/event/black-country-guys/
LOCATION:Hop Pole Inn\, Bromsgrove
END:VEVENT
BEGIN:VEVENT
DTSTART;TZID=Europe/London:20251114T210000
DTEND;TZID=Europe/London:20251114T233000
DTSTAMP:20260423T221308
CREATED:20251029T135414Z
LAST-MODIFIED:20251029T135414Z
UID:1936-1763154000-1763163000@hop-pole.com
SUMMARY:Stu Bishop
DESCRIPTION:BEER\, BEER\, BEER and More BEER
URL:https://hop-pole.com/event/stu-bishop-4/
LOCATION:Hop Pole Inn\, Bromsgrove
ATTACH;FMTTYPE=image/jpeg:https://hop-pole.com/wp-content/uploads/2023/04/stu.jpg
END:VEVENT
BEGIN:VEVENT
DTSTART;TZID=Europe/London:20251108T210000
DTEND;TZID=Europe/London:20251108T233000
DTSTAMP:20260423T221308
CREATED:20251029T135226Z
LAST-MODIFIED:20251029T135226Z
UID:1934-1762635600-1762644600@hop-pole.com
SUMMARY:CADA
DESCRIPTION:If you want Rock – you got it!!
URL:https://hop-pole.com/event/cada-11/
LOCATION:Hop Pole Inn\, Bromsgrove
ATTACH;FMTTYPE=image/jpeg:https://hop-pole.com/wp-content/uploads/2024/10/465376045_1189023136118301_5756699499110481262_n.jpg
END:VEVENT
BEGIN:VEVENT
DTSTART;TZID=Europe/London:20251107T210000
DTEND;TZID=Europe/London:20251107T233000
DTSTAMP:20260423T221308
CREATED:20251029T135116Z
LAST-MODIFIED:20251029T135116Z
UID:1932-1762549200-1762558200@hop-pole.com
SUMMARY:Black Country All Skas
DESCRIPTION:The Midlands best Ska\, 2Tone and Reggae Band
URL:https://hop-pole.com/event/black-country-all-skas-3/
LOCATION:Hop Pole Inn\, Bromsgrove
ATTACH;FMTTYPE=image/jpeg:https://hop-pole.com/wp-content/uploads/2025/04/464686817_122195156792035051_1555521002277662135_n.jpg
END:VEVENT
END:VCALENDAR