BEGIN:VCALENDAR
VERSION:2.0
PRODID:-//The Hop Pole Inn - ECPv6.15.20//NONSGML v1.0//EN
CALSCALE:GREGORIAN
METHOD:PUBLISH
X-WR-CALNAME:The Hop Pole Inn
X-ORIGINAL-URL:https://hop-pole.com
X-WR-CALDESC:Events for The Hop Pole Inn
REFRESH-INTERVAL;VALUE=DURATION:PT1H
X-Robots-Tag:noindex
X-PUBLISHED-TTL:PT1H
BEGIN:VTIMEZONE
TZID:Europe/London
BEGIN:DAYLIGHT
TZOFFSETFROM:+0000
TZOFFSETTO:+0100
TZNAME:BST
DTSTART:20210328T010000
END:DAYLIGHT
BEGIN:STANDARD
TZOFFSETFROM:+0100
TZOFFSETTO:+0000
TZNAME:GMT
DTSTART:20211031T010000
END:STANDARD
BEGIN:DAYLIGHT
TZOFFSETFROM:+0000
TZOFFSETTO:+0100
TZNAME:BST
DTSTART:20220327T010000
END:DAYLIGHT
BEGIN:STANDARD
TZOFFSETFROM:+0100
TZOFFSETTO:+0000
TZNAME:GMT
DTSTART:20221030T010000
END:STANDARD
BEGIN:DAYLIGHT
TZOFFSETFROM:+0000
TZOFFSETTO:+0100
TZNAME:BST
DTSTART:20230326T010000
END:DAYLIGHT
BEGIN:STANDARD
TZOFFSETFROM:+0100
TZOFFSETTO:+0000
TZNAME:GMT
DTSTART:20231029T010000
END:STANDARD
END:VTIMEZONE
BEGIN:VEVENT
DTSTART;TZID=Europe/London:20221208T210000
DTEND;TZID=Europe/London:20221208T233000
DTSTAMP:20260425T170233
CREATED:20221105T221236Z
LAST-MODIFIED:20221105T221236Z
UID:923-1670533200-1670542200@hop-pole.com
SUMMARY:Vehicle
DESCRIPTION:ELO to Tears For Fears\, Thin Lizzy to Fleetwood Mac and Don Henley. Vehicle are a 5 piece professional band
URL:https://hop-pole.com/event/vehicle-2/
LOCATION:Hop Pole Inn\, Bromsgrove
ATTACH;FMTTYPE=image/jpeg:https://hop-pole.com/wp-content/uploads/2022/05/274724453_1843262809198596_4313489111116532787_n.jpg
END:VEVENT
BEGIN:VEVENT
DTSTART;TZID=Europe/London:20221203T210000
DTEND;TZID=Europe/London:20221203T233000
DTSTAMP:20260425T170233
CREATED:20221105T221057Z
LAST-MODIFIED:20221105T221057Z
UID:921-1670101200-1670110200@hop-pole.com
SUMMARY:Legend
DESCRIPTION:Legend are a true classic rock covers band. Covering all time favourites and the not so well known
URL:https://hop-pole.com/event/legend-5/
LOCATION:Hop Pole Inn\, Bromsgrove
ATTACH;FMTTYPE=image/jpeg:https://hop-pole.com/wp-content/uploads/2021/10/legend.jpg
END:VEVENT
BEGIN:VEVENT
DTSTART;TZID=Europe/London:20221202T210000
DTEND;TZID=Europe/London:20221202T233000
DTSTAMP:20260425T170233
CREATED:20221105T220929Z
LAST-MODIFIED:20221105T220929Z
UID:919-1670014800-1670023800@hop-pole.com
SUMMARY:Free Spirit Sounds
DESCRIPTION:Forget the blues and bring your dancing shoes
URL:https://hop-pole.com/event/free-spirit-sounds-3/
LOCATION:Hop Pole Inn\, Bromsgrove
ATTACH;FMTTYPE=image/jpeg:https://hop-pole.com/wp-content/uploads/2021/10/FSS.jpg
END:VEVENT
BEGIN:VEVENT
DTSTART;TZID=Europe/London:20221201T210000
DTEND;TZID=Europe/London:20221201T233000
DTSTAMP:20260425T170233
CREATED:20221105T220333Z
LAST-MODIFIED:20221105T220333Z
UID:917-1669928400-1669937400@hop-pole.com
SUMMARY:Thunder Daze
DESCRIPTION:Guitar driven classic and modern blues/rock covers band with a twist of American West Coast Flavour.
URL:https://hop-pole.com/event/thunder-daze-5/
LOCATION:Hop Pole Inn\, Bromsgrove
ATTACH;FMTTYPE=image/jpeg:https://hop-pole.com/wp-content/uploads/2021/09/239643749_233991108732174_2352624766715603431_n.jpg
END:VEVENT
BEGIN:VEVENT
DTSTART;TZID=Europe/London:20221126T210000
DTEND;TZID=Europe/London:20221126T233000
DTSTAMP:20260425T170233
CREATED:20221030T182208Z
LAST-MODIFIED:20221030T182208Z
UID:911-1669496400-1669505400@hop-pole.com
SUMMARY:Skrood
DESCRIPTION:Old enough to know better\, young enough to do it anyway! Classic rock covers\, ’60s to present\, including Black Sabbath\, Rolling Stones\, Foo Fighters\, Stereophonics\, Cream\, U2
URL:https://hop-pole.com/event/skrood-3/
LOCATION:Hop Pole Inn\, Bromsgrove
ATTACH;FMTTYPE=image/jpeg:https://hop-pole.com/wp-content/uploads/2022/01/66803473_2079338668844549_2254689330243043328_n.jpg
END:VEVENT
BEGIN:VEVENT
DTSTART;TZID=Europe/London:20221125T210000
DTEND;TZID=Europe/London:20221125T233000
DTSTAMP:20260425T170233
CREATED:20221030T182023Z
LAST-MODIFIED:20221030T182023Z
UID:908-1669410000-1669419000@hop-pole.com
SUMMARY:Doctor Cornelius
DESCRIPTION:We are a Midlands based band playing the best of Soul\, Funk\, Disco & Dance. \nCracking Party Band\, Bring your dancing shoes!
URL:https://hop-pole.com/event/doctor-cornelius-2/
LOCATION:Hop Pole Inn\, Bromsgrove
ATTACH;FMTTYPE=image/jpeg:https://hop-pole.com/wp-content/uploads/2022/10/237368885_1174087512996790_5004384406867713359_n.jpg
END:VEVENT
BEGIN:VEVENT
DTSTART;TZID=Europe/London:20221124T210000
DTEND;TZID=Europe/London:20221124T233000
DTSTAMP:20260425T170233
CREATED:20221105T215944Z
LAST-MODIFIED:20221105T215944Z
UID:915-1669323600-1669332600@hop-pole.com
SUMMARY:Lucas D and The Groove Ghetto
DESCRIPTION:6 piece instrumental Acid Jazz Outfit playing electric tunes from the 60/70s
URL:https://hop-pole.com/event/lucas-d-and-the-groove-ghetto-3/
LOCATION:Hop Pole Inn\, Bromsgrove
ATTACH;FMTTYPE=image/jpeg:https://hop-pole.com/wp-content/uploads/2022/06/400077_483538218354407_816055488_n-1.jpg
END:VEVENT
BEGIN:VEVENT
DTSTART;TZID=Europe/London:20221119T210000
DTEND;TZID=Europe/London:20221119T233000
DTSTAMP:20260425T170233
CREATED:20221030T181404Z
LAST-MODIFIED:20221030T181404Z
UID:904-1668891600-1668900600@hop-pole.com
SUMMARY:CADA
DESCRIPTION:If you want Rock – you got it!! Rock Covers Band
URL:https://hop-pole.com/event/cada-4/
LOCATION:Hop Pole Inn\, Bromsgrove
ATTACH;FMTTYPE=image/jpeg:https://hop-pole.com/wp-content/uploads/2022/10/312807312_651010296586257_3035776537357553030_n.jpg
END:VEVENT
BEGIN:VEVENT
DTSTART;TZID=Europe/London:20221118T210000
DTEND;TZID=Europe/London:20221118T233000
DTSTAMP:20260425T170233
CREATED:20221030T181005Z
LAST-MODIFIED:20221030T181005Z
UID:902-1668805200-1668814200@hop-pole.com
SUMMARY:The Works
DESCRIPTION:Professional Covers Band
URL:https://hop-pole.com/event/the-works-4/
LOCATION:Hop Pole Inn\, Bromsgrove
ATTACH;FMTTYPE=image/jpeg:https://hop-pole.com/wp-content/uploads/2021/08/23843659_1703096786398980_2226044954476526904_n.jpg
END:VEVENT
BEGIN:VEVENT
DTSTART;TZID=Europe/London:20221112T210000
DTEND;TZID=Europe/London:20221112T233000
DTSTAMP:20260425T170234
CREATED:20221030T175727Z
LAST-MODIFIED:20221030T175727Z
UID:900-1668286800-1668295800@hop-pole.com
SUMMARY:Highway 61
DESCRIPTION:Since forming in 2018. Highway 61 have been very much in demand on the Midlands Pub Rock circuit as well as a few summer festivals.
URL:https://hop-pole.com/event/highway-61-3/
LOCATION:Hop Pole Inn\, Bromsgrove
ATTACH;FMTTYPE=image/jpeg:https://hop-pole.com/wp-content/uploads/2021/09/h61.jpg
END:VEVENT
BEGIN:VEVENT
DTSTART;TZID=Europe/London:20221111T210000
DTEND;TZID=Europe/London:20221111T233000
DTSTAMP:20260425T170234
CREATED:20221030T175537Z
LAST-MODIFIED:20221030T175537Z
UID:898-1668200400-1668209400@hop-pole.com
SUMMARY:Trigger
DESCRIPTION:Bringing you the stadium rock experiance!!
URL:https://hop-pole.com/event/trigger-2/
LOCATION:Hop Pole Inn\, Bromsgrove
END:VEVENT
BEGIN:VEVENT
DTSTART;TZID=Europe/London:20221105T210000
DTEND;TZID=Europe/London:20221105T233000
DTSTAMP:20260425T170234
CREATED:20221030T175303Z
LAST-MODIFIED:20221030T175303Z
UID:895-1667682000-1667691000@hop-pole.com
SUMMARY:Full Metal Racket - FKA VaXXine
DESCRIPTION:Bromsgrove’s own loud\, heavy and proud Full Metal Racket!
URL:https://hop-pole.com/event/full-metal-racket-fka-vaxxine/
LOCATION:Hop Pole Inn\, Bromsgrove
ATTACH;FMTTYPE=image/jpeg:https://hop-pole.com/wp-content/uploads/2022/10/Full-Metal-Racket.jpg
END:VEVENT
BEGIN:VEVENT
DTSTART;TZID=Europe/London:20221104T210000
DTEND;TZID=Europe/London:20221104T233000
DTSTAMP:20260425T170234
CREATED:20221030T174555Z
LAST-MODIFIED:20221030T174555Z
UID:893-1667595600-1667604600@hop-pole.com
SUMMARY:The Quo - AKA The 4 Rossis
DESCRIPTION:Status Quo Tribute Band\, bringing you the hits you’ve forgotten and the hits you love!
URL:https://hop-pole.com/event/the-quo-aka-the-4-rossis-2/
LOCATION:Hop Pole Inn\, Bromsgrove
ATTACH;FMTTYPE=image/png:https://hop-pole.com/wp-content/uploads/2021/09/23270256_183194235569782_7091234728435292698_o.png
END:VEVENT
BEGIN:VEVENT
DTSTART;TZID=Europe/London:20221029T210000
DTEND;TZID=Europe/London:20221029T233000
DTSTAMP:20260425T170234
CREATED:20220926T131220Z
LAST-MODIFIED:20220926T131220Z
UID:869-1667077200-1667086200@hop-pole.com
SUMMARY:Mother Popcorn
DESCRIPTION:Rock\, Indie\, Rock and Funk \nHalloween Fancy Dress Party
URL:https://hop-pole.com/event/mother-popcorn-3/
LOCATION:Hop Pole Inn\, Bromsgrove
ATTACH;FMTTYPE=image/jpeg:https://hop-pole.com/wp-content/uploads/2022/05/271137795_5018175141548590_7946350228465814473_n.jpg
END:VEVENT
BEGIN:VEVENT
DTSTART;TZID=Europe/London:20221028T210000
DTEND;TZID=Europe/London:20221028T233000
DTSTAMP:20260425T170234
CREATED:20220926T131016Z
LAST-MODIFIED:20220926T131026Z
UID:865-1666990800-1666999800@hop-pole.com
SUMMARY:Ska-waddy
DESCRIPTION:Ska and Reggae Classics
URL:https://hop-pole.com/event/skawaddy/
LOCATION:Hop Pole Inn\, Bromsgrove
ATTACH;FMTTYPE=image/jpeg:https://hop-pole.com/wp-content/uploads/2022/09/290771824_428384335961853_2919603854841514737_n.jpg
END:VEVENT
BEGIN:VEVENT
DTSTART;TZID=Europe/London:20221027T210000
DTEND;TZID=Europe/London:20221027T233000
DTSTAMP:20260425T170234
CREATED:20220926T130258Z
LAST-MODIFIED:20220926T130258Z
UID:863-1666904400-1666913400@hop-pole.com
SUMMARY:Loz Rabone
DESCRIPTION:Free Style Accoustic
URL:https://hop-pole.com/event/loz-rabone-3/
LOCATION:Hop Pole Inn\, Bromsgrove
ATTACH;FMTTYPE=image/jpeg:https://hop-pole.com/wp-content/uploads/2022/05/Loz.jpg
END:VEVENT
BEGIN:VEVENT
DTSTART;TZID=Europe/London:20221022T210000
DTEND;TZID=Europe/London:20221022T233000
DTSTAMP:20260425T170234
CREATED:20220926T125949Z
LAST-MODIFIED:20220926T125949Z
UID:861-1666472400-1666481400@hop-pole.com
SUMMARY:Contraband
DESCRIPTION:Popular Soul and Rock Hits
URL:https://hop-pole.com/event/contraband-3/
LOCATION:Hop Pole Inn\, Bromsgrove
ATTACH;FMTTYPE=image/jpeg:https://hop-pole.com/wp-content/uploads/2021/09/82282816_596977087754126_3729502441658384384_n.jpg
END:VEVENT
BEGIN:VEVENT
DTSTART;TZID=Europe/London:20221021T210000
DTEND;TZID=Europe/London:20221021T233000
DTSTAMP:20260425T170234
CREATED:20220926T125243Z
LAST-MODIFIED:20220926T125243Z
UID:859-1666386000-1666395000@hop-pole.com
SUMMARY:Behind the Bike Sheds
DESCRIPTION:Classic 80’s Anthems
URL:https://hop-pole.com/event/behind-the-bike-sheds-5/
LOCATION:Hop Pole Inn\, Bromsgrove
ATTACH;FMTTYPE=image/jpeg:https://hop-pole.com/wp-content/uploads/2022/01/17814303_792525077567457_2778538648761111627_o.jpg
END:VEVENT
BEGIN:VEVENT
DTSTART;TZID=Europe/London:20221015T210000
DTEND;TZID=Europe/London:20221015T233000
DTSTAMP:20260425T170234
CREATED:20220926T125008Z
LAST-MODIFIED:20220926T125008Z
UID:857-1665867600-1665876600@hop-pole.com
SUMMARY:Brass Beatz
DESCRIPTION:Rock with a difference
URL:https://hop-pole.com/event/brass-beatz-2/
LOCATION:Hop Pole Inn\, Bromsgrove
ATTACH;FMTTYPE=image/jpeg:https://hop-pole.com/wp-content/uploads/2022/01/239300663_1229469620849484_3272707124784996882_n.jpg
END:VEVENT
BEGIN:VEVENT
DTSTART;TZID=Europe/London:20221014T210000
DTEND;TZID=Europe/London:20221014T233000
DTSTAMP:20260425T170234
CREATED:20220926T124859Z
LAST-MODIFIED:20221013T162656Z
UID:855-1665781200-1665790200@hop-pole.com
SUMMARY:Satchel Paige
DESCRIPTION:
URL:https://hop-pole.com/event/uncle-jim-3/
LOCATION:Hop Pole Inn\, Bromsgrove
END:VEVENT
BEGIN:VEVENT
DTSTART;TZID=Europe/London:20221008T210000
DTEND;TZID=Europe/London:20221008T233000
DTSTAMP:20260425T170234
CREATED:20220926T124716Z
LAST-MODIFIED:20221006T165302Z
UID:853-1665262800-1665271800@hop-pole.com
SUMMARY:Vehicle
DESCRIPTION:classics from the 70’s & 80’s and more besides….
URL:https://hop-pole.com/event/rattlesnake-jake-3/
LOCATION:Hop Pole Inn\, Bromsgrove
ATTACH;FMTTYPE=image/jpeg:https://hop-pole.com/wp-content/uploads/2022/05/274724453_1843262809198596_4313489111116532787_n.jpg
END:VEVENT
BEGIN:VEVENT
DTSTART;TZID=Europe/London:20221007T210000
DTEND;TZID=Europe/London:20221007T233000
DTSTAMP:20260425T170234
CREATED:20220926T124549Z
LAST-MODIFIED:20220926T124549Z
UID:851-1665176400-1665185400@hop-pole.com
SUMMARY:TILT
DESCRIPTION:Blues and Rock
URL:https://hop-pole.com/event/tilt-3/
LOCATION:Hop Pole Inn\, Bromsgrove
END:VEVENT
BEGIN:VEVENT
DTSTART;TZID=Europe/London:20221001T200000
DTEND;TZID=Europe/London:20221001T223000
DTSTAMP:20260425T170234
CREATED:20220829T133037Z
LAST-MODIFIED:20220829T133037Z
UID:836-1664654400-1664663400@hop-pole.com
SUMMARY:Vaseline
DESCRIPTION:When all the moons align & ex members of bands join forces…well it becomes Vaseline!! Stereogram\, The Sordid Details\, Tommy Gun & Skabucks are all to blame for this gathering! We will be playing all out fave tunes we were dragged up on & maybe a few others were dragged up on…..but what IS guaranteed is a stonking night out with a few beers & some ridiculous fun & humour ‘COMPOST CORNER!’ \nPunk
URL:https://hop-pole.com/event/vaseline-4/
LOCATION:Hop Pole Inn\, Bromsgrove
END:VEVENT
BEGIN:VEVENT
DTSTART;TZID=Europe/London:20220930T200000
DTEND;TZID=Europe/London:20220930T223000
DTSTAMP:20260425T170234
CREATED:20220829T132709Z
LAST-MODIFIED:20220829T132709Z
UID:834-1664568000-1664577000@hop-pole.com
SUMMARY:Thunder Daze
DESCRIPTION:Guitar driven classic 70s & 80s rock covers band with a twist of American West Coast Flavour.
URL:https://hop-pole.com/event/thunder-daze-4/
LOCATION:Hop Pole Inn\, Bromsgrove
ATTACH;FMTTYPE=image/jpeg:https://hop-pole.com/wp-content/uploads/2021/09/239643749_233991108732174_2352624766715603431_n.jpg
END:VEVENT
BEGIN:VEVENT
DTSTART;TZID=Europe/London:20220924T200000
DTEND;TZID=Europe/London:20220924T223000
DTSTAMP:20260425T170234
CREATED:20220829T132430Z
LAST-MODIFIED:20220829T132430Z
UID:832-1664049600-1664058600@hop-pole.com
SUMMARY:Krazy Legz
DESCRIPTION:Typical Krazy Rock
URL:https://hop-pole.com/event/krazy-legz-2/
LOCATION:Hop Pole Inn\, Bromsgrove
ATTACH;FMTTYPE=image/jpeg:https://hop-pole.com/wp-content/uploads/2022/03/84343546_10156810026882301_3427824518607929344_n.jpg
END:VEVENT
BEGIN:VEVENT
DTSTART;TZID=Europe/London:20220923T200000
DTEND;TZID=Europe/London:20220923T223000
DTSTAMP:20260425T170234
CREATED:20220829T132248Z
LAST-MODIFIED:20220920T175609Z
UID:830-1663963200-1663972200@hop-pole.com
SUMMARY:Family Ties
DESCRIPTION:Rock\, Pop and Soul
URL:https://hop-pole.com/event/shine-a-light-2/
LOCATION:Hop Pole Inn\, Bromsgrove
END:VEVENT
BEGIN:VEVENT
DTSTART;TZID=Europe/London:20220917T200000
DTEND;TZID=Europe/London:20220917T223000
DTSTAMP:20260425T170234
CREATED:20220829T132057Z
LAST-MODIFIED:20220829T132057Z
UID:828-1663444800-1663453800@hop-pole.com
SUMMARY:Badly Parked Cars
DESCRIPTION:Blues\, Soul and Rock
URL:https://hop-pole.com/event/badly-parked-cars-3/
LOCATION:Hop Pole Inn\, Bromsgrove
END:VEVENT
BEGIN:VEVENT
DTSTART;TZID=Europe/London:20220916T200000
DTEND;TZID=Europe/London:20220916T223000
DTSTAMP:20260425T170234
CREATED:20220829T131905Z
LAST-MODIFIED:20220829T131905Z
UID:826-1663358400-1663367400@hop-pole.com
SUMMARY:Melvin Hancox
DESCRIPTION:Blues and Rock
URL:https://hop-pole.com/event/melvin-hancox-2/
LOCATION:Hop Pole Inn\, Bromsgrove
END:VEVENT
BEGIN:VEVENT
DTSTART;TZID=Europe/London:20220910T200000
DTEND;TZID=Europe/London:20220910T223000
DTSTAMP:20260425T170234
CREATED:20220829T131713Z
LAST-MODIFIED:20220829T131713Z
UID:824-1662840000-1662849000@hop-pole.com
SUMMARY:Ska Studs
DESCRIPTION:Ska Classics
URL:https://hop-pole.com/event/ska-studs/
LOCATION:Hop Pole Inn\, Bromsgrove
ATTACH;FMTTYPE=image/jpeg:https://hop-pole.com/wp-content/uploads/2021/09/skastuds.jpg
END:VEVENT
BEGIN:VEVENT
DTSTART;TZID=Europe/London:20220909T200000
DTEND;TZID=Europe/London:20220909T223000
DTSTAMP:20260425T170234
CREATED:20220829T131537Z
LAST-MODIFIED:20220829T131537Z
UID:822-1662753600-1662762600@hop-pole.com
SUMMARY:Skrood
DESCRIPTION:Classic Rock
URL:https://hop-pole.com/event/skrood-2/
LOCATION:Hop Pole Inn\, Bromsgrove
ATTACH;FMTTYPE=image/jpeg:https://hop-pole.com/wp-content/uploads/2022/01/66803473_2079338668844549_2254689330243043328_n.jpg
END:VEVENT
END:VCALENDAR