BEGIN:VCALENDAR
VERSION:2.0
PRODID:-//The Hop Pole Inn - ECPv6.15.20//NONSGML v1.0//EN
CALSCALE:GREGORIAN
METHOD:PUBLISH
X-WR-CALNAME:The Hop Pole Inn
X-ORIGINAL-URL:https://hop-pole.com
X-WR-CALDESC:Events for The Hop Pole Inn
REFRESH-INTERVAL;VALUE=DURATION:PT1H
X-Robots-Tag:noindex
X-PUBLISHED-TTL:PT1H
BEGIN:VTIMEZONE
TZID:Europe/London
BEGIN:DAYLIGHT
TZOFFSETFROM:+0000
TZOFFSETTO:+0100
TZNAME:BST
DTSTART:20210328T010000
END:DAYLIGHT
BEGIN:STANDARD
TZOFFSETFROM:+0100
TZOFFSETTO:+0000
TZNAME:GMT
DTSTART:20211031T010000
END:STANDARD
BEGIN:DAYLIGHT
TZOFFSETFROM:+0000
TZOFFSETTO:+0100
TZNAME:BST
DTSTART:20220327T010000
END:DAYLIGHT
BEGIN:STANDARD
TZOFFSETFROM:+0100
TZOFFSETTO:+0000
TZNAME:GMT
DTSTART:20221030T010000
END:STANDARD
BEGIN:DAYLIGHT
TZOFFSETFROM:+0000
TZOFFSETTO:+0100
TZNAME:BST
DTSTART:20230326T010000
END:DAYLIGHT
BEGIN:STANDARD
TZOFFSETFROM:+0100
TZOFFSETTO:+0000
TZNAME:GMT
DTSTART:20231029T010000
END:STANDARD
BEGIN:DAYLIGHT
TZOFFSETFROM:+0000
TZOFFSETTO:+0100
TZNAME:BST
DTSTART:20240331T010000
END:DAYLIGHT
BEGIN:STANDARD
TZOFFSETFROM:+0100
TZOFFSETTO:+0000
TZNAME:GMT
DTSTART:20241027T010000
END:STANDARD
END:VTIMEZONE
BEGIN:VEVENT
DTSTART;TZID=Europe/London:20230211T210000
DTEND;TZID=Europe/London:20230211T233000
DTSTAMP:20260425T133347
CREATED:20230130T134447Z
LAST-MODIFIED:20230130T134447Z
UID:1011-1676149200-1676158200@hop-pole.com
SUMMARY:Broken English
DESCRIPTION:
URL:https://hop-pole.com/event/broken-english/
LOCATION:Hop Pole Inn\, Bromsgrove
END:VEVENT
BEGIN:VEVENT
DTSTART;TZID=Europe/London:20230210T210000
DTEND;TZID=Europe/London:20230210T233000
DTSTAMP:20260425T133347
CREATED:20230130T133932Z
LAST-MODIFIED:20230130T133932Z
UID:1009-1676062800-1676071800@hop-pole.com
SUMMARY:Melvin Hancox
DESCRIPTION:This man needs no introduction\, if you’ve seen him before\, you know\, if you haven’t\, come and see for yourself.
URL:https://hop-pole.com/event/melvin-hancox-3/
LOCATION:Hop Pole Inn\, Bromsgrove
END:VEVENT
BEGIN:VEVENT
DTSTART;TZID=Europe/London:20230204T210000
DTEND;TZID=Europe/London:20230204T233000
DTSTAMP:20260425T133347
CREATED:20230130T133218Z
LAST-MODIFIED:20230130T133218Z
UID:1005-1675544400-1675553400@hop-pole.com
SUMMARY:Kick The Fridge
DESCRIPTION:Kick the Fridge is a smoking hot professional band that plays some of the best cover material you’ll hear anywhere.
URL:https://hop-pole.com/event/kick-the-fridge/
LOCATION:Hop Pole Inn\, Bromsgrove
ATTACH;FMTTYPE=image/jpeg:https://hop-pole.com/wp-content/uploads/2023/01/ktf.jpg
END:VEVENT
BEGIN:VEVENT
DTSTART;TZID=Europe/London:20230203T210000
DTEND;TZID=Europe/London:20230203T233000
DTSTAMP:20260425T133347
CREATED:20230130T132701Z
LAST-MODIFIED:20230130T132701Z
UID:1003-1675458000-1675467000@hop-pole.com
SUMMARY:Krankt
DESCRIPTION:Krankt bring a full range of decades of great rock/metal/grunge covers\, ‘Playing what the rest don’t
URL:https://hop-pole.com/event/krankt-2/
LOCATION:Hop Pole Inn\, Bromsgrove
ATTACH;FMTTYPE=image/jpeg:https://hop-pole.com/wp-content/uploads/2022/05/krankt.jpg
END:VEVENT
BEGIN:VEVENT
DTSTART;TZID=Europe/London:20230202T210000
DTEND;TZID=Europe/London:20230202T233000
DTSTAMP:20260425T133347
CREATED:20230130T132432Z
LAST-MODIFIED:20230130T132432Z
UID:1001-1675371600-1675380600@hop-pole.com
SUMMARY:Loz Rabone
DESCRIPTION:Acoustic covers of the coolest classics from the 60’s to modern day!
URL:https://hop-pole.com/event/loz-rabone-4/
LOCATION:Hop Pole Inn\, Bromsgrove
ATTACH;FMTTYPE=image/jpeg:https://hop-pole.com/wp-content/uploads/2022/05/Loz.jpg
END:VEVENT
BEGIN:VEVENT
DTSTART;TZID=Europe/London:20230128T210000
DTEND;TZID=Europe/London:20230128T233000
DTSTAMP:20260425T133347
CREATED:20230106T145857Z
LAST-MODIFIED:20230106T145857Z
UID:990-1674939600-1674948600@hop-pole.com
SUMMARY:Vehicle
DESCRIPTION:ELO to Tears For Fears\, Thin Lizzy to Fleetwood Mac and Don Henley.
URL:https://hop-pole.com/event/vehicle-3/
LOCATION:Hop Pole Inn\, Bromsgrove
ATTACH;FMTTYPE=image/jpeg:https://hop-pole.com/wp-content/uploads/2022/05/274724453_1843262809198596_4313489111116532787_n.jpg
END:VEVENT
BEGIN:VEVENT
DTSTART;TZID=Europe/London:20230127T210000
DTEND;TZID=Europe/London:20230127T233000
DTSTAMP:20260425T133347
CREATED:20230106T145629Z
LAST-MODIFIED:20230106T145629Z
UID:987-1674853200-1674862200@hop-pole.com
SUMMARY:Eternity Road
DESCRIPTION:We are a hard working 4-piece rockin’ band fronted by our very own female diva!!!
URL:https://hop-pole.com/event/eternity-road/
LOCATION:Hop Pole Inn\, Bromsgrove
ATTACH;FMTTYPE=image/jpeg:https://hop-pole.com/wp-content/uploads/2023/01/Eternity-Road.jpg
END:VEVENT
BEGIN:VEVENT
DTSTART;TZID=Europe/London:20230121T210000
DTEND;TZID=Europe/London:20230121T233000
DTSTAMP:20260425T133347
CREATED:20230106T144928Z
LAST-MODIFIED:20230106T144928Z
UID:984-1674334800-1674343800@hop-pole.com
SUMMARY:Brass Beatz
DESCRIPTION:We are a 9 piece party band with a brass section\, playing feel good tunes from 60/70’s to modern day. \n 
URL:https://hop-pole.com/event/brass-beatz-3/
LOCATION:Hop Pole Inn\, Bromsgrove
ATTACH;FMTTYPE=image/jpeg:https://hop-pole.com/wp-content/uploads/2023/01/brass-beatz.jpg
END:VEVENT
BEGIN:VEVENT
DTSTART;TZID=Europe/London:20230120T210000
DTEND;TZID=Europe/London:20230120T233000
DTSTAMP:20260425T133347
CREATED:20230106T144349Z
LAST-MODIFIED:20230106T144357Z
UID:981-1674248400-1674257400@hop-pole.com
SUMMARY:Thunder Daze
DESCRIPTION:Guitar driven classic 70s & 80s rock covers band with a twist of American West Coast Flavour.
URL:https://hop-pole.com/event/thunderdaze/
LOCATION:Hop Pole Inn\, Bromsgrove
ATTACH;FMTTYPE=image/jpeg:https://hop-pole.com/wp-content/uploads/2021/09/239643749_233991108732174_2352624766715603431_n.jpg
END:VEVENT
BEGIN:VEVENT
DTSTART;TZID=Europe/London:20230114T210000
DTEND;TZID=Europe/London:20230114T233000
DTSTAMP:20260425T133347
CREATED:20230106T144057Z
LAST-MODIFIED:20230106T144057Z
UID:978-1673730000-1673739000@hop-pole.com
SUMMARY:Six Foot Drop
DESCRIPTION:Classic Rock Covers
URL:https://hop-pole.com/event/six-foot-drop/
LOCATION:Hop Pole Inn\, Bromsgrove
ATTACH;FMTTYPE=image/jpeg:https://hop-pole.com/wp-content/uploads/2023/01/Six-Foot-Drop.jpg
END:VEVENT
BEGIN:VEVENT
DTSTART;TZID=Europe/London:20230113T210000
DTEND;TZID=Europe/London:20230113T233000
DTSTAMP:20260425T133347
CREATED:20230106T143700Z
LAST-MODIFIED:20230106T143700Z
UID:975-1673643600-1673652600@hop-pole.com
SUMMARY:Mother Popcorn
DESCRIPTION:Mother Popcorn are a three piece band covering rock\, indie\, pop and funk classics from 60s to modern
URL:https://hop-pole.com/event/mother-popcorn-4/
LOCATION:Hop Pole Inn\, Bromsgrove
ATTACH;FMTTYPE=image/jpeg:https://hop-pole.com/wp-content/uploads/2023/01/IMG-0170.jpg
END:VEVENT
BEGIN:VEVENT
DTSTART;TZID=Europe/London:20230107T210000
DTEND;TZID=Europe/London:20230107T233000
DTSTAMP:20260425T133347
CREATED:20230106T143137Z
LAST-MODIFIED:20230106T143137Z
UID:972-1673125200-1673134200@hop-pole.com
SUMMARY:Wired2Party
DESCRIPTION:Pop and Rock Covers from Taylor Swift to Metallica
URL:https://hop-pole.com/event/wired2party/
LOCATION:Hop Pole Inn\, Bromsgrove
ATTACH;FMTTYPE=image/jpeg:https://hop-pole.com/wp-content/uploads/2023/01/Wired2Party.jpg
END:VEVENT
BEGIN:VEVENT
DTSTART;TZID=Europe/London:20230106T210000
DTEND;TZID=Europe/London:20230106T233000
DTSTAMP:20260425T133347
CREATED:20230106T142731Z
LAST-MODIFIED:20230106T142731Z
UID:969-1673038800-1673047800@hop-pole.com
SUMMARY:Push To Play
DESCRIPTION:Push to Play; \nplaying all your favourite songs\, and playing them like we mean it! \nWe deliver with energy\, spirit\, commitment and with the emphasis firmly on a good time to be had by all. \nEvery song we play is an iconic track that everyone will know the words to; songs that’ll keep the atmosphere jumping all night.
URL:https://hop-pole.com/event/push-to-play/
LOCATION:Hop Pole Inn\, Bromsgrove
ATTACH;FMTTYPE=image/jpeg:https://hop-pole.com/wp-content/uploads/2023/01/push-to-play.jpg
END:VEVENT
BEGIN:VEVENT
DTSTART;TZID=Europe/London:20221231T210000
DTEND;TZID=Europe/London:20221231T233000
DTSTAMP:20260425T133347
CREATED:20221105T225805Z
LAST-MODIFIED:20221105T225805Z
UID:945-1672520400-1672529400@hop-pole.com
SUMMARY:KrazyLegz
DESCRIPTION:Hey! if you want a band to give you one Hell of a Gig\, performing Rock and Blues\, Funk and Soul Classics played at their best\, we will give you a night to remember! AC/DC to Zeppelin\, Nirvana to Foo Fighters\, Black Sabbath to Deep Purple\, KOL to RATM\, Tina Turner to Skunk Anansie\, Audioslave to Alterbridge\, Pearl Jam to Black Crowes\, Joplin to Hendrix\, Metallica to Motörhead\, Stevie Wonder to Lenny Kravitz\,Jet to Velvet Revolver\, Dio to UFO\, Beatles to Animals and loadz more.
URL:https://hop-pole.com/event/krazylegz-3/
LOCATION:Hop Pole Inn\, Bromsgrove
ATTACH;FMTTYPE=image/jpeg:https://hop-pole.com/wp-content/uploads/2022/03/84343546_10156810026882301_3427824518607929344_n.jpg
END:VEVENT
BEGIN:VEVENT
DTSTART;TZID=Europe/London:20221230T210000
DTEND;TZID=Europe/London:20221230T233000
DTSTAMP:20260425T133347
CREATED:20221105T225525Z
LAST-MODIFIED:20221105T225525Z
UID:943-1672434000-1672443000@hop-pole.com
SUMMARY:Common People
DESCRIPTION:Britpop Tribute Act – #ReliveThe90s with our totally live show dedicated to the music of Oasis\, Blur
URL:https://hop-pole.com/event/common-people-4/
LOCATION:Hop Pole Inn\, Bromsgrove
ATTACH;FMTTYPE=image/png:https://hop-pole.com/wp-content/uploads/2022/06/23659414_1498840666878766_8940637037064229388_n.png
END:VEVENT
BEGIN:VEVENT
DTSTART;TZID=Europe/London:20221229T210000
DTEND;TZID=Europe/London:20221229T233000
DTSTAMP:20260425T133347
CREATED:20221105T225410Z
LAST-MODIFIED:20221105T225410Z
UID:941-1672347600-1672356600@hop-pole.com
SUMMARY:Hot Space
DESCRIPTION:Not a typical tribute band\, the celebrate the music of Queen in their own style!
URL:https://hop-pole.com/event/hot-space-2/
LOCATION:Hop Pole Inn\, Bromsgrove
ATTACH;FMTTYPE=image/jpeg:https://hop-pole.com/wp-content/uploads/2022/03/269582246_456261685958716_791766087231097571_n.jpg
END:VEVENT
BEGIN:VEVENT
DTSTART;TZID=Europe/London:20221224T210000
DTEND;TZID=Europe/London:20221224T233000
DTSTAMP:20260425T133347
CREATED:20221105T224437Z
LAST-MODIFIED:20221105T224437Z
UID:939-1671915600-1671924600@hop-pole.com
SUMMARY:Mister Wolf
DESCRIPTION:MISTER WOLF are a classic guitar driven Rock and Blues band. Not just another covers band!
URL:https://hop-pole.com/event/mister-wolf-3/
LOCATION:Hop Pole Inn\, Bromsgrove
ATTACH;FMTTYPE=image/jpeg:https://hop-pole.com/wp-content/uploads/2021/10/mr-wolf.jpg
END:VEVENT
BEGIN:VEVENT
DTSTART;TZID=Europe/London:20221223T210000
DTEND;TZID=Europe/London:20221223T233000
DTSTAMP:20260425T133347
CREATED:20221105T223922Z
LAST-MODIFIED:20221105T223922Z
UID:937-1671829200-1671838200@hop-pole.com
SUMMARY:The Reflections
DESCRIPTION:The Reflections have been around for over twenty years playing all types of music but now concentrate on our favourite era
URL:https://hop-pole.com/event/the-reflections-4/
LOCATION:Hop Pole Inn\, Bromsgrove
ATTACH;FMTTYPE=image/jpeg:https://hop-pole.com/wp-content/uploads/2021/08/reflections.jpg
END:VEVENT
BEGIN:VEVENT
DTSTART;TZID=Europe/London:20221222T210000
DTEND;TZID=Europe/London:20221222T233000
DTSTAMP:20260425T133347
CREATED:20221105T223627Z
LAST-MODIFIED:20221105T223627Z
UID:935-1671742800-1671751800@hop-pole.com
SUMMARY:Rattlesnake Jake
DESCRIPTION:7 piece Soul & Motown Review
URL:https://hop-pole.com/event/rattlesnake-jake-4/
LOCATION:Hop Pole Inn\, Bromsgrove
ATTACH;FMTTYPE=image/jpeg:https://hop-pole.com/wp-content/uploads/2022/01/159504861_127254489400313_5781580221644405916_n.jpg
END:VEVENT
BEGIN:VEVENT
DTSTART;TZID=Europe/London:20221217T210000
DTEND;TZID=Europe/London:20221217T233000
DTSTAMP:20260425T133347
CREATED:20221105T223459Z
LAST-MODIFIED:20221105T223459Z
UID:933-1671310800-1671319800@hop-pole.com
SUMMARY:Thirsty Works
DESCRIPTION:4 piece Classic Rock Band with ex members of Quill\, Pure Instinct\, Alvin Stardust band
URL:https://hop-pole.com/event/thirsty-works-3/
LOCATION:Hop Pole Inn\, Bromsgrove
ATTACH;FMTTYPE=image/jpeg:https://hop-pole.com/wp-content/uploads/2022/06/287166453_531096378488481_5473589002640019278_n.jpg
END:VEVENT
BEGIN:VEVENT
DTSTART;TZID=Europe/London:20221216T210000
DTEND;TZID=Europe/London:20221216T233000
DTSTAMP:20260425T133347
CREATED:20221105T223244Z
LAST-MODIFIED:20221105T223244Z
UID:931-1671224400-1671233400@hop-pole.com
SUMMARY:Fearless Scoundrels
DESCRIPTION:Performing Boogie/blues/Rock’n’roll covers and originals. Think Dr Feelgood\, The Pirates\, Cream\, The Fabulous Thunderbirds\, Robben Ford\, Jimi Hendrix\, SRV\, The Rolling Stones\, Chuck Berry\, Omar & the Howlers\, Taj Mahal\, JJ Cale\, and more.
URL:https://hop-pole.com/event/fearless-scoundrels-3/
LOCATION:Hop Pole Inn\, Bromsgrove
ATTACH;FMTTYPE=image/jpeg:https://hop-pole.com/wp-content/uploads/2021/09/scoundrels.jpg
END:VEVENT
BEGIN:VEVENT
DTSTART;TZID=Europe/London:20221215T210000
DTEND;TZID=Europe/London:20221215T233000
DTSTAMP:20260425T133347
CREATED:20221105T223125Z
LAST-MODIFIED:20221105T223125Z
UID:929-1671138000-1671147000@hop-pole.com
SUMMARY:Satchel Paige
DESCRIPTION:Satchel Paige are a cover band from Worcestershire
URL:https://hop-pole.com/event/satchel-paige/
LOCATION:Hop Pole Inn\, Bromsgrove
END:VEVENT
BEGIN:VEVENT
DTSTART;TZID=Europe/London:20221210T210000
DTEND;TZID=Europe/London:20221210T233000
DTSTAMP:20260425T133347
CREATED:20221105T222943Z
LAST-MODIFIED:20221105T222943Z
UID:927-1670706000-1670715000@hop-pole.com
SUMMARY:Vaseline
DESCRIPTION:When all the moons align & ex members of bands join forces…well it becomes Vaseline!! Stereogram\, The Sordid Details\, Tommy Gun & Skabucks are all to blame for this gathering! We will be playing all out fave tunes we were dragged up on & maybe a few others were dragged up on…..but what IS guaranteed is a stonking night out with a few beers & some ridiculous fun & humour ‘COMPOST CORNER!’
URL:https://hop-pole.com/event/vaseline-5/
LOCATION:Hop Pole Inn\, Bromsgrove
END:VEVENT
BEGIN:VEVENT
DTSTART;TZID=Europe/London:20221209T210000
DTEND;TZID=Europe/London:20221209T233000
DTSTAMP:20260425T133347
CREATED:20221105T221500Z
LAST-MODIFIED:20221105T221500Z
UID:925-1670619600-1670628600@hop-pole.com
SUMMARY:Bosted Juke Box
DESCRIPTION:Bosted Jukebox are a 4 piece band with all members being from the good old Black Country
URL:https://hop-pole.com/event/bosted-juke-box/
LOCATION:Hop Pole Inn\, Bromsgrove
ATTACH;FMTTYPE=image/jpeg:https://hop-pole.com/wp-content/uploads/2022/06/bosted-jukebox.jpg
END:VEVENT
BEGIN:VEVENT
DTSTART;TZID=Europe/London:20221208T210000
DTEND;TZID=Europe/London:20221208T233000
DTSTAMP:20260425T133347
CREATED:20221105T221236Z
LAST-MODIFIED:20221105T221236Z
UID:923-1670533200-1670542200@hop-pole.com
SUMMARY:Vehicle
DESCRIPTION:ELO to Tears For Fears\, Thin Lizzy to Fleetwood Mac and Don Henley. Vehicle are a 5 piece professional band
URL:https://hop-pole.com/event/vehicle-2/
LOCATION:Hop Pole Inn\, Bromsgrove
ATTACH;FMTTYPE=image/jpeg:https://hop-pole.com/wp-content/uploads/2022/05/274724453_1843262809198596_4313489111116532787_n.jpg
END:VEVENT
BEGIN:VEVENT
DTSTART;TZID=Europe/London:20221203T210000
DTEND;TZID=Europe/London:20221203T233000
DTSTAMP:20260425T133347
CREATED:20221105T221057Z
LAST-MODIFIED:20221105T221057Z
UID:921-1670101200-1670110200@hop-pole.com
SUMMARY:Legend
DESCRIPTION:Legend are a true classic rock covers band. Covering all time favourites and the not so well known
URL:https://hop-pole.com/event/legend-5/
LOCATION:Hop Pole Inn\, Bromsgrove
ATTACH;FMTTYPE=image/jpeg:https://hop-pole.com/wp-content/uploads/2021/10/legend.jpg
END:VEVENT
BEGIN:VEVENT
DTSTART;TZID=Europe/London:20221202T210000
DTEND;TZID=Europe/London:20221202T233000
DTSTAMP:20260425T133347
CREATED:20221105T220929Z
LAST-MODIFIED:20221105T220929Z
UID:919-1670014800-1670023800@hop-pole.com
SUMMARY:Free Spirit Sounds
DESCRIPTION:Forget the blues and bring your dancing shoes
URL:https://hop-pole.com/event/free-spirit-sounds-3/
LOCATION:Hop Pole Inn\, Bromsgrove
ATTACH;FMTTYPE=image/jpeg:https://hop-pole.com/wp-content/uploads/2021/10/FSS.jpg
END:VEVENT
BEGIN:VEVENT
DTSTART;TZID=Europe/London:20221201T210000
DTEND;TZID=Europe/London:20221201T233000
DTSTAMP:20260425T133347
CREATED:20221105T220333Z
LAST-MODIFIED:20221105T220333Z
UID:917-1669928400-1669937400@hop-pole.com
SUMMARY:Thunder Daze
DESCRIPTION:Guitar driven classic and modern blues/rock covers band with a twist of American West Coast Flavour.
URL:https://hop-pole.com/event/thunder-daze-5/
LOCATION:Hop Pole Inn\, Bromsgrove
ATTACH;FMTTYPE=image/jpeg:https://hop-pole.com/wp-content/uploads/2021/09/239643749_233991108732174_2352624766715603431_n.jpg
END:VEVENT
BEGIN:VEVENT
DTSTART;TZID=Europe/London:20221126T210000
DTEND;TZID=Europe/London:20221126T233000
DTSTAMP:20260425T133347
CREATED:20221030T182208Z
LAST-MODIFIED:20221030T182208Z
UID:911-1669496400-1669505400@hop-pole.com
SUMMARY:Skrood
DESCRIPTION:Old enough to know better\, young enough to do it anyway! Classic rock covers\, ’60s to present\, including Black Sabbath\, Rolling Stones\, Foo Fighters\, Stereophonics\, Cream\, U2
URL:https://hop-pole.com/event/skrood-3/
LOCATION:Hop Pole Inn\, Bromsgrove
ATTACH;FMTTYPE=image/jpeg:https://hop-pole.com/wp-content/uploads/2022/01/66803473_2079338668844549_2254689330243043328_n.jpg
END:VEVENT
BEGIN:VEVENT
DTSTART;TZID=Europe/London:20221125T210000
DTEND;TZID=Europe/London:20221125T233000
DTSTAMP:20260425T133347
CREATED:20221030T182023Z
LAST-MODIFIED:20221030T182023Z
UID:908-1669410000-1669419000@hop-pole.com
SUMMARY:Doctor Cornelius
DESCRIPTION:We are a Midlands based band playing the best of Soul\, Funk\, Disco & Dance. \nCracking Party Band\, Bring your dancing shoes!
URL:https://hop-pole.com/event/doctor-cornelius-2/
LOCATION:Hop Pole Inn\, Bromsgrove
ATTACH;FMTTYPE=image/jpeg:https://hop-pole.com/wp-content/uploads/2022/10/237368885_1174087512996790_5004384406867713359_n.jpg
END:VEVENT
END:VCALENDAR