BEGIN:VCALENDAR
VERSION:2.0
PRODID:-//The Hop Pole Inn - ECPv6.15.20//NONSGML v1.0//EN
CALSCALE:GREGORIAN
METHOD:PUBLISH
X-WR-CALNAME:The Hop Pole Inn
X-ORIGINAL-URL:https://hop-pole.com
X-WR-CALDESC:Events for The Hop Pole Inn
REFRESH-INTERVAL;VALUE=DURATION:PT1H
X-Robots-Tag:noindex
X-PUBLISHED-TTL:PT1H
BEGIN:VTIMEZONE
TZID:Europe/London
BEGIN:DAYLIGHT
TZOFFSETFROM:+0000
TZOFFSETTO:+0100
TZNAME:BST
DTSTART:20220327T010000
END:DAYLIGHT
BEGIN:STANDARD
TZOFFSETFROM:+0100
TZOFFSETTO:+0000
TZNAME:GMT
DTSTART:20221030T010000
END:STANDARD
BEGIN:DAYLIGHT
TZOFFSETFROM:+0000
TZOFFSETTO:+0100
TZNAME:BST
DTSTART:20230326T010000
END:DAYLIGHT
BEGIN:STANDARD
TZOFFSETFROM:+0100
TZOFFSETTO:+0000
TZNAME:GMT
DTSTART:20231029T010000
END:STANDARD
BEGIN:DAYLIGHT
TZOFFSETFROM:+0000
TZOFFSETTO:+0100
TZNAME:BST
DTSTART:20240331T010000
END:DAYLIGHT
BEGIN:STANDARD
TZOFFSETFROM:+0100
TZOFFSETTO:+0000
TZNAME:GMT
DTSTART:20241027T010000
END:STANDARD
END:VTIMEZONE
BEGIN:VEVENT
DTSTART;TZID=Europe/London:20230527T210000
DTEND;TZID=Europe/London:20230527T233000
DTSTAMP:20260425T163900
CREATED:20230430T120110Z
LAST-MODIFIED:20230430T120110Z
UID:1132-1685221200-1685230200@hop-pole.com
SUMMARY:The Fabulous Bordelloes
DESCRIPTION:full on Mod experience with music from the 60’s to present day.
URL:https://hop-pole.com/event/the-fabulous-bordelloes/
LOCATION:Hop Pole Inn\, Bromsgrove
ATTACH;FMTTYPE=image/jpeg:https://hop-pole.com/wp-content/uploads/2021/09/bordelos.jpg
END:VEVENT
BEGIN:VEVENT
DTSTART;TZID=Europe/London:20230526T210000
DTEND;TZID=Europe/London:20230526T233000
DTSTAMP:20260425T163900
CREATED:20230430T115930Z
LAST-MODIFIED:20230430T115930Z
UID:1130-1685134800-1685143800@hop-pole.com
SUMMARY:Jack Read and The Shaders
DESCRIPTION:The boys are back with some classic covers and original music
URL:https://hop-pole.com/event/jack-read-and-the-shaders-5/
LOCATION:Hop Pole Inn\, Bromsgrove
END:VEVENT
BEGIN:VEVENT
DTSTART;TZID=Europe/London:20230520T210000
DTEND;TZID=Europe/London:20230520T233000
DTSTAMP:20260425T163900
CREATED:20230430T115724Z
LAST-MODIFIED:20230430T115724Z
UID:1128-1684616400-1684625400@hop-pole.com
SUMMARY:Mother Popcorn
DESCRIPTION:Exclusive performance  by the fantastic Mother Popcorn
URL:https://hop-pole.com/event/mother-popcorn-5/
LOCATION:Hop Pole Inn\, Bromsgrove
ATTACH;FMTTYPE=image/jpeg:https://hop-pole.com/wp-content/uploads/2022/05/271137795_5018175141548590_7946350228465814473_n.jpg
END:VEVENT
BEGIN:VEVENT
DTSTART;TZID=Europe/London:20230519T210000
DTEND;TZID=Europe/London:20230519T233000
DTSTAMP:20260425T163900
CREATED:20230430T115520Z
LAST-MODIFIED:20230430T115520Z
UID:1125-1684530000-1684539000@hop-pole.com
SUMMARY:Noisy Neighbours Blues Band
DESCRIPTION:Making their Hop Pole debut
URL:https://hop-pole.com/event/noisy-neighbours-blues-band/
LOCATION:Hop Pole Inn\, Bromsgrove
ATTACH;FMTTYPE=image/jpeg:https://hop-pole.com/wp-content/uploads/2023/04/Hop-Pole-Flyer-Colour-1-scaled.jpg
END:VEVENT
BEGIN:VEVENT
DTSTART;TZID=Europe/London:20230513T210000
DTEND;TZID=Europe/London:20230513T233000
DTSTAMP:20260425T163900
CREATED:20230430T115013Z
LAST-MODIFIED:20230430T115013Z
UID:1123-1684011600-1684020600@hop-pole.com
SUMMARY:Brass Beatz
DESCRIPTION:8 piece party band with a brass section\, playing feelgood tunes from 60/70’s to modern day.
URL:https://hop-pole.com/event/brass-beatz-4/
LOCATION:Hop Pole Inn\, Bromsgrove
ATTACH;FMTTYPE=image/jpeg:https://hop-pole.com/wp-content/uploads/2023/01/brass-beatz.jpg
END:VEVENT
BEGIN:VEVENT
DTSTART;TZID=Europe/London:20230512T210000
DTEND;TZID=Europe/London:20230512T233000
DTSTAMP:20260425T163900
CREATED:20230430T114822Z
LAST-MODIFIED:20230430T114822Z
UID:1121-1683925200-1683934200@hop-pole.com
SUMMARY:Behind the Bike Sheds
DESCRIPTION:The ultimate classic 80’s anthems band! \nBringing the party to a playground near you!
URL:https://hop-pole.com/event/behind-the-bike-sheds-6/
LOCATION:Hop Pole Inn\, Bromsgrove
ATTACH;FMTTYPE=image/jpeg:https://hop-pole.com/wp-content/uploads/2022/01/17814303_792525077567457_2778538648761111627_o.jpg
END:VEVENT
BEGIN:VEVENT
DTSTART;TZID=Europe/London:20230511T210000
DTEND;TZID=Europe/London:20230511T233000
DTSTAMP:20260425T163900
CREATED:20230430T114234Z
LAST-MODIFIED:20230430T114234Z
UID:1118-1683838800-1683847800@hop-pole.com
SUMMARY:Stu Bishop
DESCRIPTION:Solo session from local legend
URL:https://hop-pole.com/event/stu-bishop/
LOCATION:Hop Pole Inn\, Bromsgrove
ATTACH;FMTTYPE=image/jpeg:https://hop-pole.com/wp-content/uploads/2023/04/stu.jpg
END:VEVENT
BEGIN:VEVENT
DTSTART;TZID=Europe/London:20230506T210000
DTEND;TZID=Europe/London:20230506T233000
DTSTAMP:20260425T163900
CREATED:20230430T113642Z
LAST-MODIFIED:20230430T113642Z
UID:1115-1683406800-1683415800@hop-pole.com
SUMMARY:Dr Cornelious
DESCRIPTION:Soul\, Funk and Disco from one of our favourite bands.
URL:https://hop-pole.com/event/dr-cornelious-3/
LOCATION:Hop Pole Inn\, Bromsgrove
ATTACH;FMTTYPE=image/jpeg:https://hop-pole.com/wp-content/uploads/2023/04/drc.jpg
END:VEVENT
BEGIN:VEVENT
DTSTART;TZID=Europe/London:20230506T140000
DTEND;TZID=Europe/London:20230506T170000
DTSTAMP:20260425T163900
CREATED:20230430T105513Z
LAST-MODIFIED:20230430T105513Z
UID:1112-1683381600-1683392400@hop-pole.com
SUMMARY:Coronation Garden Party
DESCRIPTION:Satchel Paige are helping us celebrate the coronation of King Charles III in the garden between 2pm and 5pm. \nLils Baps @Butchers Block will have a food stand in the garden\, our outside bar will be open from 11am
URL:https://hop-pole.com/event/coronation-garden-party/
LOCATION:Hop Pole Inn\, Bromsgrove
END:VEVENT
BEGIN:VEVENT
DTSTART;TZID=Europe/London:20230505T210000
DTEND;TZID=Europe/London:20230505T233000
DTSTAMP:20260425T163900
CREATED:20230326T123058Z
LAST-MODIFIED:20230326T123058Z
UID:1090-1683320400-1683329400@hop-pole.com
SUMMARY:Lucas D and the Groove Ghetto
DESCRIPTION:6 piece instrumental Acid Jazz Outfit playing electric tunes from the 60/70s right up to present day
URL:https://hop-pole.com/event/lucas-d-and-the-groove-ghetto-4/
LOCATION:Hop Pole Inn\, Bromsgrove
ATTACH;FMTTYPE=image/jpeg:https://hop-pole.com/wp-content/uploads/2022/03/400077_483538218354407_816055488_n.jpg
END:VEVENT
BEGIN:VEVENT
DTSTART;TZID=Europe/London:20230429T210000
DTEND;TZID=Europe/London:20230429T233000
DTSTAMP:20260425T163900
CREATED:20230218T130237Z
LAST-MODIFIED:20230419T152656Z
UID:1069-1682802000-1682811000@hop-pole.com
SUMMARY:Wired2Party
DESCRIPTION:Midlands based Rock and Pop covers band guaranteed to get you on your feet.
URL:https://hop-pole.com/event/wired2party-2/
LOCATION:Hop Pole Inn\, Bromsgrove
ATTACH;FMTTYPE=image/jpeg:https://hop-pole.com/wp-content/uploads/2023/02/Hop-Pole-Flyer.jpg
END:VEVENT
BEGIN:VEVENT
DTSTART;TZID=Europe/London:20230428T210000
DTEND;TZID=Europe/London:20230428T233000
DTSTAMP:20260425T163900
CREATED:20230218T125957Z
LAST-MODIFIED:20230218T125957Z
UID:1067-1682715600-1682724600@hop-pole.com
SUMMARY:Skrood
DESCRIPTION:Old enough to know better\, young enough to do it anyway!\nClassic rock covers\, ’60s to present\, including Black Sabbath\, Rolling Stones\, Foo Fighters\, Stereophonics\, Cream\, U2\, Muse\, ZZTop
URL:https://hop-pole.com/event/skrood-4/
LOCATION:Hop Pole Inn\, Bromsgrove
ATTACH;FMTTYPE=image/jpeg:https://hop-pole.com/wp-content/uploads/2022/01/66803473_2079338668844549_2254689330243043328_n.jpg
END:VEVENT
BEGIN:VEVENT
DTSTART;TZID=Europe/London:20230422T210000
DTEND;TZID=Europe/London:20230422T233000
DTSTAMP:20260425T163900
CREATED:20230218T125754Z
LAST-MODIFIED:20230218T125754Z
UID:1065-1682197200-1682206200@hop-pole.com
SUMMARY:The Reflections
DESCRIPTION:60’s Classics to get you on your feet\,.
URL:https://hop-pole.com/event/the-reflections-5/
LOCATION:Hop Pole Inn\, Bromsgrove
ATTACH;FMTTYPE=image/jpeg:https://hop-pole.com/wp-content/uploads/2021/08/reflections.jpg
END:VEVENT
BEGIN:VEVENT
DTSTART;TZID=Europe/London:20230421T210000
DTEND;TZID=Europe/London:20230421T233000
DTSTAMP:20260425T163900
CREATED:20230218T125515Z
LAST-MODIFIED:20230416T141815Z
UID:1062-1682110800-1682119800@hop-pole.com
SUMMARY:Finding Bella
DESCRIPTION:five piece indie rock band formed in Hagley\, Worcestershire. \nA very special appearence from a high flying local band\, will it be a one off?
URL:https://hop-pole.com/event/finding-bella/
LOCATION:Hop Pole Inn\, Bromsgrove
ATTACH;FMTTYPE=image/jpeg:https://hop-pole.com/wp-content/uploads/2023/02/finding-bella.jpg
END:VEVENT
BEGIN:VEVENT
DTSTART;TZID=Europe/London:20230415T210000
DTEND;TZID=Europe/London:20230415T233000
DTSTAMP:20260425T163900
CREATED:20230218T125055Z
LAST-MODIFIED:20230218T125055Z
UID:1060-1681592400-1681601400@hop-pole.com
SUMMARY:Bang onthe Ear
DESCRIPTION:up beat traditional & contemporary Irish/Celtic Folk Rock songs
URL:https://hop-pole.com/event/bang-onthe-ear/
LOCATION:Hop Pole Inn\, Bromsgrove
ATTACH;FMTTYPE=image/jpeg:https://hop-pole.com/wp-content/uploads/2022/06/288304661_8019018094782957_4952371278950620640_n.jpg
END:VEVENT
BEGIN:VEVENT
DTSTART;TZID=Europe/London:20230414T210000
DTEND;TZID=Europe/London:20230414T233000
DTSTAMP:20260425T163900
CREATED:20230218T124810Z
LAST-MODIFIED:20230218T124810Z
UID:1057-1681506000-1681515000@hop-pole.com
SUMMARY:Highway
DESCRIPTION:Rocking Classics to get you on your feet
URL:https://hop-pole.com/event/highway/
LOCATION:Hop Pole Inn\, Bromsgrove
ATTACH;FMTTYPE=image/jpeg:https://hop-pole.com/wp-content/uploads/2023/02/Highway.jpg
END:VEVENT
BEGIN:VEVENT
DTSTART;TZID=Europe/London:20230408T210000
DTEND;TZID=Europe/London:20230408T233000
DTSTAMP:20260425T163900
CREATED:20230218T124418Z
LAST-MODIFIED:20230218T124418Z
UID:1054-1680987600-1680996600@hop-pole.com
SUMMARY:Thirsty Works
DESCRIPTION:Get up and dance with this rocking band\, performing many of your favourite rock classics
URL:https://hop-pole.com/event/thirsty-works-4/
LOCATION:Hop Pole Inn\, Bromsgrove
ATTACH;FMTTYPE=image/jpeg:https://hop-pole.com/wp-content/uploads/2022/06/287166453_531096378488481_5473589002640019278_n.jpg
END:VEVENT
BEGIN:VEVENT
DTSTART;TZID=Europe/London:20230407T210000
DTEND;TZID=Europe/London:20230407T233000
DTSTAMP:20260425T163900
CREATED:20230218T124217Z
LAST-MODIFIED:20230218T124217Z
UID:1051-1680901200-1680910200@hop-pole.com
SUMMARY:Just the Ticket
DESCRIPTION:5 Piece band from Worcestershire covering rock and pop classics from all the decades. \nWhen you cross Essential 80’s and The After Party Band you have Family Ties\, now that’s Just the Ticket for a cracking night.
URL:https://hop-pole.com/event/just-the-ticket/
LOCATION:Hop Pole Inn\, Bromsgrove
ATTACH;FMTTYPE=image/jpeg:https://hop-pole.com/wp-content/uploads/2023/02/jtt.jpg
END:VEVENT
BEGIN:VEVENT
DTSTART;TZID=Europe/London:20230401T210000
DTEND;TZID=Europe/London:20230401T233000
DTSTAMP:20260425T163900
CREATED:20230218T123605Z
LAST-MODIFIED:20230218T123605Z
UID:1049-1680382800-1680391800@hop-pole.com
SUMMARY:Trigger Band
DESCRIPTION:Bring you the stadium rock experiance
URL:https://hop-pole.com/event/trigger-band/
LOCATION:Hop Pole Inn\, Bromsgrove
END:VEVENT
BEGIN:VEVENT
DTSTART;TZID=Europe/London:20230331T210000
DTEND;TZID=Europe/London:20230331T233000
DTSTAMP:20260425T163900
CREATED:20230218T123433Z
LAST-MODIFIED:20230218T123433Z
UID:1047-1680296400-1680305400@hop-pole.com
SUMMARY:Legend
DESCRIPTION:Classic Rock\, full of energy\, dancing shoes a must!
URL:https://hop-pole.com/event/legend-6/
LOCATION:Hop Pole Inn\, Bromsgrove
ATTACH;FMTTYPE=image/jpeg:https://hop-pole.com/wp-content/uploads/2021/10/legend.jpg
END:VEVENT
BEGIN:VEVENT
DTSTART;TZID=Europe/London:20230325T210000
DTEND;TZID=Europe/London:20230325T233000
DTSTAMP:20260425T163900
CREATED:20230218T123252Z
LAST-MODIFIED:20230218T123252Z
UID:1045-1679778000-1679787000@hop-pole.com
SUMMARY:Satchel Paige
DESCRIPTION:Upbeat cover band from Worcestershire\, born from the glow of electric heaters in a Callow End barn.
URL:https://hop-pole.com/event/satchel-paige-2/
LOCATION:Hop Pole Inn\, Bromsgrove
END:VEVENT
BEGIN:VEVENT
DTSTART;TZID=Europe/London:20230324T210000
DTEND;TZID=Europe/London:20230324T233000
DTSTAMP:20260425T163900
CREATED:20230218T123015Z
LAST-MODIFIED:20230218T123015Z
UID:1043-1679691600-1679700600@hop-pole.com
SUMMARY:Jack Read and the Shaders
DESCRIPTION:Bit of everything including original songs from their albums
URL:https://hop-pole.com/event/jack-read-and-the-shaders-4/
LOCATION:Hop Pole Inn\, Bromsgrove
END:VEVENT
BEGIN:VEVENT
DTSTART;TZID=Europe/London:20230318T210000
DTEND;TZID=Europe/London:20230318T233000
DTSTAMP:20260425T163900
CREATED:20230218T122729Z
LAST-MODIFIED:20230218T122729Z
UID:1041-1679173200-1679182200@hop-pole.com
SUMMARY:KrazyLegz
DESCRIPTION:Typical Krazy rock\, Bring the dancing shoes
URL:https://hop-pole.com/event/krazylegz-4/
LOCATION:Hop Pole Inn\, Bromsgrove
ATTACH;FMTTYPE=image/jpeg:https://hop-pole.com/wp-content/uploads/2022/03/84343546_10156810026882301_3427824518607929344_n.jpg
END:VEVENT
BEGIN:VEVENT
DTSTART;TZID=Europe/London:20230317T210000
DTEND;TZID=Europe/London:20230317T233000
DTSTAMP:20260425T163900
CREATED:20230218T122602Z
LAST-MODIFIED:20230218T122602Z
UID:1039-1679086800-1679095800@hop-pole.com
SUMMARY:Vaseline
DESCRIPTION:Boys and Girls – it’s here\, right now -Vaseline! A Stunning line up of :Spoz\,Mick\,Nige & Rick \nBit of punk rock\, lots of laughs
URL:https://hop-pole.com/event/vaseline-6/
LOCATION:Hop Pole Inn\, Bromsgrove
END:VEVENT
BEGIN:VEVENT
DTSTART;TZID=Europe/London:20230311T210000
DTEND;TZID=Europe/London:20230311T233000
DTSTAMP:20260425T163900
CREATED:20230218T122318Z
LAST-MODIFIED:20230218T122318Z
UID:1037-1678568400-1678577400@hop-pole.com
SUMMARY:Hot Foot
DESCRIPTION:Classic Rock
URL:https://hop-pole.com/event/hot-foot-2/
LOCATION:Hop Pole Inn\, Bromsgrove
ATTACH;FMTTYPE=image/jpeg:https://hop-pole.com/wp-content/uploads/2022/05/hotfoot.jpg
END:VEVENT
BEGIN:VEVENT
DTSTART;TZID=Europe/London:20230310T210000
DTEND;TZID=Europe/London:20230310T233000
DTSTAMP:20260425T163900
CREATED:20230218T121709Z
LAST-MODIFIED:20230218T121709Z
UID:1035-1678482000-1678491000@hop-pole.com
SUMMARY:Mister Wolf
DESCRIPTION:Rock and Blues
URL:https://hop-pole.com/event/mister-wolf-4/
LOCATION:Hop Pole Inn\, Bromsgrove
ATTACH;FMTTYPE=image/jpeg:https://hop-pole.com/wp-content/uploads/2021/10/mr-wolf.jpg
END:VEVENT
BEGIN:VEVENT
DTSTART;TZID=Europe/London:20230304T210000
DTEND;TZID=Europe/London:20230304T233000
DTSTAMP:20260425T163900
CREATED:20230216T133700Z
LAST-MODIFIED:20230216T133700Z
UID:1031-1677963600-1677972600@hop-pole.com
SUMMARY:OAP's
DESCRIPTION:Old Aged Punks
URL:https://hop-pole.com/event/oaps/
LOCATION:Hop Pole Inn\, Bromsgrove
ATTACH;FMTTYPE=image/jpeg:https://hop-pole.com/wp-content/uploads/2023/02/329565431_509711961067077_2698098298792322812_n.jpg
END:VEVENT
BEGIN:VEVENT
DTSTART;TZID=Europe/London:20230303T210000
DTEND;TZID=Europe/London:20230303T233000
DTSTAMP:20260425T163900
CREATED:20230216T133127Z
LAST-MODIFIED:20230216T133127Z
UID:1028-1677877200-1677886200@hop-pole.com
SUMMARY:Ceri Justice & The Jury
DESCRIPTION:a blend of blues and rock with a twist of country
URL:https://hop-pole.com/event/ceri-justice-the-jury/
LOCATION:Hop Pole Inn\, Bromsgrove
ATTACH;FMTTYPE=image/jpeg:https://hop-pole.com/wp-content/uploads/2023/02/319035470_5669390933129313_3291656305674377581_n.jpg
END:VEVENT
BEGIN:VEVENT
DTSTART;TZID=Europe/London:20230225T210000
DTEND;TZID=Europe/London:20230225T233000
DTSTAMP:20260425T163900
CREATED:20230130T135924Z
LAST-MODIFIED:20230130T135924Z
UID:1020-1677358800-1677367800@hop-pole.com
SUMMARY:Black Country Rock
DESCRIPTION:Black Country Rock is a four piece rock covers band who ply their craft to the Rock Masses.
URL:https://hop-pole.com/event/black-country-rock-2/
LOCATION:Hop Pole Inn\, Bromsgrove
ATTACH;FMTTYPE=image/jpeg:https://hop-pole.com/wp-content/uploads/2023/01/bcr.jpg
END:VEVENT
BEGIN:VEVENT
DTSTART;TZID=Europe/London:20230224T210000
DTEND;TZID=Europe/London:20230224T233000
DTSTAMP:20260425T163900
CREATED:20230130T135626Z
LAST-MODIFIED:20230130T135626Z
UID:1018-1677272400-1677281400@hop-pole.com
SUMMARY:Common People
DESCRIPTION:Britpop Tribute Act – #ReliveThe90s with our totally live show dedicated to the music of Oasis\, Blur
URL:https://hop-pole.com/event/common-people-5/
LOCATION:Hop Pole Inn\, Bromsgrove
ATTACH;FMTTYPE=image/png:https://hop-pole.com/wp-content/uploads/2022/06/23659414_1498840666878766_8940637037064229388_n.png
END:VEVENT
END:VCALENDAR