BEGIN:VCALENDAR
VERSION:2.0
PRODID:-//The Hop Pole Inn - ECPv6.15.20//NONSGML v1.0//EN
CALSCALE:GREGORIAN
METHOD:PUBLISH
X-WR-CALNAME:The Hop Pole Inn
X-ORIGINAL-URL:https://hop-pole.com
X-WR-CALDESC:Events for The Hop Pole Inn
REFRESH-INTERVAL;VALUE=DURATION:PT1H
X-Robots-Tag:noindex
X-PUBLISHED-TTL:PT1H
BEGIN:VTIMEZONE
TZID:Europe/London
BEGIN:DAYLIGHT
TZOFFSETFROM:+0000
TZOFFSETTO:+0100
TZNAME:BST
DTSTART:20220327T010000
END:DAYLIGHT
BEGIN:STANDARD
TZOFFSETFROM:+0100
TZOFFSETTO:+0000
TZNAME:GMT
DTSTART:20221030T010000
END:STANDARD
BEGIN:DAYLIGHT
TZOFFSETFROM:+0000
TZOFFSETTO:+0100
TZNAME:BST
DTSTART:20230326T010000
END:DAYLIGHT
BEGIN:STANDARD
TZOFFSETFROM:+0100
TZOFFSETTO:+0000
TZNAME:GMT
DTSTART:20231029T010000
END:STANDARD
BEGIN:DAYLIGHT
TZOFFSETFROM:+0000
TZOFFSETTO:+0100
TZNAME:BST
DTSTART:20240331T010000
END:DAYLIGHT
BEGIN:STANDARD
TZOFFSETFROM:+0100
TZOFFSETTO:+0000
TZNAME:GMT
DTSTART:20241027T010000
END:STANDARD
END:VTIMEZONE
BEGIN:VEVENT
DTSTART;TZID=Europe/London:20231103T210000
DTEND;TZID=Europe/London:20231103T233000
DTSTAMP:20260425T145900
CREATED:20230925T124438Z
LAST-MODIFIED:20230925T124438Z
UID:1286-1699045200-1699054200@hop-pole.com
SUMMARY:Satchel Paige
DESCRIPTION:Upbeat cover band from Worcestershire\, born from the glow of electric heaters in a Callow End barn.
URL:https://hop-pole.com/event/satchel-paige-3/
LOCATION:Hop Pole Inn\, Bromsgrove
END:VEVENT
BEGIN:VEVENT
DTSTART;TZID=Europe/London:20231102T200000
DTEND;TZID=Europe/London:20231102T220000
DTSTAMP:20260425T145900
CREATED:20230925T124228Z
LAST-MODIFIED:20230925T124228Z
UID:1284-1698955200-1698962400@hop-pole.com
SUMMARY:Maria and Don
DESCRIPTION:Acoustic Set
URL:https://hop-pole.com/event/maria-and-don/
LOCATION:Hop Pole Inn\, Bromsgrove
END:VEVENT
BEGIN:VEVENT
DTSTART;TZID=Europe/London:20231028T210000
DTEND;TZID=Europe/London:20231028T233000
DTSTAMP:20260425T145900
CREATED:20230925T124042Z
LAST-MODIFIED:20230925T124042Z
UID:1281-1698526800-1698535800@hop-pole.com
SUMMARY:Push 2 Play
DESCRIPTION:
URL:https://hop-pole.com/event/push-2-play-2/
LOCATION:Hop Pole Inn\, Bromsgrove
ATTACH;FMTTYPE=image/jpeg:https://hop-pole.com/wp-content/uploads/2023/09/push-to-play.jpg
END:VEVENT
BEGIN:VEVENT
DTSTART;TZID=Europe/London:20231027T210000
DTEND;TZID=Europe/London:20231027T233000
DTSTAMP:20260425T145900
CREATED:20230925T123050Z
LAST-MODIFIED:20230925T123050Z
UID:1279-1698440400-1698449400@hop-pole.com
SUMMARY:Skrood
DESCRIPTION:Old enough to know better\, young enough to do it anyway!\nClassic rock covers\, ’60s to present.
URL:https://hop-pole.com/event/skrood-5/
LOCATION:Hop Pole Inn\, Bromsgrove
ATTACH;FMTTYPE=image/jpeg:https://hop-pole.com/wp-content/uploads/2022/01/66803473_2079338668844549_2254689330243043328_n.jpg
END:VEVENT
BEGIN:VEVENT
DTSTART;TZID=Europe/London:20231021T210000
DTEND;TZID=Europe/London:20231021T233000
DTSTAMP:20260425T145900
CREATED:20230925T122908Z
LAST-MODIFIED:20230925T122908Z
UID:1276-1697922000-1697931000@hop-pole.com
SUMMARY:Legend
DESCRIPTION:An entertaining Classic Rock Band\, playing good time\, well known ROCK’n’ROLL – Party On !
URL:https://hop-pole.com/event/legend-8/
LOCATION:Hop Pole Inn\, Bromsgrove
ATTACH;FMTTYPE=image/jpeg:https://hop-pole.com/wp-content/uploads/2023/09/legend.jpg
END:VEVENT
BEGIN:VEVENT
DTSTART;TZID=Europe/London:20231020T210000
DTEND;TZID=Europe/London:20231020T233000
DTSTAMP:20260425T145900
CREATED:20230925T122453Z
LAST-MODIFIED:20230925T122453Z
UID:1274-1697835600-1697844600@hop-pole.com
SUMMARY:Mother Popcorn
DESCRIPTION:The only place to see the amazing Mother Popcorn \nA fantastic three piece band covering rock\, indie\, pop and funk classics from 60s to modern day.
URL:https://hop-pole.com/event/mother-popcorn-6/
LOCATION:Hop Pole Inn\, Bromsgrove
ATTACH;FMTTYPE=image/jpeg:https://hop-pole.com/wp-content/uploads/2023/01/IMG-0170.jpg
END:VEVENT
BEGIN:VEVENT
DTSTART;TZID=Europe/London:20231014T210000
DTEND;TZID=Europe/London:20231014T233000
DTSTAMP:20260425T145900
CREATED:20230925T122114Z
LAST-MODIFIED:20230925T122148Z
UID:1272-1697317200-1697326200@hop-pole.com
SUMMARY:Brass Beatz
DESCRIPTION:We are an 8 piece party band with a brass section\, playing feelgood tunes from 60/70’s to modern day.
URL:https://hop-pole.com/event/brass-beatz-5/
LOCATION:Hop Pole Inn\, Bromsgrove
ATTACH;FMTTYPE=image/jpeg:https://hop-pole.com/wp-content/uploads/2023/01/brass-beatz.jpg
END:VEVENT
BEGIN:VEVENT
DTSTART;TZID=Europe/London:20231013T210000
DTEND;TZID=Europe/London:20231013T233000
DTSTAMP:20260425T145900
CREATED:20230925T121751Z
LAST-MODIFIED:20230925T121813Z
UID:1270-1697230800-1697239800@hop-pole.com
SUMMARY:Mister Wolf
DESCRIPTION:MISTER WOLF are a classic guitar driven Rock and Blues band. Not just another covers band!
URL:https://hop-pole.com/event/mister-wolf-6/
LOCATION:Hop Pole Inn\, Bromsgrove
ATTACH;FMTTYPE=image/jpeg:https://hop-pole.com/wp-content/uploads/2021/10/mr-wolf.jpg
END:VEVENT
BEGIN:VEVENT
DTSTART;TZID=Europe/London:20231007T210000
DTEND;TZID=Europe/London:20231007T233000
DTSTAMP:20260425T145900
CREATED:20230925T121407Z
LAST-MODIFIED:20230925T121407Z
UID:1267-1696712400-1696721400@hop-pole.com
SUMMARY:The Reflections
DESCRIPTION:The Reflections have been around for over twenty years playing all types of music but now concentrating on the best era of music\, The Swinging 60’s.
URL:https://hop-pole.com/event/the-reflections-7/
LOCATION:Hop Pole Inn\, Bromsgrove
ATTACH;FMTTYPE=image/jpeg:https://hop-pole.com/wp-content/uploads/2023/09/reflections.jpg
END:VEVENT
BEGIN:VEVENT
DTSTART;TZID=Europe/London:20231006T210000
DTEND;TZID=Europe/London:20231006T233000
DTSTAMP:20260425T145900
CREATED:20230925T121022Z
LAST-MODIFIED:20230925T121022Z
UID:1264-1696626000-1696635000@hop-pole.com
SUMMARY:ThunderDaze
DESCRIPTION:Guitar driven classic 70s & 80s rock covers band with a twist of American West Coast Flavour.
URL:https://hop-pole.com/event/thunderdaze-3/
LOCATION:Hop Pole Inn\, Bromsgrove
ATTACH;FMTTYPE=image/jpeg:https://hop-pole.com/wp-content/uploads/2023/09/Thunder-Daze.jpg
END:VEVENT
BEGIN:VEVENT
DTSTART;TZID=Europe/London:20231005T210000
DTEND;TZID=Europe/London:20231005T230000
DTSTAMP:20260425T145900
CREATED:20230925T120652Z
LAST-MODIFIED:20230925T120652Z
UID:1262-1696539600-1696546800@hop-pole.com
SUMMARY:Stu Bishop
DESCRIPTION:Acoustic set\, singing\, laughing and maybe a few beers in between.
URL:https://hop-pole.com/event/stu-bishop-2/
LOCATION:Hop Pole Inn\, Bromsgrove
ATTACH;FMTTYPE=image/jpeg:https://hop-pole.com/wp-content/uploads/2023/04/stu.jpg
END:VEVENT
BEGIN:VEVENT
DTSTART;TZID=Europe/London:20230930T210000
DTEND;TZID=Europe/London:20230930T233000
DTSTAMP:20260425T145900
CREATED:20230826T121435Z
LAST-MODIFIED:20230826T121435Z
UID:1251-1696107600-1696116600@hop-pole.com
SUMMARY:Hot Foot
DESCRIPTION:HOTFOOT are a Midlands based Classic Rock outfit performing Rock classics.
URL:https://hop-pole.com/event/hot-foot-3/
LOCATION:Hop Pole Inn\, Bromsgrove
ATTACH;FMTTYPE=image/jpeg:https://hop-pole.com/wp-content/uploads/2022/05/hotfoot.jpg
END:VEVENT
BEGIN:VEVENT
DTSTART;TZID=Europe/London:20230929T210000
DTEND;TZID=Europe/London:20230929T233000
DTSTAMP:20260425T145900
CREATED:20230826T121203Z
LAST-MODIFIED:20230925T115659Z
UID:1248-1696021200-1696030200@hop-pole.com
SUMMARY:Wired 2 Party
DESCRIPTION:Midlands based wedding and functions band playing\, soul\, disco\, rock\, funk and pop hits. Book now!
URL:https://hop-pole.com/event/broken-english-2/
LOCATION:Hop Pole Inn\, Bromsgrove
ATTACH;FMTTYPE=image/jpeg:https://hop-pole.com/wp-content/uploads/2023/01/Wired2Party.jpg
END:VEVENT
BEGIN:VEVENT
DTSTART;TZID=Europe/London:20230923T210000
DTEND;TZID=Europe/London:20230923T233000
DTSTAMP:20260425T145900
CREATED:20230826T120307Z
LAST-MODIFIED:20230826T120307Z
UID:1246-1695502800-1695511800@hop-pole.com
SUMMARY:KrazyLegz
DESCRIPTION:Typical Krazy Rock
URL:https://hop-pole.com/event/krazylegz-6/
LOCATION:Hop Pole Inn\, Bromsgrove
ATTACH;FMTTYPE=image/jpeg:https://hop-pole.com/wp-content/uploads/2022/03/84343546_10156810026882301_3427824518607929344_n.jpg
END:VEVENT
BEGIN:VEVENT
DTSTART;TZID=Europe/London:20230922T210000
DTEND;TZID=Europe/London:20230922T233000
DTSTAMP:20260425T145900
CREATED:20230826T120057Z
LAST-MODIFIED:20230826T120057Z
UID:1243-1695416400-1695425400@hop-pole.com
SUMMARY:Debbie Parry Band
DESCRIPTION:A high octane 4 piece female fronted band\, covering songs from led zeppelin\, to dusty springfield.
URL:https://hop-pole.com/event/debbie-parry-band/
LOCATION:Hop Pole Inn\, Bromsgrove
ATTACH;FMTTYPE=image/jpeg:https://hop-pole.com/wp-content/uploads/2023/08/330973581_951025269640767_678394170838994285_n.jpg
END:VEVENT
BEGIN:VEVENT
DTSTART;TZID=Europe/London:20230916T210000
DTEND;TZID=Europe/London:20230916T233000
DTSTAMP:20260425T145900
CREATED:20230826T115651Z
LAST-MODIFIED:20230826T115651Z
UID:1240-1694898000-1694907000@hop-pole.com
SUMMARY:Totally 80's
DESCRIPTION:Totally 80s are a Worcestershire based Covers Band performing Rock and Pop hits from the 1980s.
URL:https://hop-pole.com/event/totally-80s/
LOCATION:Hop Pole Inn\, Bromsgrove
END:VEVENT
BEGIN:VEVENT
DTSTART;TZID=Europe/London:20230915T210000
DTEND;TZID=Europe/London:20230915T233000
DTSTAMP:20260425T145900
CREATED:20230826T114624Z
LAST-MODIFIED:20230826T114624Z
UID:1238-1694811600-1694820600@hop-pole.com
SUMMARY:Quo aka The Four Rossis
DESCRIPTION:A tribute to the music of Status Quo (1969 to 1977) played with energy\, enthusiasm and humour.
URL:https://hop-pole.com/event/quo-aka-the-four-rossis-3/
LOCATION:Hop Pole Inn\, Bromsgrove
ATTACH;FMTTYPE=image/png:https://hop-pole.com/wp-content/uploads/2021/09/23270256_183194235569782_7091234728435292698_o.png
END:VEVENT
BEGIN:VEVENT
DTSTART;TZID=Europe/London:20230909T210000
DTEND;TZID=Europe/London:20230909T233000
DTSTAMP:20260425T145900
CREATED:20230826T114411Z
LAST-MODIFIED:20230826T114411Z
UID:1236-1694293200-1694302200@hop-pole.com
SUMMARY:Bosted JukeBox
DESCRIPTION:Bosted Jukebox are a 4 piece band with all members being from the good old Black Country
URL:https://hop-pole.com/event/bosted-jukebox-2/
LOCATION:Hop Pole Inn\, Bromsgrove
ATTACH;FMTTYPE=image/jpeg:https://hop-pole.com/wp-content/uploads/2022/06/bosted-jukebox.jpg
END:VEVENT
BEGIN:VEVENT
DTSTART;TZID=Europe/London:20230908T210000
DTEND;TZID=Europe/London:20230908T233000
DTSTAMP:20260425T145900
CREATED:20230826T114149Z
LAST-MODIFIED:20230826T114149Z
UID:1234-1694206800-1694215800@hop-pole.com
SUMMARY:Lucas D and The Groove Ghetto
DESCRIPTION:7 piece Funk/Soul/Acid Jazz outfit playing an eclectic mix of classic hits and groovy floor fillers!
URL:https://hop-pole.com/event/lucas-d-and-the-groove-ghetto-5/
LOCATION:Hop Pole Inn\, Bromsgrove
ATTACH;FMTTYPE=image/jpeg:https://hop-pole.com/wp-content/uploads/2022/03/400077_483538218354407_816055488_n.jpg
END:VEVENT
BEGIN:VEVENT
DTSTART;TZID=Europe/London:20230907T210000
DTEND;TZID=Europe/London:20230907T233000
DTSTAMP:20260425T145900
CREATED:20230826T113830Z
LAST-MODIFIED:20230826T113830Z
UID:1232-1694120400-1694129400@hop-pole.com
SUMMARY:Loz Rabone
DESCRIPTION:Acoustic Set
URL:https://hop-pole.com/event/loz-rabone-6/
LOCATION:Hop Pole Inn\, Bromsgrove
ATTACH;FMTTYPE=image/jpeg:https://hop-pole.com/wp-content/uploads/2022/05/Loz.jpg
END:VEVENT
BEGIN:VEVENT
DTSTART;TZID=Europe/London:20230902T210000
DTEND;TZID=Europe/London:20230902T233000
DTSTAMP:20260425T145900
CREATED:20230826T113459Z
LAST-MODIFIED:20230826T113459Z
UID:1230-1693688400-1693697400@hop-pole.com
SUMMARY:Jack Read and The Shaders
DESCRIPTION:West midlands power trio playing an eclectic mix of guitar pop\, rock\, britpop\, indie and soul.
URL:https://hop-pole.com/event/jack-read-and-the-shaders-6/
LOCATION:Hop Pole Inn\, Bromsgrove
END:VEVENT
BEGIN:VEVENT
DTSTART;TZID=Europe/London:20230826T210000
DTEND;TZID=Europe/London:20230826T233000
DTSTAMP:20260425T145900
CREATED:20230803T134152Z
LAST-MODIFIED:20230803T134152Z
UID:1221-1693083600-1693092600@hop-pole.com
SUMMARY:Velvet Jam
DESCRIPTION:four piece band based in Worcestershire\, playing the songs you love! 🎶
URL:https://hop-pole.com/event/velvet-jam-2/
LOCATION:Hop Pole Inn\, Bromsgrove
ATTACH;FMTTYPE=image/jpeg:https://hop-pole.com/wp-content/uploads/2023/05/velvet-jam.jpg
END:VEVENT
BEGIN:VEVENT
DTSTART;TZID=Europe/London:20230825T210000
DTEND;TZID=Europe/London:20230825T233000
DTSTAMP:20260425T145900
CREATED:20230803T133833Z
LAST-MODIFIED:20230803T133833Z
UID:1218-1692997200-1693006200@hop-pole.com
SUMMARY:Black Heart Angels
DESCRIPTION:Explosion of energy along with perfect music quality \nBrilliant energetic and awesome band \nFantastic cover versions of songs everyone loves! \namazing band! absolutely incredible\, gets everyone dancing\, you know all the songs\, makes any night one to remember!
URL:https://hop-pole.com/event/black-heart-angels/
LOCATION:Hop Pole Inn\, Bromsgrove
ATTACH;FMTTYPE=image/jpeg:https://hop-pole.com/wp-content/uploads/2023/08/315749548_830262654616709_2816621361355310421_n.jpg
END:VEVENT
BEGIN:VEVENT
DTSTART;TZID=Europe/London:20230819T210000
DTEND;TZID=Europe/London:20230819T233000
DTSTAMP:20260425T145900
CREATED:20230803T133020Z
LAST-MODIFIED:20230803T133020Z
UID:1215-1692478800-1692487800@hop-pole.com
SUMMARY:Legend
DESCRIPTION:High Energy Rock Classics\, never a night to miss\, dancing shoes a must!
URL:https://hop-pole.com/event/legend-7/
LOCATION:Hop Pole Inn\, Bromsgrove
ATTACH;FMTTYPE=image/jpeg:https://hop-pole.com/wp-content/uploads/2023/08/269130170_5028984060455880_8049561567918343528_n.jpg
END:VEVENT
BEGIN:VEVENT
DTSTART;TZID=Europe/London:20230818T210000
DTEND;TZID=Europe/London:20230818T233000
DTSTAMP:20260425T145900
CREATED:20230803T132255Z
LAST-MODIFIED:20230803T132255Z
UID:1212-1692392400-1692401400@hop-pole.com
SUMMARY:Doctor Cornelius
DESCRIPTION:The Doctor will see you there\, your prescription for the night is Soul\, Disco and Funk.
URL:https://hop-pole.com/event/doctor-cornelius-3/
LOCATION:Hop Pole Inn\, Bromsgrove
END:VEVENT
BEGIN:VEVENT
DTSTART;TZID=Europe/London:20230812T210000
DTEND;TZID=Europe/London:20230812T233000
DTSTAMP:20260425T145900
CREATED:20230803T131709Z
LAST-MODIFIED:20230803T131709Z
UID:1210-1691874000-1691883000@hop-pole.com
SUMMARY:Bang on The Ear
DESCRIPTION:Rocking the night away with foot stomping irish rock and folk songs
URL:https://hop-pole.com/event/bang-on-the-ear-4/
LOCATION:Hop Pole Inn\, Bromsgrove
ATTACH;FMTTYPE=image/jpeg:https://hop-pole.com/wp-content/uploads/2022/06/288304661_8019018094782957_4952371278950620640_n.jpg
END:VEVENT
BEGIN:VEVENT
DTSTART;TZID=Europe/London:20230811T210000
DTEND;TZID=Europe/London:20230811T233000
DTSTAMP:20260425T145900
CREATED:20230803T131431Z
LAST-MODIFIED:20230803T131431Z
UID:1208-1691787600-1691796600@hop-pole.com
SUMMARY:Contraband
DESCRIPTION:
URL:https://hop-pole.com/event/contraband-4/
LOCATION:Hop Pole Inn\, Bromsgrove
ATTACH;FMTTYPE=image/jpeg:https://hop-pole.com/wp-content/uploads/2021/09/82282816_596977087754126_3729502441658384384_n.jpg
END:VEVENT
BEGIN:VEVENT
DTSTART;TZID=Europe/London:20230805T210000
DTEND;TZID=Europe/London:20230805T233000
DTSTAMP:20260425T145900
CREATED:20230803T130230Z
LAST-MODIFIED:20230803T130230Z
UID:1205-1691269200-1691278200@hop-pole.com
SUMMARY:The Reflections
DESCRIPTION:Grab those dancing shoes\, this is going to be a rocking night with rock n roll hits from start tofinish.
URL:https://hop-pole.com/event/the-reflections-6/
LOCATION:Hop Pole Inn\, Bromsgrove
ATTACH;FMTTYPE=image/jpeg:https://hop-pole.com/wp-content/uploads/2023/08/356665423_759847966145027_838991781425577061_n.jpg
END:VEVENT
BEGIN:VEVENT
DTSTART;TZID=Europe/London:20230804T210000
DTEND;TZID=Europe/London:20230804T233000
DTSTAMP:20260425T145900
CREATED:20230803T125514Z
LAST-MODIFIED:20230803T125514Z
UID:1203-1691182800-1691191800@hop-pole.com
SUMMARY:Melvin Hancox Band
DESCRIPTION:A night not to be missed
URL:https://hop-pole.com/event/melvin-hancox-band-2/
LOCATION:Hop Pole Inn\, Bromsgrove
END:VEVENT
BEGIN:VEVENT
DTSTART;TZID=Europe/London:20230729T210000
DTEND;TZID=Europe/London:20230729T233000
DTSTAMP:20260425T145900
CREATED:20230620T191725Z
LAST-MODIFIED:20230620T191725Z
UID:1191-1690664400-1690673400@hop-pole.com
SUMMARY:Vehicle
DESCRIPTION:ELO to Tears For Fears\, Thin Lizzy to Fleetwood Mac and Don Henley. Vehicle are a 5 piece professional covers band.
URL:https://hop-pole.com/event/vehicle-4/
LOCATION:Hop Pole Inn\, Bromsgrove
ATTACH;FMTTYPE=image/jpeg:https://hop-pole.com/wp-content/uploads/2022/05/274724453_1843262809198596_4313489111116532787_n.jpg
END:VEVENT
END:VCALENDAR