BEGIN:VCALENDAR
VERSION:2.0
PRODID:-//The Hop Pole Inn - ECPv6.15.20//NONSGML v1.0//EN
CALSCALE:GREGORIAN
METHOD:PUBLISH
X-WR-CALNAME:The Hop Pole Inn
X-ORIGINAL-URL:https://hop-pole.com
X-WR-CALDESC:Events for The Hop Pole Inn
REFRESH-INTERVAL;VALUE=DURATION:PT1H
X-Robots-Tag:noindex
X-PUBLISHED-TTL:PT1H
BEGIN:VTIMEZONE
TZID:Europe/London
BEGIN:DAYLIGHT
TZOFFSETFROM:+0000
TZOFFSETTO:+0100
TZNAME:BST
DTSTART:20220327T010000
END:DAYLIGHT
BEGIN:STANDARD
TZOFFSETFROM:+0100
TZOFFSETTO:+0000
TZNAME:GMT
DTSTART:20221030T010000
END:STANDARD
BEGIN:DAYLIGHT
TZOFFSETFROM:+0000
TZOFFSETTO:+0100
TZNAME:BST
DTSTART:20230326T010000
END:DAYLIGHT
BEGIN:STANDARD
TZOFFSETFROM:+0100
TZOFFSETTO:+0000
TZNAME:GMT
DTSTART:20231029T010000
END:STANDARD
BEGIN:DAYLIGHT
TZOFFSETFROM:+0000
TZOFFSETTO:+0100
TZNAME:BST
DTSTART:20240331T010000
END:DAYLIGHT
BEGIN:STANDARD
TZOFFSETFROM:+0100
TZOFFSETTO:+0000
TZNAME:GMT
DTSTART:20241027T010000
END:STANDARD
BEGIN:DAYLIGHT
TZOFFSETFROM:+0000
TZOFFSETTO:+0100
TZNAME:BST
DTSTART:20250330T010000
END:DAYLIGHT
BEGIN:STANDARD
TZOFFSETFROM:+0100
TZOFFSETTO:+0000
TZNAME:GMT
DTSTART:20251026T010000
END:STANDARD
END:VTIMEZONE
BEGIN:VEVENT
DTSTART;TZID=Europe/London:20240112T210000
DTEND;TZID=Europe/London:20240112T233000
DTSTAMP:20260425T113440
CREATED:20240103T133014Z
LAST-MODIFIED:20240103T133014Z
UID:1363-1705093200-1705102200@hop-pole.com
SUMMARY:Brass Beatz
DESCRIPTION:We are an 8 piece party band with a brass section\, playing feelgood tunes from 60/70’s to modern day.
URL:https://hop-pole.com/event/brass-beatz-6/
LOCATION:Hop Pole Inn\, Bromsgrove
ATTACH;FMTTYPE=image/jpeg:https://hop-pole.com/wp-content/uploads/2023/01/brass-beatz.jpg
END:VEVENT
BEGIN:VEVENT
DTSTART;TZID=Europe/London:20240106T210000
DTEND;TZID=Europe/London:20240106T233000
DTSTAMP:20260425T113440
CREATED:20240103T132701Z
LAST-MODIFIED:20240103T132701Z
UID:1361-1704574800-1704583800@hop-pole.com
SUMMARY:Full Metal Racket
DESCRIPTION:classic rock and metal brought to you
URL:https://hop-pole.com/event/full-metal-racket-3/
LOCATION:Hop Pole Inn\, Bromsgrove
ATTACH;FMTTYPE=image/jpeg:https://hop-pole.com/wp-content/uploads/2023/09/FMR.jpg
END:VEVENT
BEGIN:VEVENT
DTSTART;TZID=Europe/London:20240105T210000
DTEND;TZID=Europe/London:20240105T233000
DTSTAMP:20260425T113440
CREATED:20240103T132525Z
LAST-MODIFIED:20240103T132525Z
UID:1359-1704488400-1704497400@hop-pole.com
SUMMARY:Behind The Bike Sheds
DESCRIPTION:The ultimate classic 80’s anthems band! \nBringing the party to a playground near you!
URL:https://hop-pole.com/event/behind-the-bike-sheds-7/
LOCATION:Hop Pole Inn\, Bromsgrove
ATTACH;FMTTYPE=image/jpeg:https://hop-pole.com/wp-content/uploads/2022/01/17814303_792525077567457_2778538648761111627_o.jpg
END:VEVENT
BEGIN:VEVENT
DTSTART;TZID=Europe/London:20231231T210000
DTEND;TZID=Europe/London:20231231T233000
DTSTAMP:20260425T113440
CREATED:20231031T161909Z
LAST-MODIFIED:20231031T162212Z
UID:1341-1704056400-1704065400@hop-pole.com
SUMMARY:Vaseline
DESCRIPTION:It’s the big one\, New Years Eve party with Vaseline seeing us into the New Year with a right laugh\, some classic punk tracks.
URL:https://hop-pole.com/event/vaseline-7/
LOCATION:Hop Pole Inn\, Bromsgrove
END:VEVENT
BEGIN:VEVENT
DTSTART;TZID=Europe/London:20231230T210000
DTEND;TZID=Europe/London:20231230T233000
DTSTAMP:20260425T113440
CREATED:20231031T160557Z
LAST-MODIFIED:20231031T160557Z
UID:1339-1703970000-1703979000@hop-pole.com
SUMMARY:Velvet Jam
DESCRIPTION:A four piece band based in Worcestershire\, playing the songs you love!
URL:https://hop-pole.com/event/velvet-jam-3/
LOCATION:Hop Pole Inn\, Bromsgrove
ATTACH;FMTTYPE=image/jpeg:https://hop-pole.com/wp-content/uploads/2023/05/velvet-jam.jpg
END:VEVENT
BEGIN:VEVENT
DTSTART;TZID=Europe/London:20231229T210000
DTEND;TZID=Europe/London:20231229T233000
DTSTAMP:20260425T113440
CREATED:20231031T160412Z
LAST-MODIFIED:20231031T160412Z
UID:1337-1703883600-1703892600@hop-pole.com
SUMMARY:Totally 80's
DESCRIPTION:Totally 80s are a 4-Piece Covers Band performing Rock and Pop hits from the 1980s.
URL:https://hop-pole.com/event/totally-80s-2/
LOCATION:Hop Pole Inn\, Bromsgrove
END:VEVENT
BEGIN:VEVENT
DTSTART;TZID=Europe/London:20231228T210000
DTEND;TZID=Europe/London:20231228T233000
DTSTAMP:20260425T113440
CREATED:20231031T160236Z
LAST-MODIFIED:20231031T160236Z
UID:1334-1703797200-1703806200@hop-pole.com
SUMMARY:Hot Space
DESCRIPTION:Bringing you a night of the greatest hits of Queen!\nNo wigs or moustache\, just pure epic music that is guaranteed to get you on the dancefloor
URL:https://hop-pole.com/event/hot-space-4/
LOCATION:Hop Pole Inn\, Bromsgrove
ATTACH;FMTTYPE=image/jpeg:https://hop-pole.com/wp-content/uploads/2023/10/384104353_816238373846309_4288203987327969671_n.jpg
END:VEVENT
BEGIN:VEVENT
DTSTART;TZID=Europe/London:20231224T210000
DTEND;TZID=Europe/London:20231224T233000
DTSTAMP:20260425T113440
CREATED:20231031T154116Z
LAST-MODIFIED:20231031T154116Z
UID:1332-1703451600-1703460600@hop-pole.com
SUMMARY:Jack Read and The Shaders
DESCRIPTION:Christmas Eve with Jack Read and The Shaders. \nWest midlands power trio playing an eclectic mix of guitar pop\, rock\, britpop\, indie and soul.
URL:https://hop-pole.com/event/jack-read-and-the-shaders-7/
LOCATION:Hop Pole Inn\, Bromsgrove
END:VEVENT
BEGIN:VEVENT
DTSTART;TZID=Europe/London:20231223T210000
DTEND;TZID=Europe/London:20231223T233000
DTSTAMP:20260425T113440
CREATED:20231031T153912Z
LAST-MODIFIED:20231031T153912Z
UID:1330-1703365200-1703374200@hop-pole.com
SUMMARY:Thunder Daze
DESCRIPTION:Guitar driven classic 70s & 80s rock covers band with a twist of American West Coast Flavour.
URL:https://hop-pole.com/event/thunder-daze-6/
LOCATION:Hop Pole Inn\, Bromsgrove
ATTACH;FMTTYPE=image/jpeg:https://hop-pole.com/wp-content/uploads/2023/09/Thunder-Daze.jpg
END:VEVENT
BEGIN:VEVENT
DTSTART;TZID=Europe/London:20231222T210000
DTEND;TZID=Europe/London:20231222T233000
DTSTAMP:20260425T113440
CREATED:20231031T153752Z
LAST-MODIFIED:20231031T153752Z
UID:1328-1703278800-1703287800@hop-pole.com
SUMMARY:Common People
DESCRIPTION:Britpop Tribute Act – #ReliveThe90s with our totally live show dedicated to the music of Oasis\, Blur and many more
URL:https://hop-pole.com/event/common-people-7/
LOCATION:Hop Pole Inn\, Bromsgrove
ATTACH;FMTTYPE=image/png:https://hop-pole.com/wp-content/uploads/2022/06/23659414_1498840666878766_8940637037064229388_n.png
END:VEVENT
BEGIN:VEVENT
DTSTART;TZID=Europe/London:20231221T000000
DTEND;TZID=Europe/London:20231221T233000
DTSTAMP:20260425T113440
CREATED:20231031T153450Z
LAST-MODIFIED:20231031T153450Z
UID:1326-1703116800-1703201400@hop-pole.com
SUMMARY:Skrood
DESCRIPTION:Old enough to know better\, young enough to do it anyway! Classic rock covers\, ’60s to present day.
URL:https://hop-pole.com/event/skrood-6/
LOCATION:Hop Pole Inn\, Bromsgrove
ATTACH;FMTTYPE=image/jpeg:https://hop-pole.com/wp-content/uploads/2022/01/66803473_2079338668844549_2254689330243043328_n.jpg
END:VEVENT
BEGIN:VEVENT
DTSTART;TZID=Europe/London:20231216T210000
DTEND;TZID=Europe/London:20231216T233000
DTSTAMP:20260425T113440
CREATED:20231031T152819Z
LAST-MODIFIED:20231031T152819Z
UID:1324-1702760400-1702769400@hop-pole.com
SUMMARY:Vehicle
DESCRIPTION:ELO to Tears For Fears\, Thin Lizzy to Fleetwood Mac and Don Henley. Vehicle are a 5 piece band.
URL:https://hop-pole.com/event/vehicle-5/
LOCATION:Hop Pole Inn\, Bromsgrove
ATTACH;FMTTYPE=image/jpeg:https://hop-pole.com/wp-content/uploads/2022/05/274724453_1843262809198596_4313489111116532787_n.jpg
END:VEVENT
BEGIN:VEVENT
DTSTART;TZID=Europe/London:20231215T210000
DTEND;TZID=Europe/London:20231215T233000
DTSTAMP:20260425T113440
CREATED:20231031T152605Z
LAST-MODIFIED:20231031T152605Z
UID:1322-1702674000-1702683000@hop-pole.com
SUMMARY:Mister Wolf
DESCRIPTION:Rock n Blues
URL:https://hop-pole.com/event/mister-wolf-7/
LOCATION:Hop Pole Inn\, Bromsgrove
ATTACH;FMTTYPE=image/jpeg:https://hop-pole.com/wp-content/uploads/2021/10/mr-wolf.jpg
END:VEVENT
BEGIN:VEVENT
DTSTART;TZID=Europe/London:20231209T210000
DTEND;TZID=Europe/London:20231209T233000
DTSTAMP:20260425T113440
CREATED:20231031T152125Z
LAST-MODIFIED:20231031T152125Z
UID:1319-1702155600-1702164600@hop-pole.com
SUMMARY:The Beards
DESCRIPTION:WoW\, what a band\, how to describe this band\, best way to do that is to let you all know they’re different and the dance floor is full from start to finish.
URL:https://hop-pole.com/event/the-beards/
LOCATION:Hop Pole Inn\, Bromsgrove
ATTACH;FMTTYPE=image/jpeg:https://hop-pole.com/wp-content/uploads/2023/10/The-Beards.jpg
END:VEVENT
BEGIN:VEVENT
DTSTART;TZID=Europe/London:20231208T210000
DTEND;TZID=Europe/London:20231208T233000
DTSTAMP:20260425T113440
CREATED:20231031T144549Z
LAST-MODIFIED:20231127T232453Z
UID:1316-1702069200-1702078200@hop-pole.com
SUMMARY:Black Heart Angels
DESCRIPTION:The soundtrack to your weekend since 2012
URL:https://hop-pole.com/event/highway-3/
LOCATION:Hop Pole Inn\, Bromsgrove
ATTACH;FMTTYPE=image/jpeg:https://hop-pole.com/wp-content/uploads/2023/08/315749548_830262654616709_2816621361355310421_n.jpg
END:VEVENT
BEGIN:VEVENT
DTSTART;TZID=Europe/London:20231202T210000
DTEND;TZID=Europe/London:20231202T233000
DTSTAMP:20260425T113440
CREATED:20231031T142050Z
LAST-MODIFIED:20231031T142050Z
UID:1314-1701550800-1701559800@hop-pole.com
SUMMARY:KrazyLegz
DESCRIPTION:Typical Krazy night with typical Krazy Rock!
URL:https://hop-pole.com/event/krazylegz-7/
LOCATION:Hop Pole Inn\, Bromsgrove
ATTACH;FMTTYPE=image/jpeg:https://hop-pole.com/wp-content/uploads/2022/03/84343546_10156810026882301_3427824518607929344_n.jpg
END:VEVENT
BEGIN:VEVENT
DTSTART;TZID=Europe/London:20231201T210000
DTEND;TZID=Europe/London:20231201T233000
DTSTAMP:20260425T113440
CREATED:20231031T141242Z
LAST-MODIFIED:20231031T141242Z
UID:1312-1701464400-1701473400@hop-pole.com
SUMMARY:The Reflections
DESCRIPTION:Step back into the 60’s with The Reflections\, dancing shoes a must.
URL:https://hop-pole.com/event/the-reflections-8/
LOCATION:Hop Pole Inn\, Bromsgrove
ATTACH;FMTTYPE=image/jpeg:https://hop-pole.com/wp-content/uploads/2023/09/reflections.jpg
END:VEVENT
BEGIN:VEVENT
DTSTART;TZID=Europe/London:20231125T210000
DTEND;TZID=Europe/London:20231125T233000
DTSTAMP:20260425T113440
CREATED:20230925T131624Z
LAST-MODIFIED:20230925T131624Z
UID:1303-1700946000-1700955000@hop-pole.com
SUMMARY:Bosted Juke Box
DESCRIPTION:4 piece band with all members being from the good old Black Country
URL:https://hop-pole.com/event/bosted-juke-box-3/
LOCATION:Hop Pole Inn\, Bromsgrove
ATTACH;FMTTYPE=image/jpeg:https://hop-pole.com/wp-content/uploads/2022/06/bosted-jukebox.jpg
END:VEVENT
BEGIN:VEVENT
DTSTART;TZID=Europe/London:20231124T210000
DTEND;TZID=Europe/London:20231124T233000
DTSTAMP:20260425T113440
CREATED:20230925T131424Z
LAST-MODIFIED:20230925T131424Z
UID:1300-1700859600-1700868600@hop-pole.com
SUMMARY:Full Metal Racket
DESCRIPTION:Classic Rock and Metal
URL:https://hop-pole.com/event/full-metal-racket-2/
LOCATION:Hop Pole Inn\, Bromsgrove
ATTACH;FMTTYPE=image/jpeg:https://hop-pole.com/wp-content/uploads/2023/09/FMR.jpg
END:VEVENT
BEGIN:VEVENT
DTSTART;TZID=Europe/London:20231118T210000
DTEND;TZID=Europe/London:20231118T233000
DTSTAMP:20260425T113440
CREATED:20230925T130457Z
LAST-MODIFIED:20231031T201423Z
UID:1297-1700341200-1700350200@hop-pole.com
SUMMARY:The Scandal
DESCRIPTION:THE MOST FUNKIEST TWO TONE REGGAE BAND WITH A TWIST!!
URL:https://hop-pole.com/event/the-scandal/
LOCATION:Hop Pole Inn\, Bromsgrove
ATTACH;FMTTYPE=image/jpeg:https://hop-pole.com/wp-content/uploads/2023/09/The-Scandal.jpg
END:VEVENT
BEGIN:VEVENT
DTSTART;TZID=Europe/London:20231117T210000
DTEND;TZID=Europe/London:20231117T233000
DTSTAMP:20260425T113440
CREATED:20230925T130148Z
LAST-MODIFIED:20230925T130148Z
UID:1295-1700254800-1700263800@hop-pole.com
SUMMARY:Doctor Cornelius
DESCRIPTION:Soul\, Funk and Disco – Dancing shoes a must!
URL:https://hop-pole.com/event/doctor-cornelius-4/
LOCATION:Hop Pole Inn\, Bromsgrove
ATTACH;FMTTYPE=image/jpeg:https://hop-pole.com/wp-content/uploads/2022/10/237368885_1174087512996790_5004384406867713359_n.jpg
END:VEVENT
BEGIN:VEVENT
DTSTART;TZID=Europe/London:20231111T210000
DTEND;TZID=Europe/London:20231111T233000
DTSTAMP:20260425T113440
CREATED:20230925T125607Z
LAST-MODIFIED:20230925T125607Z
UID:1292-1699736400-1699745400@hop-pole.com
SUMMARY:Thirsty Work
DESCRIPTION:4 piece Rock Covers Band with ex members of Quill\, Alvin Stardust\, Curtis Little band.
URL:https://hop-pole.com/event/thirsty-work-2/
LOCATION:Hop Pole Inn\, Bromsgrove
ATTACH;FMTTYPE=image/jpeg:https://hop-pole.com/wp-content/uploads/2023/09/thirsty-work.jpg
END:VEVENT
BEGIN:VEVENT
DTSTART;TZID=Europe/London:20231110T210000
DTEND;TZID=Europe/London:20231110T233000
DTSTAMP:20260425T113440
CREATED:20230925T125334Z
LAST-MODIFIED:20230925T125334Z
UID:1290-1699650000-1699659000@hop-pole.com
SUMMARY:Contraband
DESCRIPTION:
URL:https://hop-pole.com/event/contraband-5/
LOCATION:Hop Pole Inn\, Bromsgrove
ATTACH;FMTTYPE=image/jpeg:https://hop-pole.com/wp-content/uploads/2021/09/82282816_596977087754126_3729502441658384384_n.jpg
END:VEVENT
BEGIN:VEVENT
DTSTART;TZID=Europe/London:20231104T210000
DTEND;TZID=Europe/London:20231104T233000
DTSTAMP:20260425T113440
CREATED:20230925T124850Z
LAST-MODIFIED:20230925T124850Z
UID:1288-1699131600-1699140600@hop-pole.com
SUMMARY:CADA
DESCRIPTION:If you want Rock – you got it!!
URL:https://hop-pole.com/event/cada-5/
LOCATION:Hop Pole Inn\, Bromsgrove
ATTACH;FMTTYPE=image/jpeg:https://hop-pole.com/wp-content/uploads/2022/10/312807312_651010296586257_3035776537357553030_n.jpg
END:VEVENT
BEGIN:VEVENT
DTSTART;TZID=Europe/London:20231103T210000
DTEND;TZID=Europe/London:20231103T233000
DTSTAMP:20260425T113440
CREATED:20230925T124438Z
LAST-MODIFIED:20230925T124438Z
UID:1286-1699045200-1699054200@hop-pole.com
SUMMARY:Satchel Paige
DESCRIPTION:Upbeat cover band from Worcestershire\, born from the glow of electric heaters in a Callow End barn.
URL:https://hop-pole.com/event/satchel-paige-3/
LOCATION:Hop Pole Inn\, Bromsgrove
END:VEVENT
BEGIN:VEVENT
DTSTART;TZID=Europe/London:20231102T200000
DTEND;TZID=Europe/London:20231102T220000
DTSTAMP:20260425T113440
CREATED:20230925T124228Z
LAST-MODIFIED:20230925T124228Z
UID:1284-1698955200-1698962400@hop-pole.com
SUMMARY:Maria and Don
DESCRIPTION:Acoustic Set
URL:https://hop-pole.com/event/maria-and-don/
LOCATION:Hop Pole Inn\, Bromsgrove
END:VEVENT
BEGIN:VEVENT
DTSTART;TZID=Europe/London:20231028T210000
DTEND;TZID=Europe/London:20231028T233000
DTSTAMP:20260425T113440
CREATED:20230925T124042Z
LAST-MODIFIED:20230925T124042Z
UID:1281-1698526800-1698535800@hop-pole.com
SUMMARY:Push 2 Play
DESCRIPTION:
URL:https://hop-pole.com/event/push-2-play-2/
LOCATION:Hop Pole Inn\, Bromsgrove
ATTACH;FMTTYPE=image/jpeg:https://hop-pole.com/wp-content/uploads/2023/09/push-to-play.jpg
END:VEVENT
BEGIN:VEVENT
DTSTART;TZID=Europe/London:20231027T210000
DTEND;TZID=Europe/London:20231027T233000
DTSTAMP:20260425T113440
CREATED:20230925T123050Z
LAST-MODIFIED:20230925T123050Z
UID:1279-1698440400-1698449400@hop-pole.com
SUMMARY:Skrood
DESCRIPTION:Old enough to know better\, young enough to do it anyway!\nClassic rock covers\, ’60s to present.
URL:https://hop-pole.com/event/skrood-5/
LOCATION:Hop Pole Inn\, Bromsgrove
ATTACH;FMTTYPE=image/jpeg:https://hop-pole.com/wp-content/uploads/2022/01/66803473_2079338668844549_2254689330243043328_n.jpg
END:VEVENT
BEGIN:VEVENT
DTSTART;TZID=Europe/London:20231021T210000
DTEND;TZID=Europe/London:20231021T233000
DTSTAMP:20260425T113440
CREATED:20230925T122908Z
LAST-MODIFIED:20230925T122908Z
UID:1276-1697922000-1697931000@hop-pole.com
SUMMARY:Legend
DESCRIPTION:An entertaining Classic Rock Band\, playing good time\, well known ROCK’n’ROLL – Party On !
URL:https://hop-pole.com/event/legend-8/
LOCATION:Hop Pole Inn\, Bromsgrove
ATTACH;FMTTYPE=image/jpeg:https://hop-pole.com/wp-content/uploads/2023/09/legend.jpg
END:VEVENT
BEGIN:VEVENT
DTSTART;TZID=Europe/London:20231020T210000
DTEND;TZID=Europe/London:20231020T233000
DTSTAMP:20260425T113440
CREATED:20230925T122453Z
LAST-MODIFIED:20230925T122453Z
UID:1274-1697835600-1697844600@hop-pole.com
SUMMARY:Mother Popcorn
DESCRIPTION:The only place to see the amazing Mother Popcorn \nA fantastic three piece band covering rock\, indie\, pop and funk classics from 60s to modern day.
URL:https://hop-pole.com/event/mother-popcorn-6/
LOCATION:Hop Pole Inn\, Bromsgrove
ATTACH;FMTTYPE=image/jpeg:https://hop-pole.com/wp-content/uploads/2023/01/IMG-0170.jpg
END:VEVENT
END:VCALENDAR