BEGIN:VCALENDAR
VERSION:2.0
PRODID:-//The Hop Pole Inn - ECPv6.15.20//NONSGML v1.0//EN
CALSCALE:GREGORIAN
METHOD:PUBLISH
X-WR-CALNAME:The Hop Pole Inn
X-ORIGINAL-URL:https://hop-pole.com
X-WR-CALDESC:Events for The Hop Pole Inn
REFRESH-INTERVAL;VALUE=DURATION:PT1H
X-Robots-Tag:noindex
X-PUBLISHED-TTL:PT1H
BEGIN:VTIMEZONE
TZID:Europe/London
BEGIN:DAYLIGHT
TZOFFSETFROM:+0000
TZOFFSETTO:+0100
TZNAME:BST
DTSTART:20220327T010000
END:DAYLIGHT
BEGIN:STANDARD
TZOFFSETFROM:+0100
TZOFFSETTO:+0000
TZNAME:GMT
DTSTART:20221030T010000
END:STANDARD
BEGIN:DAYLIGHT
TZOFFSETFROM:+0000
TZOFFSETTO:+0100
TZNAME:BST
DTSTART:20230326T010000
END:DAYLIGHT
BEGIN:STANDARD
TZOFFSETFROM:+0100
TZOFFSETTO:+0000
TZNAME:GMT
DTSTART:20231029T010000
END:STANDARD
BEGIN:DAYLIGHT
TZOFFSETFROM:+0000
TZOFFSETTO:+0100
TZNAME:BST
DTSTART:20240331T010000
END:DAYLIGHT
BEGIN:STANDARD
TZOFFSETFROM:+0100
TZOFFSETTO:+0000
TZNAME:GMT
DTSTART:20241027T010000
END:STANDARD
BEGIN:DAYLIGHT
TZOFFSETFROM:+0000
TZOFFSETTO:+0100
TZNAME:BST
DTSTART:20250330T010000
END:DAYLIGHT
BEGIN:STANDARD
TZOFFSETFROM:+0100
TZOFFSETTO:+0000
TZNAME:GMT
DTSTART:20251026T010000
END:STANDARD
END:VTIMEZONE
BEGIN:VEVENT
DTSTART;TZID=Europe/London:20240413T210000
DTEND;TZID=Europe/London:20240413T233000
DTSTAMP:20260425T043017
CREATED:20240310T192141Z
LAST-MODIFIED:20240310T192141Z
UID:1440-1713042000-1713051000@hop-pole.com
SUMMARY:Mimosa Band
DESCRIPTION:A 3 piece party Pop & rock cover band. Covering songs from the last 40+ years!\nWe don’t stick to one style of music\, we try to play something for everyone!
URL:https://hop-pole.com/event/mimosa-band/
LOCATION:Hop Pole Inn\, Bromsgrove
ATTACH;FMTTYPE=image/jpeg:https://hop-pole.com/wp-content/uploads/2024/03/mimosa.jpg
END:VEVENT
BEGIN:VEVENT
DTSTART;TZID=Europe/London:20240412T210000
DTEND;TZID=Europe/London:20240412T233000
DTSTAMP:20260425T043017
CREATED:20240310T191844Z
LAST-MODIFIED:20240310T191844Z
UID:1438-1712955600-1712964600@hop-pole.com
SUMMARY:The After Party Band
DESCRIPTION:An exciting act based in the West Midlands specialising in Parties\, Functions\, Weddings and all other types of event. Performing party hits from across the decades\, the band are sure to keep you on the dance floor all night long.
URL:https://hop-pole.com/event/the-after-party-band/
LOCATION:Hop Pole Inn\, Bromsgrove
END:VEVENT
BEGIN:VEVENT
DTSTART;TZID=Europe/London:20240406T210000
DTEND;TZID=Europe/London:20240406T233000
DTSTAMP:20260425T043017
CREATED:20240310T191310Z
LAST-MODIFIED:20240310T191310Z
UID:1436-1712437200-1712446200@hop-pole.com
SUMMARY:Legend
DESCRIPTION:An entertaining Classic Rock Band\, playing good time\, well known ROCK’n’ROLL – Party On !
URL:https://hop-pole.com/event/legend-10/
LOCATION:Hop Pole Inn\, Bromsgrove
ATTACH;FMTTYPE=image/jpeg:https://hop-pole.com/wp-content/uploads/2021/10/legend.jpg
END:VEVENT
BEGIN:VEVENT
DTSTART;TZID=Europe/London:20240405T210000
DTEND;TZID=Europe/London:20240405T233000
DTSTAMP:20260425T043017
CREATED:20240310T190331Z
LAST-MODIFIED:20240310T190331Z
UID:1434-1712350800-1712359800@hop-pole.com
SUMMARY:Common People
DESCRIPTION:Brit pop and Indie Anthems. \nBritpop Tribute Act – #Relive The 90s with our totally live show dedicated to the music of Oasis\, Blur and many more!
URL:https://hop-pole.com/event/common-people-8/
LOCATION:Hop Pole Inn\, Bromsgrove
ATTACH;FMTTYPE=image/png:https://hop-pole.com/wp-content/uploads/2022/06/23659414_1498840666878766_8940637037064229388_n.png
END:VEVENT
BEGIN:VEVENT
DTSTART;TZID=Europe/London:20240330T210000
DTEND;TZID=Europe/London:20240330T233000
DTSTAMP:20260425T043017
CREATED:20240226T170610Z
LAST-MODIFIED:20240226T170610Z
UID:1427-1711832400-1711841400@hop-pole.com
SUMMARY:Hot Space - A night of Queen
DESCRIPTION:The name says it all. \nFloor filling bangers from a great bunch of lads who bring their own style to Queen classics.
URL:https://hop-pole.com/event/hot-space-a-night-of-queen/
LOCATION:Hop Pole Inn\, Bromsgrove
ATTACH;FMTTYPE=image/jpeg:https://hop-pole.com/wp-content/uploads/2024/02/HS-ANoQ.jpg
END:VEVENT
BEGIN:VEVENT
DTSTART;TZID=Europe/London:20240329T210000
DTEND;TZID=Europe/London:20240329T233000
DTSTAMP:20260425T043017
CREATED:20240226T170314Z
LAST-MODIFIED:20240226T170314Z
UID:1424-1711746000-1711755000@hop-pole.com
SUMMARY:Tin Drum
DESCRIPTION:Electric folk rock band
URL:https://hop-pole.com/event/tin-drum/
LOCATION:Hop Pole Inn\, Bromsgrove
ATTACH;FMTTYPE=image/jpeg:https://hop-pole.com/wp-content/uploads/2024/02/293640799_453207766808968_4345464620295545274_n.jpg
END:VEVENT
BEGIN:VEVENT
DTSTART;TZID=Europe/London:20240323T210000
DTEND;TZID=Europe/London:20240323T233000
DTSTAMP:20260425T043017
CREATED:20240226T165550Z
LAST-MODIFIED:20240226T165550Z
UID:1422-1711227600-1711236600@hop-pole.com
SUMMARY:ThunderDaze
DESCRIPTION:These guys don’t need an introduction\, but on the off chance you’ve never heard them (where have you been?) \nGuitar led rock classics.
URL:https://hop-pole.com/event/thunderdaze-4/
LOCATION:Hop Pole Inn\, Bromsgrove
ATTACH;FMTTYPE=image/jpeg:https://hop-pole.com/wp-content/uploads/2023/09/Thunder-Daze.jpg
END:VEVENT
BEGIN:VEVENT
DTSTART;TZID=Europe/London:20240322T210000
DTEND;TZID=Europe/London:20240322T233000
DTSTAMP:20260425T043017
CREATED:20240226T165302Z
LAST-MODIFIED:20240226T165302Z
UID:1419-1711141200-1711150200@hop-pole.com
SUMMARY:The Beards
DESCRIPTION:Back by very popular demand! \nI have no idea what they play cos they play everything.
URL:https://hop-pole.com/event/the-beards-2/
LOCATION:Hop Pole Inn\, Bromsgrove
ATTACH;FMTTYPE=image/jpeg:https://hop-pole.com/wp-content/uploads/2024/02/Beards.jpg
END:VEVENT
BEGIN:VEVENT
DTSTART;TZID=Europe/London:20240316T210000
DTEND;TZID=Europe/London:20240316T233000
DTSTAMP:20260425T043017
CREATED:20240226T164624Z
LAST-MODIFIED:20240226T164624Z
UID:1416-1710622800-1710631800@hop-pole.com
SUMMARY:KrazyLegz
DESCRIPTION:OHHHH HELL YEAHHHH! \nIt’s guna be a Krazy Saturday\, if you miss it you ain’t Krazy enough!
URL:https://hop-pole.com/event/krazylegz-8/
LOCATION:Hop Pole Inn\, Bromsgrove
ATTACH;FMTTYPE=image/jpeg:https://hop-pole.com/wp-content/uploads/2024/02/kl.jpg
END:VEVENT
BEGIN:VEVENT
DTSTART;TZID=Europe/London:20240315T210000
DTEND;TZID=Europe/London:20240315T233000
DTSTAMP:20260425T043017
CREATED:20240226T163943Z
LAST-MODIFIED:20240226T163943Z
UID:1414-1710536400-1710545400@hop-pole.com
SUMMARY:Free Spirit Sounds
DESCRIPTION:It’s about dam time\, it’s groove time.
URL:https://hop-pole.com/event/free-spirit-sounds-4/
LOCATION:Hop Pole Inn\, Bromsgrove
ATTACH;FMTTYPE=image/jpeg:https://hop-pole.com/wp-content/uploads/2021/10/FSS.jpg
END:VEVENT
BEGIN:VEVENT
DTSTART;TZID=Europe/London:20240309T210000
DTEND;TZID=Europe/London:20240309T233000
DTSTAMP:20260425T043017
CREATED:20240226T163418Z
LAST-MODIFIED:20240226T163418Z
UID:1412-1710018000-1710027000@hop-pole.com
SUMMARY:Mother Popcorn
DESCRIPTION:Yeah you read that correctly MOTHER POPCORN!!!! \nRock\, Indie\, Pop and Funk from the 60’s to present day.
URL:https://hop-pole.com/event/mother-popcorn-7/
LOCATION:Hop Pole Inn\, Bromsgrove
ATTACH;FMTTYPE=image/jpeg:https://hop-pole.com/wp-content/uploads/2023/01/IMG-0170.jpg
END:VEVENT
BEGIN:VEVENT
DTSTART;TZID=Europe/London:20240308T210000
DTEND;TZID=Europe/London:20240308T233000
DTSTAMP:20260425T043017
CREATED:20240226T163133Z
LAST-MODIFIED:20240226T163133Z
UID:1409-1709931600-1709940600@hop-pole.com
SUMMARY:Maverick Functions Band
DESCRIPTION:Playing Hits you forgot you loved from the 80’s and 90’s.
URL:https://hop-pole.com/event/maverick-functions-band/
LOCATION:Hop Pole Inn\, Bromsgrove
ATTACH;FMTTYPE=image/jpeg:https://hop-pole.com/wp-content/uploads/2024/02/mfb.jpg
END:VEVENT
BEGIN:VEVENT
DTSTART;TZID=Europe/London:20240303T210000
DTEND;TZID=Europe/London:20240303T233000
DTSTAMP:20260425T043017
CREATED:20240226T162652Z
LAST-MODIFIED:20240226T162652Z
UID:1406-1709499600-1709508600@hop-pole.com
SUMMARY:Wired to Party
DESCRIPTION:Disco\, Soul\, Motown\, Rock\, 80’s 90’s Pop Hits. \nDancing shoes a must!
URL:https://hop-pole.com/event/wired-to-party/
LOCATION:Hop Pole Inn\, Bromsgrove
ATTACH;FMTTYPE=image/jpeg:https://hop-pole.com/wp-content/uploads/2024/02/w2p.jpg
END:VEVENT
BEGIN:VEVENT
DTSTART;TZID=Europe/London:20240301T210000
DTEND;TZID=Europe/London:20240301T233000
DTSTAMP:20260425T043017
CREATED:20240226T162152Z
LAST-MODIFIED:20240226T162152Z
UID:1404-1709326800-1709335800@hop-pole.com
SUMMARY:Mister Wolf
DESCRIPTION:Wolf Pack in the Hop with a bit of classic rock n blues
URL:https://hop-pole.com/event/mister-wolf-8/
LOCATION:Hop Pole Inn\, Bromsgrove
ATTACH;FMTTYPE=image/jpeg:https://hop-pole.com/wp-content/uploads/2021/10/mr-wolf.jpg
END:VEVENT
BEGIN:VEVENT
DTSTART;TZID=Europe/London:20240224T210000
DTEND;TZID=Europe/London:20240224T233000
DTSTAMP:20260425T043017
CREATED:20240128T204457Z
LAST-MODIFIED:20240128T204457Z
UID:1397-1708808400-1708817400@hop-pole.com
SUMMARY:Thirsty Work
DESCRIPTION:4 piece Classical Rock Band with ex members of Quill\, Alvin Startdust\, Glenn Hughes & more.
URL:https://hop-pole.com/event/thirsty-work-3/
LOCATION:Hop Pole Inn\, Bromsgrove
ATTACH;FMTTYPE=image/jpeg:https://hop-pole.com/wp-content/uploads/2022/06/287166453_531096378488481_5473589002640019278_n.jpg
END:VEVENT
BEGIN:VEVENT
DTSTART;TZID=Europe/London:20240217T210000
DTEND;TZID=Europe/London:20240217T233000
DTSTAMP:20260425T043017
CREATED:20240128T203943Z
LAST-MODIFIED:20240128T203943Z
UID:1394-1708203600-1708212600@hop-pole.com
SUMMARY:Bang On The Ear
DESCRIPTION:Up beat\, traditional & contempary Irish/Celtic Folk Rock songs and tunes\, along with many other popular favourites.
URL:https://hop-pole.com/event/bang-on-the-ear-5/
LOCATION:Hop Pole Inn\, Bromsgrove
ATTACH;FMTTYPE=image/jpeg:https://hop-pole.com/wp-content/uploads/2024/01/bote.jpg
END:VEVENT
BEGIN:VEVENT
DTSTART;TZID=Europe/London:20240216T210000
DTEND;TZID=Europe/London:20240216T233000
DTSTAMP:20260425T043017
CREATED:20240128T203418Z
LAST-MODIFIED:20240128T203418Z
UID:1392-1708117200-1708126200@hop-pole.com
SUMMARY:Shine a Light - Rolling Stones Tribute Band
DESCRIPTION:Midlands premier tribute to the greatest rock n roll band in the world – The Rolling Stones.
URL:https://hop-pole.com/event/shine-a-light-rolling-stones-tribute-band/
LOCATION:Hop Pole Inn\, Bromsgrove
ATTACH;FMTTYPE=image/jpeg:https://hop-pole.com/wp-content/uploads/2022/05/271995570_111640414748663_2174227470503391377_n.jpg
END:VEVENT
BEGIN:VEVENT
DTSTART;TZID=Europe/London:20240210T210000
DTEND;TZID=Europe/London:20240210T233000
DTSTAMP:20260425T043017
CREATED:20240128T203038Z
LAST-MODIFIED:20240128T203038Z
UID:1390-1707598800-1707607800@hop-pole.com
SUMMARY:Vehicle
DESCRIPTION:ELO to Tears For Fears. Thin Lizzy to Fleetwood Mac. Vehicle are a 5 piece professional premier covers band.
URL:https://hop-pole.com/event/vehicle-6/
LOCATION:Hop Pole Inn\, Bromsgrove
ATTACH;FMTTYPE=image/jpeg:https://hop-pole.com/wp-content/uploads/2022/05/274724453_1843262809198596_4313489111116532787_n.jpg
END:VEVENT
BEGIN:VEVENT
DTSTART;TZID=Europe/London:20240209T210000
DTEND;TZID=Europe/London:20240209T233000
DTSTAMP:20260425T043017
CREATED:20240128T195700Z
LAST-MODIFIED:20240128T195700Z
UID:1388-1707512400-1707521400@hop-pole.com
SUMMARY:Totally 80's
DESCRIPTION:Expect to hear the biggest pop hits from the best decade for music\, from Wham\, Depeche Mode\, Nik Kershaw\, Human League\, Duran Duran and many more!
URL:https://hop-pole.com/event/totally-80s-3/
LOCATION:Hop Pole Inn\, Bromsgrove
END:VEVENT
BEGIN:VEVENT
DTSTART;TZID=Europe/London:20240203T210000
DTEND;TZID=Europe/London:20240203T233000
DTSTAMP:20260425T043017
CREATED:20240128T194132Z
LAST-MODIFIED:20240128T194132Z
UID:1385-1706994000-1707003000@hop-pole.com
SUMMARY:CADA
DESCRIPTION:If you want Rock – you got it!       Rock Covers Band!
URL:https://hop-pole.com/event/cada-6/
LOCATION:Hop Pole Inn\, Bromsgrove
ATTACH;FMTTYPE=image/jpeg:https://hop-pole.com/wp-content/uploads/2022/10/312807312_651010296586257_3035776537357553030_n.jpg
END:VEVENT
BEGIN:VEVENT
DTSTART;TZID=Europe/London:20240202T210000
DTEND;TZID=Europe/London:20240202T233000
DTSTAMP:20260425T043017
CREATED:20240128T193819Z
LAST-MODIFIED:20240128T193819Z
UID:1383-1706907600-1706916600@hop-pole.com
SUMMARY:Lucas D and the Groove Ghetto
DESCRIPTION:7 Piece Funk/Soul/Acid Jazz outfit playing an electric mix of classic hits and groovy floor fillers!
URL:https://hop-pole.com/event/lucas-d-and-the-groove-ghetto-6/
LOCATION:Hop Pole Inn\, Bromsgrove
ATTACH;FMTTYPE=image/jpeg:https://hop-pole.com/wp-content/uploads/2022/06/400077_483538218354407_816055488_n-1.jpg
END:VEVENT
BEGIN:VEVENT
DTSTART;TZID=Europe/London:20240127T210000
DTEND;TZID=Europe/London:20240127T233000
DTSTAMP:20260425T043017
CREATED:20240103T140855Z
LAST-MODIFIED:20240103T140855Z
UID:1375-1706389200-1706398200@hop-pole.com
SUMMARY:Legend
DESCRIPTION:LEGEND are an entertaining Classic Rock Band\, playing good time\, well known ROCK’n’ROLL – Party On !
URL:https://hop-pole.com/event/legend-9/
LOCATION:Hop Pole Inn\, Bromsgrove
ATTACH;FMTTYPE=image/jpeg:https://hop-pole.com/wp-content/uploads/2023/08/269130170_5028984060455880_8049561567918343528_n.jpg
END:VEVENT
BEGIN:VEVENT
DTSTART;TZID=Europe/London:20240126T210000
DTEND;TZID=Europe/London:20240126T233000
DTSTAMP:20260425T043017
CREATED:20240103T140717Z
LAST-MODIFIED:20240103T140717Z
UID:1373-1706302800-1706311800@hop-pole.com
SUMMARY:Finding Bella
DESCRIPTION:Five piece\, indie rock band from West Midlands
URL:https://hop-pole.com/event/finding-bella-2/
LOCATION:Hop Pole Inn\, Bromsgrove
ATTACH;FMTTYPE=image/jpeg:https://hop-pole.com/wp-content/uploads/2023/02/finding-bella.jpg
END:VEVENT
BEGIN:VEVENT
DTSTART;TZID=Europe/London:20240120T210000
DTEND;TZID=Europe/London:20240120T233000
DTSTAMP:20260425T043017
CREATED:20240103T140521Z
LAST-MODIFIED:20240103T140521Z
UID:1371-1705784400-1705793400@hop-pole.com
SUMMARY:The Works
DESCRIPTION:Rock & Pop covers from across the decades
URL:https://hop-pole.com/event/the-works-6/
LOCATION:Hop Pole Inn\, Bromsgrove
ATTACH;FMTTYPE=image/jpeg:https://hop-pole.com/wp-content/uploads/2021/08/23843659_1703096786398980_2226044954476526904_n.jpg
END:VEVENT
BEGIN:VEVENT
DTSTART;TZID=Europe/London:20240119T210000
DTEND;TZID=Europe/London:20240119T233000
DTSTAMP:20260425T043017
CREATED:20240103T140155Z
LAST-MODIFIED:20240103T140155Z
UID:1368-1705698000-1705707000@hop-pole.com
SUMMARY:Eternity Road
DESCRIPTION:Kick ass rock band from Shropshire fronted by our very own Queen of Darkness 😁
URL:https://hop-pole.com/event/eternity-road-2/
LOCATION:Hop Pole Inn\, Bromsgrove
ATTACH;FMTTYPE=image/jpeg:https://hop-pole.com/wp-content/uploads/2024/01/Eternity-Road.jpg
END:VEVENT
BEGIN:VEVENT
DTSTART;TZID=Europe/London:20240113T210000
DTEND;TZID=Europe/London:20240113T233000
DTSTAMP:20260425T043017
CREATED:20240103T135902Z
LAST-MODIFIED:20240103T135902Z
UID:1365-1705179600-1705188600@hop-pole.com
SUMMARY:Different Class
DESCRIPTION:90’s and 00’s guitar indie britpop covers by a bunch of dads who want to be rock stars again
URL:https://hop-pole.com/event/different-class/
LOCATION:Hop Pole Inn\, Bromsgrove
ATTACH;FMTTYPE=image/jpeg:https://hop-pole.com/wp-content/uploads/2024/01/324186416_895353188164258_6887004107431072778_n.jpg
END:VEVENT
BEGIN:VEVENT
DTSTART;TZID=Europe/London:20240112T210000
DTEND;TZID=Europe/London:20240112T233000
DTSTAMP:20260425T043017
CREATED:20240103T133014Z
LAST-MODIFIED:20240103T133014Z
UID:1363-1705093200-1705102200@hop-pole.com
SUMMARY:Brass Beatz
DESCRIPTION:We are an 8 piece party band with a brass section\, playing feelgood tunes from 60/70’s to modern day.
URL:https://hop-pole.com/event/brass-beatz-6/
LOCATION:Hop Pole Inn\, Bromsgrove
ATTACH;FMTTYPE=image/jpeg:https://hop-pole.com/wp-content/uploads/2023/01/brass-beatz.jpg
END:VEVENT
BEGIN:VEVENT
DTSTART;TZID=Europe/London:20240106T210000
DTEND;TZID=Europe/London:20240106T233000
DTSTAMP:20260425T043017
CREATED:20240103T132701Z
LAST-MODIFIED:20240103T132701Z
UID:1361-1704574800-1704583800@hop-pole.com
SUMMARY:Full Metal Racket
DESCRIPTION:classic rock and metal brought to you
URL:https://hop-pole.com/event/full-metal-racket-3/
LOCATION:Hop Pole Inn\, Bromsgrove
ATTACH;FMTTYPE=image/jpeg:https://hop-pole.com/wp-content/uploads/2023/09/FMR.jpg
END:VEVENT
BEGIN:VEVENT
DTSTART;TZID=Europe/London:20240105T210000
DTEND;TZID=Europe/London:20240105T233000
DTSTAMP:20260425T043017
CREATED:20240103T132525Z
LAST-MODIFIED:20240103T132525Z
UID:1359-1704488400-1704497400@hop-pole.com
SUMMARY:Behind The Bike Sheds
DESCRIPTION:The ultimate classic 80’s anthems band! \nBringing the party to a playground near you!
URL:https://hop-pole.com/event/behind-the-bike-sheds-7/
LOCATION:Hop Pole Inn\, Bromsgrove
ATTACH;FMTTYPE=image/jpeg:https://hop-pole.com/wp-content/uploads/2022/01/17814303_792525077567457_2778538648761111627_o.jpg
END:VEVENT
BEGIN:VEVENT
DTSTART;TZID=Europe/London:20231231T210000
DTEND;TZID=Europe/London:20231231T233000
DTSTAMP:20260425T043017
CREATED:20231031T161909Z
LAST-MODIFIED:20231031T162212Z
UID:1341-1704056400-1704065400@hop-pole.com
SUMMARY:Vaseline
DESCRIPTION:It’s the big one\, New Years Eve party with Vaseline seeing us into the New Year with a right laugh\, some classic punk tracks.
URL:https://hop-pole.com/event/vaseline-7/
LOCATION:Hop Pole Inn\, Bromsgrove
END:VEVENT
END:VCALENDAR