BEGIN:VCALENDAR
VERSION:2.0
PRODID:-//The Hop Pole Inn - ECPv6.15.20//NONSGML v1.0//EN
CALSCALE:GREGORIAN
METHOD:PUBLISH
X-WR-CALNAME:The Hop Pole Inn
X-ORIGINAL-URL:https://hop-pole.com
X-WR-CALDESC:Events for The Hop Pole Inn
REFRESH-INTERVAL;VALUE=DURATION:PT1H
X-Robots-Tag:noindex
X-PUBLISHED-TTL:PT1H
BEGIN:VTIMEZONE
TZID:Europe/London
BEGIN:DAYLIGHT
TZOFFSETFROM:+0000
TZOFFSETTO:+0100
TZNAME:BST
DTSTART:20230326T010000
END:DAYLIGHT
BEGIN:STANDARD
TZOFFSETFROM:+0100
TZOFFSETTO:+0000
TZNAME:GMT
DTSTART:20231029T010000
END:STANDARD
BEGIN:DAYLIGHT
TZOFFSETFROM:+0000
TZOFFSETTO:+0100
TZNAME:BST
DTSTART:20240331T010000
END:DAYLIGHT
BEGIN:STANDARD
TZOFFSETFROM:+0100
TZOFFSETTO:+0000
TZNAME:GMT
DTSTART:20241027T010000
END:STANDARD
BEGIN:DAYLIGHT
TZOFFSETFROM:+0000
TZOFFSETTO:+0100
TZNAME:BST
DTSTART:20250330T010000
END:DAYLIGHT
BEGIN:STANDARD
TZOFFSETFROM:+0100
TZOFFSETTO:+0000
TZNAME:GMT
DTSTART:20251026T010000
END:STANDARD
END:VTIMEZONE
BEGIN:VEVENT
DTSTART;TZID=Europe/London:20240622T210000
DTEND;TZID=Europe/London:20240622T233000
DTSTAMP:20260425T151953
CREATED:20240617T144710Z
LAST-MODIFIED:20240617T144710Z
UID:1511-1719090000-1719099000@hop-pole.com
SUMMARY:Mister Wolf
DESCRIPTION:Guitar driven\, Classic Rock ‘n’ Blues!Songs from Deep Purple\, Led Zepplin\, Tom Petty\, Wishbone Ash\, Whitesnake\, Peter Green\, Joe Bonamassa\, Steve Earl and many\, many more!
URL:https://hop-pole.com/event/mister-wolf-9/
LOCATION:Hop Pole Inn\, Bromsgrove
ATTACH;FMTTYPE=image/jpeg:https://hop-pole.com/wp-content/uploads/2021/10/mr-wolf.jpg
END:VEVENT
BEGIN:VEVENT
DTSTART;TZID=Europe/London:20240621T210000
DTEND;TZID=Europe/London:20240621T233000
DTSTAMP:20260425T151953
CREATED:20240617T144246Z
LAST-MODIFIED:20240617T144246Z
UID:1509-1719003600-1719012600@hop-pole.com
SUMMARY:The Beards
DESCRIPTION:This is one not to be missed\, fun\, energetic\, play all kinds of mish mashed up tunes.
URL:https://hop-pole.com/event/the-beards-3/
LOCATION:Hop Pole Inn\, Bromsgrove
ATTACH;FMTTYPE=image/jpeg:https://hop-pole.com/wp-content/uploads/2024/02/Beards.jpg
END:VEVENT
BEGIN:VEVENT
DTSTART;TZID=Europe/London:20240608T210000
DTEND;TZID=Europe/London:20240608T233000
DTSTAMP:20260425T151953
CREATED:20240607T134102Z
LAST-MODIFIED:20240607T134102Z
UID:1502-1717880400-1717889400@hop-pole.com
SUMMARY:Vaseline
DESCRIPTION:Boys and Girls – it’s here\, right now -Vaseline! A Stunning line up of :Spoz\, Mick\, Nige & Rick bringing anarchy to the Hop.
URL:https://hop-pole.com/event/vaseline-8/
LOCATION:Hop Pole Inn\, Bromsgrove
END:VEVENT
BEGIN:VEVENT
DTSTART;TZID=Europe/London:20240607T210000
DTEND;TZID=Europe/London:20240607T233000
DTSTAMP:20260425T151953
CREATED:20240607T133654Z
LAST-MODIFIED:20240607T133654Z
UID:1500-1717794000-1717803000@hop-pole.com
SUMMARY:Shine A Light - Rolling Stones Tribute
DESCRIPTION:Shine A Light are the Midlands premier tribute to the greatest rock & roll band in the world – The Rolling Stones.
URL:https://hop-pole.com/event/shine-a-light-rolling-stones-tribute/
LOCATION:Hop Pole Inn\, Bromsgrove
ATTACH;FMTTYPE=image/jpeg:https://hop-pole.com/wp-content/uploads/2022/05/271995570_111640414748663_2174227470503391377_n.jpg
END:VEVENT
BEGIN:VEVENT
DTSTART;TZID=Europe/London:20240601T210000
DTEND;TZID=Europe/London:20240601T233000
DTSTAMP:20260425T151953
CREATED:20240426T120336Z
LAST-MODIFIED:20240426T120336Z
UID:1487-1717275600-1717284600@hop-pole.com
SUMMARY:Behind the Bike Sheds
DESCRIPTION:The ultimate classic 80’s anthems band!Bringing the party to a playground near you!
URL:https://hop-pole.com/event/behind-the-bike-sheds-8/
LOCATION:Hop Pole Inn\, Bromsgrove
ATTACH;FMTTYPE=image/jpeg:https://hop-pole.com/wp-content/uploads/2022/01/17814303_792525077567457_2778538648761111627_o.jpg
END:VEVENT
BEGIN:VEVENT
DTSTART;TZID=Europe/London:20240531T210000
DTEND;TZID=Europe/London:20240531T233000
DTSTAMP:20260425T151953
CREATED:20240426T120143Z
LAST-MODIFIED:20240426T120143Z
UID:1485-1717189200-1717198200@hop-pole.com
SUMMARY:Skrood
DESCRIPTION:Old enough to know better\, young enough to do it anyway!Classic rock covers\, ’60s to present\, including Black Sabbath\, Rolling Stones\, Foo Fighters\, Stereophonics\, Cream\, U2\, Muse\, ZZTop\, and many more!
URL:https://hop-pole.com/event/skrood-7/
LOCATION:Hop Pole Inn\, Bromsgrove
ATTACH;FMTTYPE=image/jpeg:https://hop-pole.com/wp-content/uploads/2022/01/66803473_2079338668844549_2254689330243043328_n.jpg
END:VEVENT
BEGIN:VEVENT
DTSTART;TZID=Europe/London:20240525T210000
DTEND;TZID=Europe/London:20240525T233000
DTSTAMP:20260425T151953
CREATED:20240426T115944Z
LAST-MODIFIED:20240426T115944Z
UID:1483-1716670800-1716679800@hop-pole.com
SUMMARY:Black Heart Angels
DESCRIPTION:The soundtrack to your weekend since 2012.
URL:https://hop-pole.com/event/black-heart-angels-2/
LOCATION:Hop Pole Inn\, Bromsgrove
ATTACH;FMTTYPE=image/jpeg:https://hop-pole.com/wp-content/uploads/2023/08/315749548_830262654616709_2816621361355310421_n.jpg
END:VEVENT
BEGIN:VEVENT
DTSTART;TZID=Europe/London:20240524T210000
DTEND;TZID=Europe/London:20240524T233000
DTSTAMP:20260425T151953
CREATED:20240426T115639Z
LAST-MODIFIED:20240426T120614Z
UID:1480-1716584400-1716593400@hop-pole.com
SUMMARY:The Works
DESCRIPTION:Rock/Pop covers from the decades
URL:https://hop-pole.com/event/the-works-7/
LOCATION:Hop Pole Inn\, Bromsgrove
ATTACH;FMTTYPE=image/jpeg:https://hop-pole.com/wp-content/uploads/2021/08/23843659_1703096786398980_2226044954476526904_n.jpg
END:VEVENT
BEGIN:VEVENT
DTSTART;TZID=Europe/London:20240518T210000
DTEND;TZID=Europe/London:20240518T233000
DTSTAMP:20260425T151953
CREATED:20240426T115127Z
LAST-MODIFIED:20240426T115127Z
UID:1477-1716066000-1716075000@hop-pole.com
SUMMARY:Bosted Juke Box
DESCRIPTION:4 piece band from the good old Black Country in the heart of the West Midlands. BJB play an array of classic\, rare and forgotten pop\, classic rock\, indie and alternative songs from the last 60 years.
URL:https://hop-pole.com/event/bosted-juke-box-4/
LOCATION:Hop Pole Inn\, Bromsgrove
ATTACH;FMTTYPE=image/jpeg:https://hop-pole.com/wp-content/uploads/2022/06/bosted-jukebox.jpg
END:VEVENT
BEGIN:VEVENT
DTSTART;TZID=Europe/London:20240517T210000
DTEND;TZID=Europe/London:20240517T233000
DTSTAMP:20260425T151953
CREATED:20240426T114733Z
LAST-MODIFIED:20240426T114733Z
UID:1475-1715979600-1715988600@hop-pole.com
SUMMARY:Fearless Scoundrels
DESCRIPTION:4 piece band from the West Midlands\, playing Boogie\, Blues & Rock’n’Roll
URL:https://hop-pole.com/event/fearless-scoundrels-5/
LOCATION:Hop Pole Inn\, Bromsgrove
ATTACH;FMTTYPE=image/jpeg:https://hop-pole.com/wp-content/uploads/2021/09/scoundrels.jpg
END:VEVENT
BEGIN:VEVENT
DTSTART;TZID=Europe/London:20240511T210000
DTEND;TZID=Europe/London:20240511T233000
DTSTAMP:20260425T151953
CREATED:20240426T114141Z
LAST-MODIFIED:20240426T114141Z
UID:1473-1715461200-1715470200@hop-pole.com
SUMMARY:Brass Beatz
DESCRIPTION:8/9 piece party band with a brass section\, playing feelgood tunes from 60/70’s to modern day. \nWatch out for a special appearance from the Gaffers\, well maybe one of them!
URL:https://hop-pole.com/event/brass-beatz-7/
LOCATION:Hop Pole Inn\, Bromsgrove
ATTACH;FMTTYPE=image/jpeg:https://hop-pole.com/wp-content/uploads/2023/01/brass-beatz.jpg
END:VEVENT
BEGIN:VEVENT
DTSTART;TZID=Europe/London:20240510T210000
DTEND;TZID=Europe/London:20240510T233000
DTSTAMP:20260425T151953
CREATED:20240426T113738Z
LAST-MODIFIED:20240426T113738Z
UID:1471-1715374800-1715383800@hop-pole.com
SUMMARY:Doctor Cornelius
DESCRIPTION:A little bit of everything from the good Dr\, soul\, funk\, pop and disco!
URL:https://hop-pole.com/event/doctor-cornelius-5/
LOCATION:Hop Pole Inn\, Bromsgrove
END:VEVENT
BEGIN:VEVENT
DTSTART;TZID=Europe/London:20240505T210000
DTEND;TZID=Europe/London:20240505T233000
DTSTAMP:20260425T151953
CREATED:20240426T113245Z
LAST-MODIFIED:20240426T113245Z
UID:1469-1714942800-1714951800@hop-pole.com
SUMMARY:Loz Rabone
DESCRIPTION:A fantastic solo acoustic appearance from Loz this bank holiday.
URL:https://hop-pole.com/event/loz-rabone-7/
LOCATION:Hop Pole Inn\, Bromsgrove
ATTACH;FMTTYPE=image/jpeg:https://hop-pole.com/wp-content/uploads/2022/05/Loz.jpg
END:VEVENT
BEGIN:VEVENT
DTSTART;TZID=Europe/London:20240504T210000
DTEND;TZID=Europe/London:20240504T233000
DTSTAMP:20260425T151953
CREATED:20240426T112711Z
LAST-MODIFIED:20240426T112711Z
UID:1467-1714856400-1714865400@hop-pole.com
SUMMARY:Totally 80's
DESCRIPTION:The best era of music (imho) the 80’s big hair\, big hits all at the Hop
URL:https://hop-pole.com/event/totally-80s-4/
LOCATION:Hop Pole Inn\, Bromsgrove
END:VEVENT
BEGIN:VEVENT
DTSTART;TZID=Europe/London:20240503T210000
DTEND;TZID=Europe/London:20240503T233000
DTSTAMP:20260425T151953
CREATED:20240426T112517Z
LAST-MODIFIED:20240426T112517Z
UID:1465-1714770000-1714779000@hop-pole.com
SUMMARY:CADA
DESCRIPTION:Local lads bring their own style of indie rock to the Hop \nDuncan loves Wipeout as an encore!
URL:https://hop-pole.com/event/cada-7/
LOCATION:Hop Pole Inn\, Bromsgrove
ATTACH;FMTTYPE=image/jpeg:https://hop-pole.com/wp-content/uploads/2022/10/312807312_651010296586257_3035776537357553030_n.jpg
END:VEVENT
BEGIN:VEVENT
DTSTART;TZID=Europe/London:20240427T210000
DTEND;TZID=Europe/London:20240427T233000
DTSTAMP:20260425T151953
CREATED:20240310T193524Z
LAST-MODIFIED:20240310T194154Z
UID:1450-1714251600-1714260600@hop-pole.com
SUMMARY:The RJB
DESCRIPTION:It’s been far too long since these guys have played the Hop\, finally they’re back!!!
URL:https://hop-pole.com/event/the-rjb/
LOCATION:Hop Pole Inn\, Bromsgrove
ATTACH;FMTTYPE=image/jpeg:https://hop-pole.com/wp-content/uploads/2024/03/426178687_923294933129294_2251843172173088539_n.jpg
END:VEVENT
BEGIN:VEVENT
DTSTART;TZID=Europe/London:20240426T210000
DTEND;TZID=Europe/London:20240426T233000
DTSTAMP:20260425T151953
CREATED:20240310T193033Z
LAST-MODIFIED:20240310T193033Z
UID:1447-1714165200-1714174200@hop-pole.com
SUMMARY:The Reflections
DESCRIPTION:Step back into the 60’s\, dance shoes are a must for these guys!
URL:https://hop-pole.com/event/the-reflections-9/
LOCATION:Hop Pole Inn\, Bromsgrove
ATTACH;FMTTYPE=image/jpeg:https://hop-pole.com/wp-content/uploads/2024/03/420559206_896612905801865_3268043802914065579_n.jpg
END:VEVENT
BEGIN:VEVENT
DTSTART;TZID=Europe/London:20240420T210000
DTEND;TZID=Europe/London:20240420T233000
DTSTAMP:20260425T151953
CREATED:20240310T192712Z
LAST-MODIFIED:20240310T192712Z
UID:1445-1713646800-1713655800@hop-pole.com
SUMMARY:The Fabulous Bordellos
DESCRIPTION:A full on Mod experience with music from the 60’s to present day.
URL:https://hop-pole.com/event/the-fabulous-bordellos/
LOCATION:Hop Pole Inn\, Bromsgrove
ATTACH;FMTTYPE=image/jpeg:https://hop-pole.com/wp-content/uploads/2021/09/bordelos.jpg
END:VEVENT
BEGIN:VEVENT
DTSTART;TZID=Europe/London:20240419T210000
DTEND;TZID=Europe/London:20240419T233000
DTSTAMP:20260425T151953
CREATED:20240310T192400Z
LAST-MODIFIED:20240310T192417Z
UID:1443-1713560400-1713569400@hop-pole.com
SUMMARY:Finding Bella
DESCRIPTION:Five piece\, indie rock band from West Midlands.
URL:https://hop-pole.com/event/finding-bella-3/
LOCATION:Hop Pole Inn\, Bromsgrove
ATTACH;FMTTYPE=image/jpeg:https://hop-pole.com/wp-content/uploads/2023/02/finding-bella.jpg
END:VEVENT
BEGIN:VEVENT
DTSTART;TZID=Europe/London:20240413T210000
DTEND;TZID=Europe/London:20240413T233000
DTSTAMP:20260425T151953
CREATED:20240310T192141Z
LAST-MODIFIED:20240310T192141Z
UID:1440-1713042000-1713051000@hop-pole.com
SUMMARY:Mimosa Band
DESCRIPTION:A 3 piece party Pop & rock cover band. Covering songs from the last 40+ years!\nWe don’t stick to one style of music\, we try to play something for everyone!
URL:https://hop-pole.com/event/mimosa-band/
LOCATION:Hop Pole Inn\, Bromsgrove
ATTACH;FMTTYPE=image/jpeg:https://hop-pole.com/wp-content/uploads/2024/03/mimosa.jpg
END:VEVENT
BEGIN:VEVENT
DTSTART;TZID=Europe/London:20240412T210000
DTEND;TZID=Europe/London:20240412T233000
DTSTAMP:20260425T151953
CREATED:20240310T191844Z
LAST-MODIFIED:20240310T191844Z
UID:1438-1712955600-1712964600@hop-pole.com
SUMMARY:The After Party Band
DESCRIPTION:An exciting act based in the West Midlands specialising in Parties\, Functions\, Weddings and all other types of event. Performing party hits from across the decades\, the band are sure to keep you on the dance floor all night long.
URL:https://hop-pole.com/event/the-after-party-band/
LOCATION:Hop Pole Inn\, Bromsgrove
END:VEVENT
BEGIN:VEVENT
DTSTART;TZID=Europe/London:20240406T210000
DTEND;TZID=Europe/London:20240406T233000
DTSTAMP:20260425T151953
CREATED:20240310T191310Z
LAST-MODIFIED:20240310T191310Z
UID:1436-1712437200-1712446200@hop-pole.com
SUMMARY:Legend
DESCRIPTION:An entertaining Classic Rock Band\, playing good time\, well known ROCK’n’ROLL – Party On !
URL:https://hop-pole.com/event/legend-10/
LOCATION:Hop Pole Inn\, Bromsgrove
ATTACH;FMTTYPE=image/jpeg:https://hop-pole.com/wp-content/uploads/2021/10/legend.jpg
END:VEVENT
BEGIN:VEVENT
DTSTART;TZID=Europe/London:20240405T210000
DTEND;TZID=Europe/London:20240405T233000
DTSTAMP:20260425T151953
CREATED:20240310T190331Z
LAST-MODIFIED:20240310T190331Z
UID:1434-1712350800-1712359800@hop-pole.com
SUMMARY:Common People
DESCRIPTION:Brit pop and Indie Anthems. \nBritpop Tribute Act – #Relive The 90s with our totally live show dedicated to the music of Oasis\, Blur and many more!
URL:https://hop-pole.com/event/common-people-8/
LOCATION:Hop Pole Inn\, Bromsgrove
ATTACH;FMTTYPE=image/png:https://hop-pole.com/wp-content/uploads/2022/06/23659414_1498840666878766_8940637037064229388_n.png
END:VEVENT
BEGIN:VEVENT
DTSTART;TZID=Europe/London:20240330T210000
DTEND;TZID=Europe/London:20240330T233000
DTSTAMP:20260425T151953
CREATED:20240226T170610Z
LAST-MODIFIED:20240226T170610Z
UID:1427-1711832400-1711841400@hop-pole.com
SUMMARY:Hot Space - A night of Queen
DESCRIPTION:The name says it all. \nFloor filling bangers from a great bunch of lads who bring their own style to Queen classics.
URL:https://hop-pole.com/event/hot-space-a-night-of-queen/
LOCATION:Hop Pole Inn\, Bromsgrove
ATTACH;FMTTYPE=image/jpeg:https://hop-pole.com/wp-content/uploads/2024/02/HS-ANoQ.jpg
END:VEVENT
BEGIN:VEVENT
DTSTART;TZID=Europe/London:20240329T210000
DTEND;TZID=Europe/London:20240329T233000
DTSTAMP:20260425T151953
CREATED:20240226T170314Z
LAST-MODIFIED:20240226T170314Z
UID:1424-1711746000-1711755000@hop-pole.com
SUMMARY:Tin Drum
DESCRIPTION:Electric folk rock band
URL:https://hop-pole.com/event/tin-drum/
LOCATION:Hop Pole Inn\, Bromsgrove
ATTACH;FMTTYPE=image/jpeg:https://hop-pole.com/wp-content/uploads/2024/02/293640799_453207766808968_4345464620295545274_n.jpg
END:VEVENT
BEGIN:VEVENT
DTSTART;TZID=Europe/London:20240323T210000
DTEND;TZID=Europe/London:20240323T233000
DTSTAMP:20260425T151953
CREATED:20240226T165550Z
LAST-MODIFIED:20240226T165550Z
UID:1422-1711227600-1711236600@hop-pole.com
SUMMARY:ThunderDaze
DESCRIPTION:These guys don’t need an introduction\, but on the off chance you’ve never heard them (where have you been?) \nGuitar led rock classics.
URL:https://hop-pole.com/event/thunderdaze-4/
LOCATION:Hop Pole Inn\, Bromsgrove
ATTACH;FMTTYPE=image/jpeg:https://hop-pole.com/wp-content/uploads/2023/09/Thunder-Daze.jpg
END:VEVENT
BEGIN:VEVENT
DTSTART;TZID=Europe/London:20240322T210000
DTEND;TZID=Europe/London:20240322T233000
DTSTAMP:20260425T151953
CREATED:20240226T165302Z
LAST-MODIFIED:20240226T165302Z
UID:1419-1711141200-1711150200@hop-pole.com
SUMMARY:The Beards
DESCRIPTION:Back by very popular demand! \nI have no idea what they play cos they play everything.
URL:https://hop-pole.com/event/the-beards-2/
LOCATION:Hop Pole Inn\, Bromsgrove
ATTACH;FMTTYPE=image/jpeg:https://hop-pole.com/wp-content/uploads/2024/02/Beards.jpg
END:VEVENT
BEGIN:VEVENT
DTSTART;TZID=Europe/London:20240316T210000
DTEND;TZID=Europe/London:20240316T233000
DTSTAMP:20260425T151953
CREATED:20240226T164624Z
LAST-MODIFIED:20240226T164624Z
UID:1416-1710622800-1710631800@hop-pole.com
SUMMARY:KrazyLegz
DESCRIPTION:OHHHH HELL YEAHHHH! \nIt’s guna be a Krazy Saturday\, if you miss it you ain’t Krazy enough!
URL:https://hop-pole.com/event/krazylegz-8/
LOCATION:Hop Pole Inn\, Bromsgrove
ATTACH;FMTTYPE=image/jpeg:https://hop-pole.com/wp-content/uploads/2024/02/kl.jpg
END:VEVENT
BEGIN:VEVENT
DTSTART;TZID=Europe/London:20240315T210000
DTEND;TZID=Europe/London:20240315T233000
DTSTAMP:20260425T151953
CREATED:20240226T163943Z
LAST-MODIFIED:20240226T163943Z
UID:1414-1710536400-1710545400@hop-pole.com
SUMMARY:Free Spirit Sounds
DESCRIPTION:It’s about dam time\, it’s groove time.
URL:https://hop-pole.com/event/free-spirit-sounds-4/
LOCATION:Hop Pole Inn\, Bromsgrove
ATTACH;FMTTYPE=image/jpeg:https://hop-pole.com/wp-content/uploads/2021/10/FSS.jpg
END:VEVENT
BEGIN:VEVENT
DTSTART;TZID=Europe/London:20240309T210000
DTEND;TZID=Europe/London:20240309T233000
DTSTAMP:20260425T151953
CREATED:20240226T163418Z
LAST-MODIFIED:20240226T163418Z
UID:1412-1710018000-1710027000@hop-pole.com
SUMMARY:Mother Popcorn
DESCRIPTION:Yeah you read that correctly MOTHER POPCORN!!!! \nRock\, Indie\, Pop and Funk from the 60’s to present day.
URL:https://hop-pole.com/event/mother-popcorn-7/
LOCATION:Hop Pole Inn\, Bromsgrove
ATTACH;FMTTYPE=image/jpeg:https://hop-pole.com/wp-content/uploads/2023/01/IMG-0170.jpg
END:VEVENT
END:VCALENDAR