BEGIN:VCALENDAR
VERSION:2.0
PRODID:-//The Hop Pole Inn - ECPv6.15.20//NONSGML v1.0//EN
CALSCALE:GREGORIAN
METHOD:PUBLISH
X-WR-CALNAME:The Hop Pole Inn
X-ORIGINAL-URL:https://hop-pole.com
X-WR-CALDESC:Events for The Hop Pole Inn
REFRESH-INTERVAL;VALUE=DURATION:PT1H
X-Robots-Tag:noindex
X-PUBLISHED-TTL:PT1H
BEGIN:VTIMEZONE
TZID:Europe/London
BEGIN:DAYLIGHT
TZOFFSETFROM:+0000
TZOFFSETTO:+0100
TZNAME:BST
DTSTART:20230326T010000
END:DAYLIGHT
BEGIN:STANDARD
TZOFFSETFROM:+0100
TZOFFSETTO:+0000
TZNAME:GMT
DTSTART:20231029T010000
END:STANDARD
BEGIN:DAYLIGHT
TZOFFSETFROM:+0000
TZOFFSETTO:+0100
TZNAME:BST
DTSTART:20240331T010000
END:DAYLIGHT
BEGIN:STANDARD
TZOFFSETFROM:+0100
TZOFFSETTO:+0000
TZNAME:GMT
DTSTART:20241027T010000
END:STANDARD
BEGIN:DAYLIGHT
TZOFFSETFROM:+0000
TZOFFSETTO:+0100
TZNAME:BST
DTSTART:20250330T010000
END:DAYLIGHT
BEGIN:STANDARD
TZOFFSETFROM:+0100
TZOFFSETTO:+0000
TZNAME:GMT
DTSTART:20251026T010000
END:STANDARD
END:VTIMEZONE
BEGIN:VEVENT
DTSTART;TZID=Europe/London:20241220T210000
DTEND;TZID=Europe/London:20241220T233000
DTSTAMP:20260424T170547
CREATED:20241029T134909Z
LAST-MODIFIED:20241029T134909Z
UID:1630-1734728400-1734737400@hop-pole.com
SUMMARY:Doctor Cornelius
DESCRIPTION:Doctor Cornelius prescribe you a night of dance and joy. your prescription for good times has arrived. \nSoul\, Disco and Funk.
URL:https://hop-pole.com/event/doctor-cornelius-6/
LOCATION:Hop Pole Inn\, Bromsgrove
ATTACH;FMTTYPE=image/jpeg:https://hop-pole.com/wp-content/uploads/2023/04/drc.jpg
END:VEVENT
BEGIN:VEVENT
DTSTART;TZID=Europe/London:20241214T210000
DTEND;TZID=Europe/London:20241214T233000
DTSTAMP:20260424T170547
CREATED:20241029T131358Z
LAST-MODIFIED:20241029T131358Z
UID:1628-1734210000-1734219000@hop-pole.com
SUMMARY:Thunder Daze
DESCRIPTION:THE ULTIMATE 70’s & 80’s ROCK SHOW PARTY! High energy tribute show Playing some of the very best – Guitar Driven Melodic Rock Anthems!
URL:https://hop-pole.com/event/thunder-daze-7/
LOCATION:Hop Pole Inn\, Bromsgrove
ATTACH;FMTTYPE=image/jpeg:https://hop-pole.com/wp-content/uploads/2023/09/Thunder-Daze.jpg
END:VEVENT
BEGIN:VEVENT
DTSTART;TZID=Europe/London:20241213T210000
DTEND;TZID=Europe/London:20241213T233000
DTSTAMP:20260424T170547
CREATED:20241029T131047Z
LAST-MODIFIED:20241106T130034Z
UID:1626-1734123600-1734132600@hop-pole.com
SUMMARY:CADA
DESCRIPTION:If you want Rock – you got it!!Rock Covers Band
URL:https://hop-pole.com/event/mister-wolf-10/
LOCATION:Hop Pole Inn\, Bromsgrove
ATTACH;FMTTYPE=image/jpeg:https://hop-pole.com/wp-content/uploads/2024/10/465376045_1189023136118301_5756699499110481262_n.jpg
END:VEVENT
BEGIN:VEVENT
DTSTART;TZID=Europe/London:20241207T210000
DTEND;TZID=Europe/London:20241207T233000
DTSTAMP:20260424T170547
CREATED:20241029T130821Z
LAST-MODIFIED:20241029T130821Z
UID:1624-1733605200-1733614200@hop-pole.com
SUMMARY:The Reflections
DESCRIPTION:Sounds of The 60’s
URL:https://hop-pole.com/event/the-reflections-10/
LOCATION:Hop Pole Inn\, Bromsgrove
ATTACH;FMTTYPE=image/jpeg:https://hop-pole.com/wp-content/uploads/2023/09/reflections.jpg
END:VEVENT
BEGIN:VEVENT
DTSTART;TZID=Europe/London:20241206T210000
DTEND;TZID=Europe/London:20241206T233000
DTSTAMP:20260424T170547
CREATED:20241029T130713Z
LAST-MODIFIED:20241029T130713Z
UID:1622-1733518800-1733527800@hop-pole.com
SUMMARY:The RJB
DESCRIPTION:No Desription Needed!!!
URL:https://hop-pole.com/event/the-rjb-3/
LOCATION:Hop Pole Inn\, Bromsgrove
ATTACH;FMTTYPE=image/jpeg:https://hop-pole.com/wp-content/uploads/2024/03/426178687_923294933129294_2251843172173088539_n.jpg
END:VEVENT
BEGIN:VEVENT
DTSTART;TZID=Europe/London:20241130T210000
DTEND;TZID=Europe/London:20241130T233000
DTSTAMP:20260424T170547
CREATED:20241029T130604Z
LAST-MODIFIED:20241029T130604Z
UID:1620-1733000400-1733009400@hop-pole.com
SUMMARY:Quo - AKA The 4 Rossis'
DESCRIPTION:Who doesn’t love a bit of Quo?
URL:https://hop-pole.com/event/quo-aka-the-4-rossis/
LOCATION:Hop Pole Inn\, Bromsgrove
ATTACH;FMTTYPE=image/png:https://hop-pole.com/wp-content/uploads/2021/09/23270256_183194235569782_7091234728435292698_o.png
END:VEVENT
BEGIN:VEVENT
DTSTART;TZID=Europe/London:20241129T210000
DTEND;TZID=Europe/London:20241129T233000
DTSTAMP:20260424T170547
CREATED:20241029T125939Z
LAST-MODIFIED:20241029T125939Z
UID:1618-1732914000-1732923000@hop-pole.com
SUMMARY:SKROOD
DESCRIPTION:Old enough to know better\, young enough to do it anyway!Classic rock covers\, ’60s to present\, including Black Sabbath\, Rolling Stones\, Foo Fighters\, Stereophonics\, Cream\, U2\, Muse\, ZZTop\, and many more!
URL:https://hop-pole.com/event/skrood-9/
LOCATION:Hop Pole Inn\, Bromsgrove
ATTACH;FMTTYPE=image/jpeg:https://hop-pole.com/wp-content/uploads/2022/01/66803473_2079338668844549_2254689330243043328_n.jpg
END:VEVENT
BEGIN:VEVENT
DTSTART;TZID=Europe/London:20241123T210000
DTEND;TZID=Europe/London:20241123T233000
DTSTAMP:20260424T170547
CREATED:20241029T125741Z
LAST-MODIFIED:20241029T125741Z
UID:1616-1732395600-1732404600@hop-pole.com
SUMMARY:The Fabulous Bordellos
DESCRIPTION:Mod Anthems
URL:https://hop-pole.com/event/the-fabulous-bordellos-2/
LOCATION:Hop Pole Inn\, Bromsgrove
ATTACH;FMTTYPE=image/jpeg:https://hop-pole.com/wp-content/uploads/2021/09/bordelos.jpg
END:VEVENT
BEGIN:VEVENT
DTSTART;TZID=Europe/London:20241122T210000
DTEND;TZID=Europe/London:20241122T233000
DTSTAMP:20260424T170547
CREATED:20241029T125611Z
LAST-MODIFIED:20241029T125611Z
UID:1613-1732309200-1732318200@hop-pole.com
SUMMARY:Black Hawks
DESCRIPTION:High energy rock n Goth band playing from the firey pits of Hell1
URL:https://hop-pole.com/event/black-hawks/
LOCATION:Hop Pole Inn\, Bromsgrove
ATTACH;FMTTYPE=image/jpeg:https://hop-pole.com/wp-content/uploads/2024/10/461089631_1093474912278262_9186848002548207952_n.jpg
END:VEVENT
BEGIN:VEVENT
DTSTART;TZID=Europe/London:20241116T210000
DTEND;TZID=Europe/London:20241116T233000
DTSTAMP:20260424T170547
CREATED:20241029T125211Z
LAST-MODIFIED:20241029T125211Z
UID:1610-1731790800-1731799800@hop-pole.com
SUMMARY:Project Vintage
DESCRIPTION:Classic Rock\, Pop and vocal Harmony
URL:https://hop-pole.com/event/project-vintage/
LOCATION:Hop Pole Inn\, Bromsgrove
END:VEVENT
BEGIN:VEVENT
DTSTART;TZID=Europe/London:20241115T210000
DTEND;TZID=Europe/London:20241115T233000
DTSTAMP:20260424T170547
CREATED:20241029T124926Z
LAST-MODIFIED:20241029T124926Z
UID:1608-1731704400-1731713400@hop-pole.com
SUMMARY:Vehicle
DESCRIPTION:Classic Hits from the 70’s and 80’s
URL:https://hop-pole.com/event/vehicle-7/
LOCATION:Hop Pole Inn\, Bromsgrove
ATTACH;FMTTYPE=image/jpeg:https://hop-pole.com/wp-content/uploads/2022/05/274724453_1843262809198596_4313489111116532787_n.jpg
END:VEVENT
BEGIN:VEVENT
DTSTART;TZID=Europe/London:20241109T210000
DTEND;TZID=Europe/London:20241109T233000
DTSTAMP:20260424T170547
CREATED:20241029T124741Z
LAST-MODIFIED:20241029T124741Z
UID:1606-1731186000-1731195000@hop-pole.com
SUMMARY:Bang on the Ear
DESCRIPTION:A Fantastic group bringing you Irish Rock and Folk music
URL:https://hop-pole.com/event/bang-on-the-ear-7/
LOCATION:Hop Pole Inn\, Bromsgrove
ATTACH;FMTTYPE=image/jpeg:https://hop-pole.com/wp-content/uploads/2022/06/288304661_8019018094782957_4952371278950620640_n.jpg
END:VEVENT
BEGIN:VEVENT
DTSTART;TZID=Europe/London:20241108T210000
DTEND;TZID=Europe/London:20241108T233000
DTSTAMP:20260424T170547
CREATED:20241029T124551Z
LAST-MODIFIED:20241029T124551Z
UID:1604-1731099600-1731108600@hop-pole.com
SUMMARY:The Contra Band
DESCRIPTION:Popular hits\, Soul and Rock
URL:https://hop-pole.com/event/the-contra-band/
LOCATION:Hop Pole Inn\, Bromsgrove
ATTACH;FMTTYPE=image/jpeg:https://hop-pole.com/wp-content/uploads/2021/09/82282816_596977087754126_3729502441658384384_n.jpg
END:VEVENT
BEGIN:VEVENT
DTSTART;TZID=Europe/London:20241102T210000
DTEND;TZID=Europe/London:20241102T233000
DTSTAMP:20260424T170547
CREATED:20241029T124320Z
LAST-MODIFIED:20241029T124320Z
UID:1602-1730581200-1730590200@hop-pole.com
SUMMARY:Hot Space - A Night of Queen
DESCRIPTION:A night of Queen with out the moustaches and big hair\, just 4 lads singing the hits of Queen their own way.
URL:https://hop-pole.com/event/hot-space-a-night-of-queen-3/
LOCATION:Hop Pole Inn\, Bromsgrove
ATTACH;FMTTYPE=image/jpeg:https://hop-pole.com/wp-content/uploads/2024/02/HS-ANoQ.jpg
END:VEVENT
BEGIN:VEVENT
DTSTART;TZID=Europe/London:20241101T210000
DTEND;TZID=Europe/London:20241101T233000
DTSTAMP:20260424T170547
CREATED:20241029T123910Z
LAST-MODIFIED:20241029T123910Z
UID:1600-1730494800-1730503800@hop-pole.com
SUMMARY:Wired2Party
DESCRIPTION:Rock and Pop covers \nHalloween Fancy Dress Party\, winner chosen by the band.
URL:https://hop-pole.com/event/wired2party-3/
LOCATION:Hop Pole Inn\, Bromsgrove
ATTACH;FMTTYPE=image/jpeg:https://hop-pole.com/wp-content/uploads/2024/02/w2p.jpg
END:VEVENT
BEGIN:VEVENT
DTSTART;TZID=Europe/London:20241026T210000
DTEND;TZID=Europe/London:20241026T233000
DTSTAMP:20260424T170547
CREATED:20240924T142040Z
LAST-MODIFIED:20240924T142040Z
UID:1584-1729976400-1729985400@hop-pole.com
SUMMARY:Woodstock Social Club
DESCRIPTION:Lively 3 piece cover band\, good vibes and good times.
URL:https://hop-pole.com/event/woodstock-social-club/
LOCATION:Hop Pole Inn\, Bromsgrove
ATTACH;FMTTYPE=image/jpeg:https://hop-pole.com/wp-content/uploads/2024/09/456508666_1031951082268158_628684585006716615_n.jpg
END:VEVENT
BEGIN:VEVENT
DTSTART;TZID=Europe/London:20241025T210000
DTEND;TZID=Europe/London:20241025T233000
DTSTAMP:20260424T170547
CREATED:20240924T141548Z
LAST-MODIFIED:20240924T141548Z
UID:1581-1729890000-1729899000@hop-pole.com
SUMMARY:Essential 80's
DESCRIPTION:One of the Hops favourite bands\, 80’s all night long who can not like that?
URL:https://hop-pole.com/event/essential-80s-3/
LOCATION:Hop Pole Inn\, Bromsgrove
END:VEVENT
BEGIN:VEVENT
DTSTART;TZID=Europe/London:20241019T210000
DTEND;TZID=Europe/London:20241019T233000
DTSTAMP:20260424T170547
CREATED:20241007T120743Z
LAST-MODIFIED:20241007T121046Z
UID:1592-1729371600-1729380600@hop-pole.com
SUMMARY:KrazyLegz
DESCRIPTION:One of the bands that need no introduction\, but for KrazyLegz virgins\, Krazy Classic Rock and Soul
URL:https://hop-pole.com/event/krazy-legz-3/
LOCATION:Hop Pole Inn\, Bromsgrove
ATTACH;FMTTYPE=image/jpeg:https://hop-pole.com/wp-content/uploads/2024/10/414546918_1183720172977798_3832511938280864576_n.jpg
END:VEVENT
BEGIN:VEVENT
DTSTART;TZID=Europe/London:20241018T210000
DTEND;TZID=Europe/London:20241018T233000
DTSTAMP:20260424T170547
CREATED:20240924T141301Z
LAST-MODIFIED:20240924T141301Z
UID:1579-1729285200-1729294200@hop-pole.com
SUMMARY:The Beards
DESCRIPTION:a band of men who like beards
URL:https://hop-pole.com/event/the-beards-4/
LOCATION:Hop Pole Inn\, Bromsgrove
ATTACH;FMTTYPE=image/jpeg:https://hop-pole.com/wp-content/uploads/2024/02/Beards.jpg
END:VEVENT
BEGIN:VEVENT
DTSTART;TZID=Europe/London:20241012T210000
DTEND;TZID=Europe/London:20241012T233000
DTSTAMP:20260424T170547
CREATED:20240924T141134Z
LAST-MODIFIED:20240924T141134Z
UID:1577-1728766800-1728775800@hop-pole.com
SUMMARY:Brass Beatz
DESCRIPTION:an 8/9 piece party band\, with a brass section\, playing Motown\, Soul\, Disco & Ska\, with a few surprises! Guaranteed to get you on the dance floor and singing along
URL:https://hop-pole.com/event/brass-beatz-8/
LOCATION:Hop Pole Inn\, Bromsgrove
ATTACH;FMTTYPE=image/jpeg:https://hop-pole.com/wp-content/uploads/2023/01/brass-beatz.jpg
END:VEVENT
BEGIN:VEVENT
DTSTART;TZID=Europe/London:20241011T210000
DTEND;TZID=Europe/London:20241011T233000
DTSTAMP:20260424T170547
CREATED:20240924T141011Z
LAST-MODIFIED:20240924T141011Z
UID:1575-1728680400-1728689400@hop-pole.com
SUMMARY:Mimosa Band
DESCRIPTION:3 piece party Pop & rock cover band. Covering songs from the last 40+ years! We don’t stick to one style of music\, we try to play something for everyone!
URL:https://hop-pole.com/event/mimosa-band-2/
LOCATION:Hop Pole Inn\, Bromsgrove
ATTACH;FMTTYPE=image/jpeg:https://hop-pole.com/wp-content/uploads/2024/03/mimosa.jpg
END:VEVENT
BEGIN:VEVENT
DTSTART;TZID=Europe/London:20241005T210000
DTEND;TZID=Europe/London:20241005T233000
DTSTAMP:20260424T170547
CREATED:20240924T140850Z
LAST-MODIFIED:20240924T140850Z
UID:1572-1728162000-1728171000@hop-pole.com
SUMMARY:Vasleline
DESCRIPTION:Organised chaos with a bit of music inbetween
URL:https://hop-pole.com/event/vasleline/
LOCATION:Hop Pole Inn\, Bromsgrove
ATTACH;FMTTYPE=image/jpeg:https://hop-pole.com/wp-content/uploads/2024/09/274952210_378576207605444_1554580584022393394_n.jpg
END:VEVENT
BEGIN:VEVENT
DTSTART;TZID=Europe/London:20241004T210000
DTEND;TZID=Europe/London:20241004T233000
DTSTAMP:20260424T170547
CREATED:20240924T133953Z
LAST-MODIFIED:20240924T134857Z
UID:1570-1728075600-1728084600@hop-pole.com
SUMMARY:Different Class
DESCRIPTION:90’s and 00’s guitar indie britpop covers by a bunch of dads who want to be rock stars again
URL:https://hop-pole.com/event/different-class-2/
LOCATION:Hop Pole Inn\, Bromsgrove
ATTACH;FMTTYPE=image/jpeg:https://hop-pole.com/wp-content/uploads/2024/01/324186416_895353188164258_6887004107431072778_n.jpg
END:VEVENT
BEGIN:VEVENT
DTSTART;TZID=Europe/London:20240928T210000
DTEND;TZID=Europe/London:20240928T233000
DTSTAMP:20260424T170547
CREATED:20240828T163144Z
LAST-MODIFIED:20240828T163144Z
UID:1561-1727557200-1727566200@hop-pole.com
SUMMARY:Legend
DESCRIPTION:One of the Hop Poles gaffers favourite bands. \nAn entertaining Classic Rock Band\, playing good time\, well known ROCK’n’ROLL – Party On !
URL:https://hop-pole.com/event/legend-11/
LOCATION:Hop Pole Inn\, Bromsgrove
END:VEVENT
BEGIN:VEVENT
DTSTART;TZID=Europe/London:20240927T210000
DTEND;TZID=Europe/London:20240927T233000
DTSTAMP:20260424T170547
CREATED:20240828T162736Z
LAST-MODIFIED:20240828T162736Z
UID:1558-1727470800-1727479800@hop-pole.com
SUMMARY:Velvet Jam
DESCRIPTION:A four piece band based in Worcestershire\, playing the songs you love!
URL:https://hop-pole.com/event/velvet-jam-5/
LOCATION:Hop Pole Inn\, Bromsgrove
ATTACH;FMTTYPE=image/jpeg:https://hop-pole.com/wp-content/uploads/2024/08/velvet-jam.jpg
END:VEVENT
BEGIN:VEVENT
DTSTART;TZID=Europe/London:20240921T210000
DTEND;TZID=Europe/London:20240921T233000
DTSTAMP:20260424T170547
CREATED:20240828T162445Z
LAST-MODIFIED:20240828T162445Z
UID:1555-1726952400-1726961400@hop-pole.com
SUMMARY:THE RJB
DESCRIPTION:Yes they’re back again\, The Band that needs no introduction!
URL:https://hop-pole.com/event/the-rjb-2/
LOCATION:Hop Pole Inn\, Bromsgrove
ATTACH;FMTTYPE=image/jpeg:https://hop-pole.com/wp-content/uploads/2024/08/THE-RJB.jpg
END:VEVENT
BEGIN:VEVENT
DTSTART;TZID=Europe/London:20240920T210000
DTEND;TZID=Europe/London:20240920T233000
DTSTAMP:20260424T170547
CREATED:20240828T162200Z
LAST-MODIFIED:20240828T162200Z
UID:1552-1726866000-1726875000@hop-pole.com
SUMMARY:Lucas D and The Groove Ghetto
DESCRIPTION:7 piece Funk/Soul/Acid Jazz outfit playing an eclectic mix of classic hits and groovy floor fillers!
URL:https://hop-pole.com/event/lucas-d-and-the-groove-ghetto-7/
LOCATION:Hop Pole Inn\, Bromsgrove
ATTACH;FMTTYPE=image/jpeg:https://hop-pole.com/wp-content/uploads/2024/08/lucas-d.jpg
END:VEVENT
BEGIN:VEVENT
DTSTART;TZID=Europe/London:20240913T210000
DTEND;TZID=Europe/London:20240913T233000
DTSTAMP:20260424T170547
CREATED:20240828T161256Z
LAST-MODIFIED:20240828T161256Z
UID:1549-1726261200-1726270200@hop-pole.com
SUMMARY:CADA
DESCRIPTION:If you want Rock – you got it!!
URL:https://hop-pole.com/event/cada-9/
LOCATION:Hop Pole Inn\, Bromsgrove
END:VEVENT
BEGIN:VEVENT
DTSTART;TZID=Europe/London:20240907T210000
DTEND;TZID=Europe/London:20240907T233000
DTSTAMP:20260424T170547
CREATED:20240828T155141Z
LAST-MODIFIED:20240828T155141Z
UID:1547-1725742800-1725751800@hop-pole.com
SUMMARY:Mother Popcorn
DESCRIPTION:Three piece band covering rock\, indie\, pop and funk classics from 60s to modern\, that need no introduction to the hop crowds
URL:https://hop-pole.com/event/mother-popcorn-8/
LOCATION:Hop Pole Inn\, Bromsgrove
ATTACH;FMTTYPE=image/jpeg:https://hop-pole.com/wp-content/uploads/2021/09/10658772_983839528315525_8504597416678360589_o.jpg
END:VEVENT
BEGIN:VEVENT
DTSTART;TZID=Europe/London:20240906T210000
DTEND;TZID=Europe/London:20240906T233000
DTSTAMP:20260424T170547
CREATED:20240828T154920Z
LAST-MODIFIED:20240828T154920Z
UID:1545-1725656400-1725665400@hop-pole.com
SUMMARY:Tin Drum
DESCRIPTION:Electric Folk Rock Band
URL:https://hop-pole.com/event/tin-drum-2/
LOCATION:Hop Pole Inn\, Bromsgrove
ATTACH;FMTTYPE=image/jpeg:https://hop-pole.com/wp-content/uploads/2024/02/293640799_453207766808968_4345464620295545274_n.jpg
END:VEVENT
END:VCALENDAR