BEGIN:VCALENDAR
VERSION:2.0
PRODID:-//The Hop Pole Inn - ECPv6.15.20//NONSGML v1.0//EN
CALSCALE:GREGORIAN
METHOD:PUBLISH
X-WR-CALNAME:The Hop Pole Inn
X-ORIGINAL-URL:https://hop-pole.com
X-WR-CALDESC:Events for The Hop Pole Inn
REFRESH-INTERVAL;VALUE=DURATION:PT1H
X-Robots-Tag:noindex
X-PUBLISHED-TTL:PT1H
BEGIN:VTIMEZONE
TZID:Europe/London
BEGIN:DAYLIGHT
TZOFFSETFROM:+0000
TZOFFSETTO:+0100
TZNAME:BST
DTSTART:20250330T010000
END:DAYLIGHT
BEGIN:STANDARD
TZOFFSETFROM:+0100
TZOFFSETTO:+0000
TZNAME:GMT
DTSTART:20251026T010000
END:STANDARD
BEGIN:DAYLIGHT
TZOFFSETFROM:+0000
TZOFFSETTO:+0100
TZNAME:BST
DTSTART:20260329T010000
END:DAYLIGHT
BEGIN:STANDARD
TZOFFSETFROM:+0100
TZOFFSETTO:+0000
TZNAME:GMT
DTSTART:20261025T010000
END:STANDARD
BEGIN:DAYLIGHT
TZOFFSETFROM:+0000
TZOFFSETTO:+0100
TZNAME:BST
DTSTART:20270328T010000
END:DAYLIGHT
BEGIN:STANDARD
TZOFFSETFROM:+0100
TZOFFSETTO:+0000
TZNAME:GMT
DTSTART:20271031T010000
END:STANDARD
END:VTIMEZONE
BEGIN:VEVENT
DTSTART;TZID=Europe/London:20260206T210000
DTEND;TZID=Europe/London:20260206T233000
DTSTAMP:20260423T235816
CREATED:20260123T130611Z
LAST-MODIFIED:20260123T130611Z
UID:2049-1770411600-1770420600@hop-pole.com
SUMMARY:Project Vintage
DESCRIPTION:Three very competent and experienced musicians delivering classic Rock\, Pop and Vocal harmony
URL:https://hop-pole.com/event/project-vintage-3/
LOCATION:Hop Pole Inn\, Bromsgrove
ATTACH;FMTTYPE=image/jpeg:https://hop-pole.com/wp-content/uploads/2025/07/494721660_1233760138749883_1345287870581284016_n.jpg
END:VEVENT
BEGIN:VEVENT
DTSTART;TZID=Europe/London:20260207T210000
DTEND;TZID=Europe/London:20260207T233000
DTSTAMP:20260423T235816
CREATED:20260123T130751Z
LAST-MODIFIED:20260123T130751Z
UID:2051-1770498000-1770507000@hop-pole.com
SUMMARY:Brass Beatz
DESCRIPTION:9 piece party band\, with a brass section\, playing classic Motown\, Soul\, Northern Soul and pop.Big horns\, Big beatz\, Big energy — Brass Beatz guarantee a party!
URL:https://hop-pole.com/event/brass-beatz-11/
LOCATION:Hop Pole Inn\, Bromsgrove
ATTACH;FMTTYPE=image/jpeg:https://hop-pole.com/wp-content/uploads/2023/01/brass-beatz.jpg
END:VEVENT
BEGIN:VEVENT
DTSTART;TZID=Europe/London:20260213T210000
DTEND;TZID=Europe/London:20260213T233000
DTSTAMP:20260423T235816
CREATED:20260123T131303Z
LAST-MODIFIED:20260123T131303Z
UID:2053-1771016400-1771025400@hop-pole.com
SUMMARY:The Frenzies
DESCRIPTION:Rock n Roll\, Garage Rock\, Surf and Originals
URL:https://hop-pole.com/event/the-frenzies/
LOCATION:Hop Pole Inn\, Bromsgrove
ATTACH;FMTTYPE=image/jpeg:https://hop-pole.com/wp-content/uploads/2026/01/frenzies.jpg
END:VEVENT
BEGIN:VEVENT
DTSTART;TZID=Europe/London:20260214T210000
DTEND;TZID=Europe/London:20260214T233000
DTSTAMP:20260423T235816
CREATED:20260123T131440Z
LAST-MODIFIED:20260123T131440Z
UID:2056-1771102800-1771111800@hop-pole.com
SUMMARY:Black Country All Skas
DESCRIPTION:The Midlands best Ska\, 2Tone and Reggae Band : ‘Black Country All Skas’
URL:https://hop-pole.com/event/black-country-all-skas-5/
LOCATION:Hop Pole Inn\, Bromsgrove
ATTACH;FMTTYPE=image/jpeg:https://hop-pole.com/wp-content/uploads/2025/04/464686817_122195156792035051_1555521002277662135_n.jpg
END:VEVENT
BEGIN:VEVENT
DTSTART;TZID=Europe/London:20260220T210000
DTEND;TZID=Europe/London:20260220T233000
DTSTAMP:20260423T235816
CREATED:20260123T131629Z
LAST-MODIFIED:20260123T131629Z
UID:2058-1771621200-1771630200@hop-pole.com
SUMMARY:The Lost
DESCRIPTION:
URL:https://hop-pole.com/event/the-lost/
LOCATION:Hop Pole Inn\, Bromsgrove
END:VEVENT
BEGIN:VEVENT
DTSTART;TZID=Europe/London:20260221T210000
DTEND;TZID=Europe/London:20260221T233000
DTSTAMP:20260423T235816
CREATED:20260123T131740Z
LAST-MODIFIED:20260123T131740Z
UID:2060-1771707600-1771716600@hop-pole.com
SUMMARY:Delta Soul
DESCRIPTION:Rock n roll\, soul\, funk & ska
URL:https://hop-pole.com/event/delta-soul-3/
LOCATION:Hop Pole Inn\, Bromsgrove
ATTACH;FMTTYPE=image/jpeg:https://hop-pole.com/wp-content/uploads/2025/03/Delta-Soul.jpg
END:VEVENT
BEGIN:VEVENT
DTSTART;TZID=Europe/London:20260227T210000
DTEND;TZID=Europe/London:20260227T233000
DTSTAMP:20260423T235816
CREATED:20260123T132053Z
LAST-MODIFIED:20260123T132053Z
UID:2062-1772226000-1772235000@hop-pole.com
SUMMARY:The Fortunate Sons
DESCRIPTION:We Are ‘ROCKIN IT’ – ‘SOUTHERN STYLE’
URL:https://hop-pole.com/event/the-fortunate-sons/
LOCATION:Hop Pole Inn\, Bromsgrove
ATTACH;FMTTYPE=image/jpeg:https://hop-pole.com/wp-content/uploads/2026/01/fortunate-sons.jpg
END:VEVENT
BEGIN:VEVENT
DTSTART;TZID=Europe/London:20260228T210000
DTEND;TZID=Europe/London:20260228T210000
DTSTAMP:20260423T235816
CREATED:20260123T132215Z
LAST-MODIFIED:20260123T132215Z
UID:2065-1772312400-1772312400@hop-pole.com
SUMMARY:Wired2Party
DESCRIPTION:soul\, disco\, rock\, funk and pop hits
URL:https://hop-pole.com/event/wired2party-4/
LOCATION:Hop Pole Inn\, Bromsgrove
ATTACH;FMTTYPE=image/jpeg:https://hop-pole.com/wp-content/uploads/2025/11/w2p.jpg
END:VEVENT
BEGIN:VEVENT
DTSTART;TZID=Europe/London:20260306T210000
DTEND;TZID=Europe/London:20260306T233000
DTSTAMP:20260423T235816
CREATED:20260226T112334Z
LAST-MODIFIED:20260226T112334Z
UID:2076-1772830800-1772839800@hop-pole.com
SUMMARY:Lucas D & The Groove Ghetto
DESCRIPTION:7 piece Funk/Soul/Acid Jazz outfit playing an eclectic mix of classic hits and groovy floor fillers!
URL:https://hop-pole.com/event/lucas-d-the-groove-ghetto/
LOCATION:Hop Pole Inn\, Bromsgrove
ATTACH;FMTTYPE=image/jpeg:https://hop-pole.com/wp-content/uploads/2022/06/400077_483538218354407_816055488_n-1.jpg
END:VEVENT
BEGIN:VEVENT
DTSTART;TZID=Europe/London:20260307T210000
DTEND;TZID=Europe/London:20260307T233000
DTSTAMP:20260423T235816
CREATED:20260226T112518Z
LAST-MODIFIED:20260226T112518Z
UID:2078-1772917200-1772926200@hop-pole.com
SUMMARY:Skrood
DESCRIPTION:Old enough to know better\, young enough to do it anyway!\nClassic rock covers\, ’60s to present\, including Black Sabbath\, Rolling Stones\, Foo Fighters\, Stereophonics\, Cream\, U2\, Muse\, ZZTop\, and many more!
URL:https://hop-pole.com/event/skrood-12/
LOCATION:Hop Pole Inn\, Bromsgrove
ATTACH;FMTTYPE=image/jpeg:https://hop-pole.com/wp-content/uploads/2022/01/66803473_2079338668844549_2254689330243043328_n.jpg
END:VEVENT
BEGIN:VEVENT
DTSTART;TZID=Europe/London:20260313T210000
DTEND;TZID=Europe/London:20260313T233000
DTSTAMP:20260423T235816
CREATED:20260226T112713Z
LAST-MODIFIED:20260226T112713Z
UID:2080-1773435600-1773444600@hop-pole.com
SUMMARY:Dr Cornelius
DESCRIPTION:Soul\, Disco & Dancefloor Classics  \nMidlands-based live function & party band bringing retro heat & feel-good anthems to parties\, weddings & events across the UK  \nYour prescription for the perfect party!
URL:https://hop-pole.com/event/dr-cornelius-3/
LOCATION:Hop Pole Inn\, Bromsgrove
ATTACH;FMTTYPE=image/png:https://hop-pole.com/wp-content/uploads/2026/01/Dr-Cornelious.png
END:VEVENT
BEGIN:VEVENT
DTSTART;TZID=Europe/London:20260314T210000
DTEND;TZID=Europe/London:20260314T233000
DTSTAMP:20260423T235816
CREATED:20260226T114150Z
LAST-MODIFIED:20260226T114150Z
UID:2082-1773522000-1773531000@hop-pole.com
SUMMARY:Roosters
DESCRIPTION:
URL:https://hop-pole.com/event/roosters/
LOCATION:Hop Pole Inn\, Bromsgrove
END:VEVENT
BEGIN:VEVENT
DTSTART;TZID=Europe/London:20260320T210000
DTEND;TZID=Europe/London:20260320T233000
DTSTAMP:20260423T235816
CREATED:20260226T114406Z
LAST-MODIFIED:20260226T114406Z
UID:2084-1774040400-1774049400@hop-pole.com
SUMMARY:Vehicle
DESCRIPTION:80’s Rock n Pop Classics
URL:https://hop-pole.com/event/vehicle-11/
LOCATION:Hop Pole Inn\, Bromsgrove
ATTACH;FMTTYPE=image/jpeg:https://hop-pole.com/wp-content/uploads/2026/02/496813228_698251376152464_6027802325949071470_n.jpg
END:VEVENT
BEGIN:VEVENT
DTSTART;TZID=Europe/London:20260321T210000
DTEND;TZID=Europe/London:20260321T233000
DTSTAMP:20260423T235816
CREATED:20260226T114558Z
LAST-MODIFIED:20260226T114558Z
UID:2087-1774126800-1774135800@hop-pole.com
SUMMARY:The OAP's
DESCRIPTION:
URL:https://hop-pole.com/event/the-oaps/
LOCATION:Hop Pole Inn\, Bromsgrove
ATTACH;FMTTYPE=image/jpeg:https://hop-pole.com/wp-content/uploads/2023/02/329565431_509711961067077_2698098298792322812_n.jpg
END:VEVENT
BEGIN:VEVENT
DTSTART;TZID=Europe/London:20260327T210000
DTEND;TZID=Europe/London:20260327T233000
DTSTAMP:20260423T235816
CREATED:20260226T114713Z
LAST-MODIFIED:20260226T114713Z
UID:2089-1774645200-1774654200@hop-pole.com
SUMMARY:Ellie & The Giants
DESCRIPTION:the band guaranteed to get you up dancing. Floor fillers & more!
URL:https://hop-pole.com/event/ellie-the-giants/
LOCATION:Hop Pole Inn\, Bromsgrove
ATTACH;FMTTYPE=image/png:https://hop-pole.com/wp-content/uploads/2025/07/460441352_1149424109924282_3590341061241776769_n.png
END:VEVENT
BEGIN:VEVENT
DTSTART;TZID=Europe/London:20260328T210000
DTEND;TZID=Europe/London:20260328T233000
DTSTAMP:20260423T235816
CREATED:20260226T114846Z
LAST-MODIFIED:20260226T114846Z
UID:2091-1774731600-1774740600@hop-pole.com
SUMMARY:Six Foot Drop
DESCRIPTION:experienced 4 piece party covers band based in central UK
URL:https://hop-pole.com/event/six-foot-drop-2/
LOCATION:Hop Pole Inn\, Bromsgrove
ATTACH;FMTTYPE=image/jpeg:https://hop-pole.com/wp-content/uploads/2023/01/Six-Foot-Drop.jpg
END:VEVENT
BEGIN:VEVENT
DTSTART;TZID=Europe/London:20260403T210000
DTEND;TZID=Europe/London:20260403T233000
DTSTAMP:20260423T235816
CREATED:20260330T161553Z
LAST-MODIFIED:20260330T161553Z
UID:2100-1775250000-1775259000@hop-pole.com
SUMMARY:Great Stone Revival
DESCRIPTION:all about creating a party atmosphere playing a wide range of covers from Bowie\, T-Rex to Pulp plus a whole lot more! All accomplished musicians whose sole aim is to deliver a fantastic sound in addition to an entertaining show!
URL:https://hop-pole.com/event/great-stone-revival/
LOCATION:Hop Pole Inn\, Bromsgrove
END:VEVENT
BEGIN:VEVENT
DTSTART;TZID=Europe/London:20260404T210000
DTEND;TZID=Europe/London:20260404T233000
DTSTAMP:20260423T235816
CREATED:20260330T161732Z
LAST-MODIFIED:20260330T161732Z
UID:2103-1775336400-1775345400@hop-pole.com
SUMMARY:Black Country All Skas'
DESCRIPTION:The Midlands best Ska\, 2Tone and Reggae Band : ‘Black Country All Skas’
URL:https://hop-pole.com/event/black-country-all-skas-6/
LOCATION:Hop Pole Inn\, Bromsgrove
ATTACH;FMTTYPE=image/jpeg:https://hop-pole.com/wp-content/uploads/2025/04/464686817_122195156792035051_1555521002277662135_n.jpg
END:VEVENT
BEGIN:VEVENT
DTSTART;TZID=Europe/London:20260410T210000
DTEND;TZID=Europe/London:20260410T233000
DTSTAMP:20260423T235816
CREATED:20260330T161939Z
LAST-MODIFIED:20260330T161939Z
UID:2105-1775854800-1775863800@hop-pole.com
SUMMARY:Free Bad Company
DESCRIPTION:
URL:https://hop-pole.com/event/free-bad-company/
LOCATION:Hop Pole Inn\, Bromsgrove
END:VEVENT
BEGIN:VEVENT
DTSTART;TZID=Europe/London:20260411T210000
DTEND;TZID=Europe/London:20260411T233000
DTSTAMP:20260423T235816
CREATED:20260330T165251Z
LAST-MODIFIED:20260407T150139Z
UID:2107-1775941200-1775950200@hop-pole.com
SUMMARY:TBC
DESCRIPTION:
URL:https://hop-pole.com/event/mister-wolf-14/
LOCATION:Hop Pole Inn\, Bromsgrove
END:VEVENT
BEGIN:VEVENT
DTSTART;TZID=Europe/London:20260417T210000
DTEND;TZID=Europe/London:20260417T233000
DTSTAMP:20260423T235816
CREATED:20260123T130340Z
LAST-MODIFIED:20260123T130340Z
UID:2047-1776459600-1776468600@hop-pole.com
SUMMARY:It Girl
DESCRIPTION:female fronted 90’s Band
URL:https://hop-pole.com/event/it-girl-2/
LOCATION:Hop Pole Inn\, Bromsgrove
ATTACH;FMTTYPE=image/jpeg:https://hop-pole.com/wp-content/uploads/2026/01/itgirl.jpg
END:VEVENT
BEGIN:VEVENT
DTSTART;TZID=Europe/London:20260418T210000
DTEND;TZID=Europe/London:20260418T233000
DTSTAMP:20260423T235816
CREATED:20260330T165724Z
LAST-MODIFIED:20260330T165724Z
UID:2109-1776546000-1776555000@hop-pole.com
SUMMARY:The Contra Band
DESCRIPTION:West Midlands cover band\, playing a range of classic rock and pop songs.
URL:https://hop-pole.com/event/the-contra-band-3/
LOCATION:Hop Pole Inn\, Bromsgrove
ATTACH;FMTTYPE=image/jpeg:https://hop-pole.com/wp-content/uploads/2021/09/82282816_596977087754126_3729502441658384384_n.jpg
END:VEVENT
BEGIN:VEVENT
DTSTART;TZID=Europe/London:20260423T120000
DTEND;TZID=Europe/London:20260423T230000
DTSTAMP:20260423T235816
CREATED:20260330T171908Z
LAST-MODIFIED:20260330T171908Z
UID:2116-1776945600-1776985200@hop-pole.com
SUMMARY:St Georges Day
DESCRIPTION:Thursday 23rd April
URL:https://hop-pole.com/event/st-georges-day/
LOCATION:Hop Pole Inn\, Bromsgrove
ATTACH;FMTTYPE=image/jpeg:https://hop-pole.com/wp-content/uploads/2026/03/St-George.jpg
END:VEVENT
BEGIN:VEVENT
DTSTART;TZID=Europe/London:20260424T210000
DTEND;TZID=Europe/London:20260424T233000
DTSTAMP:20260423T235816
CREATED:20260330T165926Z
LAST-MODIFIED:20260330T165926Z
UID:2111-1777064400-1777073400@hop-pole.com
SUMMARY:Legend
DESCRIPTION:Classic Rock Band\, playing good time\, well known ROCK’n’ROLL – Party On !
URL:https://hop-pole.com/event/legend-15/
LOCATION:Hop Pole Inn\, Bromsgrove
ATTACH;FMTTYPE=image/jpeg:https://hop-pole.com/wp-content/uploads/2025/01/473680847_122182938194147812_6943912612944894419_n.jpg
END:VEVENT
BEGIN:VEVENT
DTSTART;TZID=Europe/London:20260425T210000
DTEND;TZID=Europe/London:20260425T233000
DTSTAMP:20260423T235816
CREATED:20260330T170053Z
LAST-MODIFIED:20260330T170053Z
UID:2113-1777150800-1777159800@hop-pole.com
SUMMARY:The Fabulous Bordellos
DESCRIPTION:full on Mod experience with music from the 60’s to present day.
URL:https://hop-pole.com/event/the-fabulous-bordellos-4/
LOCATION:Hop Pole Inn\, Bromsgrove
ATTACH;FMTTYPE=image/jpeg:https://hop-pole.com/wp-content/uploads/2021/09/bordelos.jpg
END:VEVENT
END:VCALENDAR