BEGIN:VCALENDAR
VERSION:2.0
PRODID:-//The Hop Pole Inn - ECPv6.15.20//NONSGML v1.0//EN
CALSCALE:GREGORIAN
METHOD:PUBLISH
X-ORIGINAL-URL:https://hop-pole.com
X-WR-CALDESC:Events for The Hop Pole Inn
REFRESH-INTERVAL;VALUE=DURATION:PT1H
X-Robots-Tag:noindex
X-PUBLISHED-TTL:PT1H
BEGIN:VTIMEZONE
TZID:Europe/London
BEGIN:DAYLIGHT
TZOFFSETFROM:+0000
TZOFFSETTO:+0100
TZNAME:BST
DTSTART:20250330T010000
END:DAYLIGHT
BEGIN:STANDARD
TZOFFSETFROM:+0100
TZOFFSETTO:+0000
TZNAME:GMT
DTSTART:20251026T010000
END:STANDARD
BEGIN:DAYLIGHT
TZOFFSETFROM:+0000
TZOFFSETTO:+0100
TZNAME:BST
DTSTART:20260329T010000
END:DAYLIGHT
BEGIN:STANDARD
TZOFFSETFROM:+0100
TZOFFSETTO:+0000
TZNAME:GMT
DTSTART:20261025T010000
END:STANDARD
BEGIN:DAYLIGHT
TZOFFSETFROM:+0000
TZOFFSETTO:+0100
TZNAME:BST
DTSTART:20270328T010000
END:DAYLIGHT
BEGIN:STANDARD
TZOFFSETFROM:+0100
TZOFFSETTO:+0000
TZNAME:GMT
DTSTART:20271031T010000
END:STANDARD
END:VTIMEZONE
BEGIN:VEVENT
DTSTART;TZID=Europe/London:20260404T210000
DTEND;TZID=Europe/London:20260404T233000
DTSTAMP:20260424T152848
CREATED:20260330T161732Z
LAST-MODIFIED:20260330T161732Z
UID:2103-1775336400-1775345400@hop-pole.com
SUMMARY:Black Country All Skas'
DESCRIPTION:The Midlands best Ska\, 2Tone and Reggae Band : ‘Black Country All Skas’
URL:https://hop-pole.com/event/black-country-all-skas-6/
LOCATION:Hop Pole Inn\, Bromsgrove
ATTACH;FMTTYPE=image/jpeg:https://hop-pole.com/wp-content/uploads/2025/04/464686817_122195156792035051_1555521002277662135_n.jpg
END:VEVENT
END:VCALENDAR